| Back to First build/check report with an "external build node" |
This page was generated on 2023-06-01 18:17:19 -0400 (Thu, 01 Jun 2023).
| Hostname | OS | Arch (*) | R version | Installed pkgs |
|---|---|---|---|---|
| xps15 | Linux (Ubuntu 23.04) | x86_64 | 4.3.0 Patched (2023-05-23 r84466) -- "Already Tomorrow" | 544 |
| Click on any hostname to see more info about the system (e.g. compilers) (*) as reported by 'uname -p', except on Windows and Mac OS X | ||||
|
To the developers/maintainers of the rtracklayer package: Use the following Renviron settings to reproduce errors and warnings. Note: If "R CMD check" recently failed on the Linux builder over a missing dependency, add the missing dependency to "Suggests" in your DESCRIPTION file. See the Renviron.bioc for details. |
| Package 76/91 | Hostname | OS / Arch | INSTALL | BUILD | CHECK | BUILD BIN | |||||||
| rtracklayer 1.61.0 (landing page) Michael Lawrence
| xps15 | Linux (Ubuntu 23.04) / x86_64 | OK | OK | WARNINGS | ||||||||
| Package: rtracklayer |
| Version: 1.61.0 |
| Command: /home/hpages/bbs-3.18-bioc/R/bin/R CMD build --keep-empty-dirs --no-resave-data rtracklayer |
| StartedAt: 2023-06-01 12:47:47 -0700 (Thu, 01 Jun 2023) |
| EndedAt: 2023-06-01 12:49:28 -0700 (Thu, 01 Jun 2023) |
| EllapsedTime: 101.0 seconds |
| RetCode: 0 |
| Status: OK |
| PackageFile: rtracklayer_1.61.0.tar.gz |
| PackageFileSize: 3.975 MiB |
##############################################################################
##############################################################################
###
### Running command:
###
### /home/hpages/bbs-3.18-bioc/R/bin/R CMD build --keep-empty-dirs --no-resave-data rtracklayer
###
##############################################################################
##############################################################################
* checking for file ‘rtracklayer/DESCRIPTION’ ... OK
* preparing ‘rtracklayer’:
* checking DESCRIPTION meta-information ... OK
* cleaning src
* installing the package to build vignettes
* creating vignettes ... OK
* cleaning src
* checking for LF line-endings in source and make files and shell scripts
* checking for empty or unneeded directories
* looking to see if a ‘data/datalist’ file should be added
NB: this package now depends on R (>= 3.5.0)
WARNING: Added dependency on R >= 3.5.0 because serialized objects in
serialize/load version 3 cannot be read in older versions of R.
File(s) containing such objects:
‘rtracklayer/data/cpneTrack.rda’
* building ‘rtracklayer_1.61.0.tar.gz’