| Back to First build/check report with an "external build node" |
This page was generated on 2023-06-01 18:17:19 -0400 (Thu, 01 Jun 2023).
| Hostname | OS | Arch (*) | R version | Installed pkgs |
|---|---|---|---|---|
| xps15 | Linux (Ubuntu 23.04) | x86_64 | 4.3.0 Patched (2023-05-23 r84466) -- "Already Tomorrow" | 544 |
| Click on any hostname to see more info about the system (e.g. compilers) (*) as reported by 'uname -p', except on Windows and Mac OS X | ||||
|
To the developers/maintainers of the rhdf5 package: Use the following Renviron settings to reproduce errors and warnings. Note: If "R CMD check" recently failed on the Linux builder over a missing dependency, add the missing dependency to "Suggests" in your DESCRIPTION file. See the Renviron.bioc for details. |
| Package 69/91 | Hostname | OS / Arch | INSTALL | BUILD | CHECK | BUILD BIN | |||||||
| rhdf5 2.45.0 (landing page) Mike Smith
| xps15 | Linux (Ubuntu 23.04) / x86_64 | ERROR | ERROR | skipped | ||||||||
| Package: rhdf5 |
| Version: 2.45.0 |
| Command: /home/hpages/bbs-3.18-bioc/R/bin/R CMD build --keep-empty-dirs --no-resave-data rhdf5 |
| StartedAt: 2023-06-01 12:45:59 -0700 (Thu, 01 Jun 2023) |
| EndedAt: 2023-06-01 12:46:01 -0700 (Thu, 01 Jun 2023) |
| EllapsedTime: 2.0 seconds |
| RetCode: 1 |
| Status: ERROR |
| PackageFile: None |
| PackageFileSize: NA |
##############################################################################
##############################################################################
###
### Running command:
###
### /home/hpages/bbs-3.18-bioc/R/bin/R CMD build --keep-empty-dirs --no-resave-data rhdf5
###
##############################################################################
##############################################################################
* checking for file ‘rhdf5/DESCRIPTION’ ... OK
* preparing ‘rhdf5’:
* checking DESCRIPTION meta-information ... OK
* cleaning src
* running ‘cleanup’
* installing the package to build vignettes
-----------------------------------
ERROR: dependency ‘rhdf5filters’ is not available for package ‘rhdf5’
* removing ‘/tmp/Rtmp3o1uZ8/Rinst6c26e3a29d275/rhdf5’
-----------------------------------
ERROR: package installation failed