| Back to First build/check report with an "external build node" | 
This page was generated on 2023-06-01 18:17:19 -0400 (Thu, 01 Jun 2023).
| Hostname | OS | Arch (*) | R version | Installed pkgs | 
|---|---|---|---|---|
| xps15 | Linux (Ubuntu 23.04) | x86_64 | 4.3.0 Patched (2023-05-23 r84466) -- "Already Tomorrow" | 544 | 
| Click on any hostname to see more info about the system (e.g. compilers) (*) as reported by 'uname -p', except on Windows and Mac OS X | ||||
| 
To the developers/maintainers of the multtest package: Use the following Renviron settings to reproduce errors and warnings. Note: If "R CMD check" recently failed on the Linux builder over a missing dependency, add the missing dependency to "Suggests" in your DESCRIPTION file. See the Renviron.bioc for details.  | 
| Package 57/91 | Hostname | OS / Arch | INSTALL | BUILD | CHECK | BUILD BIN | |||||||
| multtest 2.57.0  (landing page) Katherine S. Pollard 
  | xps15 | Linux (Ubuntu 23.04) / x86_64 | OK | OK | WARNINGS | ||||||||
| Package: multtest | 
| Version: 2.57.0 | 
| Command: /home/hpages/bbs-3.18-bioc/R/bin/R CMD INSTALL multtest | 
| StartedAt: 2023-06-01 12:21:44 -0700 (Thu, 01 Jun 2023) | 
| EndedAt: 2023-06-01 12:22:01 -0700 (Thu, 01 Jun 2023) | 
| EllapsedTime: 16.3 seconds | 
| RetCode: 0 | 
| Status: OK | 
##############################################################################
##############################################################################
###
### Running command:
###
###   /home/hpages/bbs-3.18-bioc/R/bin/R CMD INSTALL multtest
###
##############################################################################
##############################################################################
* installing to library ‘/home/hpages/bbs-3.18-bioc-testing/Rlibs’
* installing *source* package ‘multtest’ ...
** using staged installation
** libs
using C compiler: ‘gcc (Ubuntu 12.2.0-17ubuntu1) 12.2.0’
gcc -I"/home/hpages/bbs-3.18-bioc/R/include" -DNDEBUG   -I/usr/local/include   -DUSEDOUBLE -fpic  -g -O2  -Wall -c Rpack.c -o Rpack.o
gcc -I"/home/hpages/bbs-3.18-bioc/R/include" -DNDEBUG   -I/usr/local/include   -DUSEDOUBLE -fpic  -g -O2  -Wall -c VScount.c -o VScount.o
gcc -I"/home/hpages/bbs-3.18-bioc/R/include" -DNDEBUG   -I/usr/local/include   -DUSEDOUBLE -fpic  -g -O2  -Wall -c block_sampling_fixed.c -o block_sampling_fixed.o
gcc -I"/home/hpages/bbs-3.18-bioc/R/include" -DNDEBUG   -I/usr/local/include   -DUSEDOUBLE -fpic  -g -O2  -Wall -c bootloop.c -o bootloop.o
gcc -I"/home/hpages/bbs-3.18-bioc/R/include" -DNDEBUG   -I/usr/local/include   -DUSEDOUBLE -fpic  -g -O2  -Wall -c mt.c -o mt.o
gcc -I"/home/hpages/bbs-3.18-bioc/R/include" -DNDEBUG   -I/usr/local/include   -DUSEDOUBLE -fpic  -g -O2  -Wall -c pairt_sampling.c -o pairt_sampling.o
gcc -I"/home/hpages/bbs-3.18-bioc/R/include" -DNDEBUG   -I/usr/local/include   -DUSEDOUBLE -fpic  -g -O2  -Wall -c pairt_sampling_fixed.c -o pairt_sampling_fixed.o
gcc -I"/home/hpages/bbs-3.18-bioc/R/include" -DNDEBUG   -I/usr/local/include   -DUSEDOUBLE -fpic  -g -O2  -Wall -c random.c -o random.o
gcc -I"/home/hpages/bbs-3.18-bioc/R/include" -DNDEBUG   -I/usr/local/include   -DUSEDOUBLE -fpic  -g -O2  -Wall -c sampling.c -o sampling.o
gcc -I"/home/hpages/bbs-3.18-bioc/R/include" -DNDEBUG   -I/usr/local/include   -DUSEDOUBLE -fpic  -g -O2  -Wall -c sampling_fixed.c -o sampling_fixed.o
gcc -I"/home/hpages/bbs-3.18-bioc/R/include" -DNDEBUG   -I/usr/local/include   -DUSEDOUBLE -fpic  -g -O2  -Wall -c stat_func.c -o stat_func.o
stat_func.c: In function ‘read_infile’:
stat_func.c:703:3: warning: ignoring return value of ‘fscanf’ declared with attribute ‘warn_unused_result’ [-Wunused-result]
  703 |   fscanf(fh, "%s", pdata->name);
      |   ^~~~~~~~~~~~~~~~~~~~~~~~~~~~~
stat_func.c:705:5: warning: ignoring return value of ‘fscanf’ declared with attribute ‘warn_unused_result’ [-Wunused-result]
  705 |     fscanf(fh, "%d", pdata->L+j);
      |     ^~~~~~~~~~~~~~~~~~~~~~~~~~~~
stat_func.c:710:5: warning: ignoring return value of ‘fscanf’ declared with attribute ‘warn_unused_result’ [-Wunused-result]
  710 |     fscanf(fh, "%s", pdata->id[i]);
      |     ^~~~~~~~~~~~~~~~~~~~~~~~~~~~~~
stat_func.c:714:7: warning: ignoring return value of ‘fscanf’ declared with attribute ‘warn_unused_result’ [-Wunused-result]
  714 |       fscanf(fh, "%lg",&ftemp);
      |       ^~~~~~~~~~~~~~~~~~~~~~~~
gcc -I"/home/hpages/bbs-3.18-bioc/R/include" -DNDEBUG   -I/usr/local/include   -DUSEDOUBLE -fpic  -g -O2  -Wall -c stat_order.c -o stat_order.o
gcc -shared -L/usr/local/lib -o multtest.so Rpack.o VScount.o block_sampling_fixed.o bootloop.o mt.o pairt_sampling.o pairt_sampling_fixed.o random.o sampling.o sampling_fixed.o stat_func.o stat_order.o -lm
installing to /home/hpages/bbs-3.18-bioc-testing/Rlibs/00LOCK-multtest/00new/multtest/libs
** R
** data
** inst
** byte-compile and prepare package for lazy loading
** help
*** installing help indices
** building package indices
** installing vignettes
** testing if installed package can be loaded from temporary location
** checking absolute paths in shared objects and dynamic libraries
** testing if installed package can be loaded from final location
** testing if installed package keeps a record of temporary installation path
* DONE (multtest)