| Back to First build/check report with an "external build node" |
This page was generated on 2023-06-01 18:17:19 -0400 (Thu, 01 Jun 2023).
| Hostname | OS | Arch (*) | R version | Installed pkgs |
|---|---|---|---|---|
| xps15 | Linux (Ubuntu 23.04) | x86_64 | 4.3.0 Patched (2023-05-23 r84466) -- "Already Tomorrow" | 544 |
| Click on any hostname to see more info about the system (e.g. compilers) (*) as reported by 'uname -p', except on Windows and Mac OS X | ||||
|
To the developers/maintainers of the biovizBase package: Use the following Renviron settings to reproduce errors and warnings. Note: If "R CMD check" recently failed on the Linux builder over a missing dependency, add the missing dependency to "Suggests" in your DESCRIPTION file. See the Renviron.bioc for details. |
| Package 22/91 | Hostname | OS / Arch | INSTALL | BUILD | CHECK | BUILD BIN | |||||||
| biovizBase 1.49.0 (landing page) Michael Lawrence
| xps15 | Linux (Ubuntu 23.04) / x86_64 | OK | OK | WARNINGS | ||||||||
| Package: biovizBase |
| Version: 1.49.0 |
| Command: /home/hpages/bbs-3.18-bioc/R/bin/R CMD INSTALL biovizBase |
| StartedAt: 2023-06-01 12:28:46 -0700 (Thu, 01 Jun 2023) |
| EndedAt: 2023-06-01 12:29:34 -0700 (Thu, 01 Jun 2023) |
| EllapsedTime: 48.0 seconds |
| RetCode: 0 |
| Status: OK |
##############################################################################
##############################################################################
###
### Running command:
###
### /home/hpages/bbs-3.18-bioc/R/bin/R CMD INSTALL biovizBase
###
##############################################################################
##############################################################################
* installing to library ‘/home/hpages/bbs-3.18-bioc-testing/Rlibs’
* installing *source* package ‘biovizBase’ ...
** using staged installation
** libs
using C compiler: ‘gcc (Ubuntu 12.2.0-17ubuntu1) 12.2.0’
gcc -I"/home/hpages/bbs-3.18-bioc/R/include" -DNDEBUG -I/usr/local/include -fpic -g -O2 -Wall -c R_init_biovizBase.c -o R_init_biovizBase.o
gcc -I"/home/hpages/bbs-3.18-bioc/R/include" -DNDEBUG -I/usr/local/include -fpic -g -O2 -Wall -c bin_offsets.c -o bin_offsets.o
bin_offsets.c: In function ‘scan_bam_bin_offsets’:
bin_offsets.c:57:15: warning: pointer targets in passing argument 1 of ‘strncmp’ differ in signedness [-Wpointer-sign]
57 | if (strncmp(b, "BAI\1", 4))
| ^
| |
| Rbyte * {aka unsigned char *}
In file included from /home/hpages/bbs-3.18-bioc/R/include/R_ext/RS.h:34,
from /home/hpages/bbs-3.18-bioc/R/include/Rdefines.h:38,
from bin_offsets.h:1,
from bin_offsets.c:3:
/usr/include/string.h:159:33: note: expected ‘const char *’ but argument is of type ‘Rbyte *’ {aka ‘unsigned char *’}
159 | extern int strncmp (const char *__s1, const char *__s2, size_t __n)
| ~~~~~~~~~~~~^~~~
gcc -shared -L/usr/local/lib -o biovizBase.so R_init_biovizBase.o bin_offsets.o
installing to /home/hpages/bbs-3.18-bioc-testing/Rlibs/00LOCK-biovizBase/00new/biovizBase/libs
** R
** data
*** moving datasets to lazyload DB
** inst
** byte-compile and prepare package for lazy loading
** help
*** installing help indices
** building package indices
** installing vignettes
** testing if installed package can be loaded from temporary location
** checking absolute paths in shared objects and dynamic libraries
** testing if installed package can be loaded from final location
** testing if installed package keeps a record of temporary installation path
* DONE (biovizBase)