Back to First build/check report with an "external build node"

This page was generated on 2023-06-01 18:17:19 -0400 (Thu, 01 Jun 2023).

HostnameOSArch (*)R versionInstalled pkgs
xps15Linux (Ubuntu 23.04)x86_644.3.0 Patched (2023-05-23 r84466) -- "Already Tomorrow" 544
Click on any hostname to see more info about the system (e.g. compilers)      (*) as reported by 'uname -p', except on Windows and Mac OS X

BUILD results for apeglm on xps15


To the developers/maintainers of the apeglm package:
Use the following Renviron settings to reproduce errors and warnings.

Note: If "R CMD check" recently failed on the Linux builder over a missing dependency, add the missing dependency to "Suggests" in your DESCRIPTION file. See the Renviron.bioc for details.

raw results

Package 9/91HostnameOS / ArchINSTALLBUILDCHECKBUILD BIN
apeglm 1.23.1  (landing page)
Anqi Zhu
Snapshot Date: 2023-06-01 15:10:15 -0400 (Thu, 01 Jun 2023)
git_url: https://git.bioconductor.org/packages/apeglm
git_branch: devel
git_last_commit: fefb66e
git_last_commit_date: 2023-05-12 15:44:49 -0400 (Fri, 12 May 2023)
xps15Linux (Ubuntu 23.04) / x86_64  OK    OK    OK  

Summary

Package: apeglm
Version: 1.23.1
Command: /home/hpages/bbs-3.18-bioc/R/bin/R CMD build --keep-empty-dirs --no-resave-data apeglm
StartedAt: 2023-06-01 12:35:39 -0700 (Thu, 01 Jun 2023)
EndedAt: 2023-06-01 12:37:50 -0700 (Thu, 01 Jun 2023)
EllapsedTime: 131.1 seconds
RetCode: 0
Status:   OK  
PackageFile: apeglm_1.23.1.tar.gz
PackageFileSize: 427.7 KiB

Command output

##############################################################################
##############################################################################
###
### Running command:
###
###   /home/hpages/bbs-3.18-bioc/R/bin/R CMD build --keep-empty-dirs --no-resave-data apeglm
###
##############################################################################
##############################################################################


* checking for file ‘apeglm/DESCRIPTION’ ... OK
* preparing ‘apeglm’:
* checking DESCRIPTION meta-information ... OK
* cleaning src
* installing the package to build vignettes
* creating vignettes ... OK
* cleaning src
* checking for LF line-endings in source and make files and shell scripts
* checking for empty or unneeded directories
Omitted ‘LazyData’ from DESCRIPTION
* building ‘apeglm_1.23.1.tar.gz’