Back to First build/check report with an "external build node"

This page was generated on 2023-06-01 18:17:19 -0400 (Thu, 01 Jun 2023).

HostnameOSArch (*)R versionInstalled pkgs
xps15Linux (Ubuntu 23.04)x86_644.3.0 Patched (2023-05-23 r84466) -- "Already Tomorrow" 544
Click on any hostname to see more info about the system (e.g. compilers)      (*) as reported by 'uname -p', except on Windows and Mac OS X

INSTALL results for ShortRead on xps15


To the developers/maintainers of the ShortRead package:
Use the following Renviron settings to reproduce errors and warnings.

Note: If "R CMD check" recently failed on the Linux builder over a missing dependency, add the missing dependency to "Suggests" in your DESCRIPTION file. See the Renviron.bioc for details.

raw results

Package 78/91HostnameOS / ArchINSTALLBUILDCHECKBUILD BIN
ShortRead 1.59.0  (landing page)
Bioconductor Package Maintainer
Snapshot Date: 2023-06-01 15:10:15 -0400 (Thu, 01 Jun 2023)
git_url: https://git.bioconductor.org/packages/ShortRead
git_branch: devel
git_last_commit: a6df128
git_last_commit_date: 2023-04-25 09:46:47 -0400 (Tue, 25 Apr 2023)
xps15Linux (Ubuntu 23.04) / x86_64  OK    OK    WARNINGS  

Summary

Package: ShortRead
Version: 1.59.0
Command: /home/hpages/bbs-3.18-bioc/R/bin/R CMD INSTALL ShortRead
StartedAt: 2023-06-01 12:24:55 -0700 (Thu, 01 Jun 2023)
EndedAt: 2023-06-01 12:25:55 -0700 (Thu, 01 Jun 2023)
EllapsedTime: 60.1 seconds
RetCode: 0
Status:   OK  

Command output

##############################################################################
##############################################################################
###
### Running command:
###
###   /home/hpages/bbs-3.18-bioc/R/bin/R CMD INSTALL ShortRead
###
##############################################################################
##############################################################################


* installing to library ‘/home/hpages/bbs-3.18-bioc-testing/Rlibs’
* installing *source* package ‘ShortRead’ ...
** using staged installation
checking for gcc... gcc
checking whether the C compiler works... yes
checking for C compiler default output file name... a.out
checking for suffix of executables... 
checking whether we are cross compiling... no
checking for suffix of object files... o
checking whether we are using the GNU C compiler... yes
checking whether gcc accepts -g... yes
checking for gcc option to accept ISO C89... none needed
checking for gzeof in -lz... yes
checking how to run the C preprocessor... gcc -E
checking for grep that handles long lines and -e... /usr/bin/grep
checking for egrep... /usr/bin/grep -E
checking for ANSI C header files... yes
checking for sys/types.h... yes
checking for sys/stat.h... yes
checking for stdlib.h... yes
checking for string.h... yes
checking for memory.h... yes
checking for strings.h... yes
checking for inttypes.h... yes
checking for stdint.h... yes
checking for unistd.h... yes
checking size of unsigned long... 8
configure: creating ./config.status
config.status: creating src/Makevars
** libs
using C compiler: ‘gcc (Ubuntu 12.2.0-17ubuntu1) 12.2.0’
using C++ compiler: ‘g++ (Ubuntu 12.2.0-17ubuntu1) 12.2.0’
gcc -I"/home/hpages/bbs-3.18-bioc/R/include" -DNDEBUG  -I'/home/hpages/bbs-3.18-bioc-testing/Rlibs/S4Vectors/include' -I'/home/hpages/bbs-3.18-bioc-testing/Rlibs/IRanges/include' -I'/home/hpages/bbs-3.18-bioc-testing/Rlibs/XVector/include' -I'/home/hpages/bbs-3.18-bioc-testing/Rlibs/Biostrings/include' -I'/home/hpages/bbs-3.18-bioc-testing/Rlibs/Rhtslib/include' -I'/home/hpages/bbs-3.18-bioc-testing/Rlibs/zlibbioc/include' -I/usr/local/include   -fopenmp -fpic  -g -O2  -Wall -c Biostrings_stubs.c -o Biostrings_stubs.o
gcc -I"/home/hpages/bbs-3.18-bioc/R/include" -DNDEBUG  -I'/home/hpages/bbs-3.18-bioc-testing/Rlibs/S4Vectors/include' -I'/home/hpages/bbs-3.18-bioc-testing/Rlibs/IRanges/include' -I'/home/hpages/bbs-3.18-bioc-testing/Rlibs/XVector/include' -I'/home/hpages/bbs-3.18-bioc-testing/Rlibs/Biostrings/include' -I'/home/hpages/bbs-3.18-bioc-testing/Rlibs/Rhtslib/include' -I'/home/hpages/bbs-3.18-bioc-testing/Rlibs/zlibbioc/include' -I/usr/local/include   -fopenmp -fpic  -g -O2  -Wall -c IRanges_stubs.c -o IRanges_stubs.o
gcc -I"/home/hpages/bbs-3.18-bioc/R/include" -DNDEBUG  -I'/home/hpages/bbs-3.18-bioc-testing/Rlibs/S4Vectors/include' -I'/home/hpages/bbs-3.18-bioc-testing/Rlibs/IRanges/include' -I'/home/hpages/bbs-3.18-bioc-testing/Rlibs/XVector/include' -I'/home/hpages/bbs-3.18-bioc-testing/Rlibs/Biostrings/include' -I'/home/hpages/bbs-3.18-bioc-testing/Rlibs/Rhtslib/include' -I'/home/hpages/bbs-3.18-bioc-testing/Rlibs/zlibbioc/include' -I/usr/local/include   -fopenmp -fpic  -g -O2  -Wall -c R_init_ShortRead.c -o R_init_ShortRead.o
gcc -I"/home/hpages/bbs-3.18-bioc/R/include" -DNDEBUG  -I'/home/hpages/bbs-3.18-bioc-testing/Rlibs/S4Vectors/include' -I'/home/hpages/bbs-3.18-bioc-testing/Rlibs/IRanges/include' -I'/home/hpages/bbs-3.18-bioc-testing/Rlibs/XVector/include' -I'/home/hpages/bbs-3.18-bioc-testing/Rlibs/Biostrings/include' -I'/home/hpages/bbs-3.18-bioc-testing/Rlibs/Rhtslib/include' -I'/home/hpages/bbs-3.18-bioc-testing/Rlibs/zlibbioc/include' -I/usr/local/include   -fopenmp -fpic  -g -O2  -Wall -c S4Vectors_stubs.c -o S4Vectors_stubs.o
gcc -I"/home/hpages/bbs-3.18-bioc/R/include" -DNDEBUG  -I'/home/hpages/bbs-3.18-bioc-testing/Rlibs/S4Vectors/include' -I'/home/hpages/bbs-3.18-bioc-testing/Rlibs/IRanges/include' -I'/home/hpages/bbs-3.18-bioc-testing/Rlibs/XVector/include' -I'/home/hpages/bbs-3.18-bioc-testing/Rlibs/Biostrings/include' -I'/home/hpages/bbs-3.18-bioc-testing/Rlibs/Rhtslib/include' -I'/home/hpages/bbs-3.18-bioc-testing/Rlibs/zlibbioc/include' -I/usr/local/include   -fopenmp -fpic  -g -O2  -Wall -c XVector_stubs.c -o XVector_stubs.o
gcc -I"/home/hpages/bbs-3.18-bioc/R/include" -DNDEBUG  -I'/home/hpages/bbs-3.18-bioc-testing/Rlibs/S4Vectors/include' -I'/home/hpages/bbs-3.18-bioc-testing/Rlibs/IRanges/include' -I'/home/hpages/bbs-3.18-bioc-testing/Rlibs/XVector/include' -I'/home/hpages/bbs-3.18-bioc-testing/Rlibs/Biostrings/include' -I'/home/hpages/bbs-3.18-bioc-testing/Rlibs/Rhtslib/include' -I'/home/hpages/bbs-3.18-bioc-testing/Rlibs/zlibbioc/include' -I/usr/local/include   -fopenmp -fpic  -g -O2  -Wall -c alphabet.c -o alphabet.o
gcc -I"/home/hpages/bbs-3.18-bioc/R/include" -DNDEBUG  -I'/home/hpages/bbs-3.18-bioc-testing/Rlibs/S4Vectors/include' -I'/home/hpages/bbs-3.18-bioc-testing/Rlibs/IRanges/include' -I'/home/hpages/bbs-3.18-bioc-testing/Rlibs/XVector/include' -I'/home/hpages/bbs-3.18-bioc-testing/Rlibs/Biostrings/include' -I'/home/hpages/bbs-3.18-bioc-testing/Rlibs/Rhtslib/include' -I'/home/hpages/bbs-3.18-bioc-testing/Rlibs/zlibbioc/include' -I/usr/local/include   -fopenmp -fpic  -g -O2  -Wall -c count.c -o count.o
gcc -I"/home/hpages/bbs-3.18-bioc/R/include" -DNDEBUG  -I'/home/hpages/bbs-3.18-bioc-testing/Rlibs/S4Vectors/include' -I'/home/hpages/bbs-3.18-bioc-testing/Rlibs/IRanges/include' -I'/home/hpages/bbs-3.18-bioc-testing/Rlibs/XVector/include' -I'/home/hpages/bbs-3.18-bioc-testing/Rlibs/Biostrings/include' -I'/home/hpages/bbs-3.18-bioc-testing/Rlibs/Rhtslib/include' -I'/home/hpages/bbs-3.18-bioc-testing/Rlibs/zlibbioc/include' -I/usr/local/include   -fopenmp -fpic  -g -O2  -Wall -c io.c -o io.o
gcc -I"/home/hpages/bbs-3.18-bioc/R/include" -DNDEBUG  -I'/home/hpages/bbs-3.18-bioc-testing/Rlibs/S4Vectors/include' -I'/home/hpages/bbs-3.18-bioc-testing/Rlibs/IRanges/include' -I'/home/hpages/bbs-3.18-bioc-testing/Rlibs/XVector/include' -I'/home/hpages/bbs-3.18-bioc-testing/Rlibs/Biostrings/include' -I'/home/hpages/bbs-3.18-bioc-testing/Rlibs/Rhtslib/include' -I'/home/hpages/bbs-3.18-bioc-testing/Rlibs/zlibbioc/include' -I/usr/local/include   -fopenmp -fpic  -g -O2  -Wall -c io_bowtie.c -o io_bowtie.o
gcc -I"/home/hpages/bbs-3.18-bioc/R/include" -DNDEBUG  -I'/home/hpages/bbs-3.18-bioc-testing/Rlibs/S4Vectors/include' -I'/home/hpages/bbs-3.18-bioc-testing/Rlibs/IRanges/include' -I'/home/hpages/bbs-3.18-bioc-testing/Rlibs/XVector/include' -I'/home/hpages/bbs-3.18-bioc-testing/Rlibs/Biostrings/include' -I'/home/hpages/bbs-3.18-bioc-testing/Rlibs/Rhtslib/include' -I'/home/hpages/bbs-3.18-bioc-testing/Rlibs/zlibbioc/include' -I/usr/local/include   -fopenmp -fpic  -g -O2  -Wall -c io_soap.c -o io_soap.o
g++ -std=gnu++17 -I"/home/hpages/bbs-3.18-bioc/R/include" -DNDEBUG  -I'/home/hpages/bbs-3.18-bioc-testing/Rlibs/S4Vectors/include' -I'/home/hpages/bbs-3.18-bioc-testing/Rlibs/IRanges/include' -I'/home/hpages/bbs-3.18-bioc-testing/Rlibs/XVector/include' -I'/home/hpages/bbs-3.18-bioc-testing/Rlibs/Biostrings/include' -I'/home/hpages/bbs-3.18-bioc-testing/Rlibs/Rhtslib/include' -I'/home/hpages/bbs-3.18-bioc-testing/Rlibs/zlibbioc/include' -I/usr/local/include   -DPACKAGE_NAME=\"\" -DPACKAGE_TARNAME=\"\" -DPACKAGE_VERSION=\"\" -DPACKAGE_STRING=\"\" -DPACKAGE_BUGREPORT=\"\" -DPACKAGE_URL=\"\" -DHAVE_LIBZ=1 -DSTDC_HEADERS=1 -DHAVE_SYS_TYPES_H=1 -DHAVE_SYS_STAT_H=1 -DHAVE_STDLIB_H=1 -DHAVE_STRING_H=1 -DHAVE_MEMORY_H=1 -DHAVE_STRINGS_H=1 -DHAVE_INTTYPES_H=1 -DHAVE_STDINT_H=1 -DHAVE_UNISTD_H=1 -DSIZEOF_UNSIGNED_LONG=8 -fpic  -g -O2  -Wall -c readBfaToc.cc -o readBfaToc.o
readBfaToc.cc: In function ‘SEXPREC* readBfaToc(SEXP)’:
readBfaToc.cc:35:19: warning: ignoring return value of ‘size_t fread(void*, size_t, size_t, FILE*)’ declared with attribute ‘warn_unused_result’ [-Wunused-result]
   35 |       (void) fread( seq_name, sizeof(char), name_len, fp );
      |              ~~~~~^~~~~~~~~~~~~~~~~~~~~~~~~~~~~~~~~~~~~~~~
readBfaToc.cc:36:19: warning: ignoring return value of ‘size_t fread(void*, size_t, size_t, FILE*)’ declared with attribute ‘warn_unused_result’ [-Wunused-result]
   36 |       (void) fread( &seq_ori_len, sizeof(int), 1, fp );
      |              ~~~~~^~~~~~~~~~~~~~~~~~~~~~~~~~~~~~~~~~~~
readBfaToc.cc:37:19: warning: ignoring return value of ‘size_t fread(void*, size_t, size_t, FILE*)’ declared with attribute ‘warn_unused_result’ [-Wunused-result]
   37 |       (void) fread( &seq_len, sizeof(int), 1, fp );
      |              ~~~~~^~~~~~~~~~~~~~~~~~~~~~~~~~~~~~~~
g++ -std=gnu++17 -I"/home/hpages/bbs-3.18-bioc/R/include" -DNDEBUG  -I'/home/hpages/bbs-3.18-bioc-testing/Rlibs/S4Vectors/include' -I'/home/hpages/bbs-3.18-bioc-testing/Rlibs/IRanges/include' -I'/home/hpages/bbs-3.18-bioc-testing/Rlibs/XVector/include' -I'/home/hpages/bbs-3.18-bioc-testing/Rlibs/Biostrings/include' -I'/home/hpages/bbs-3.18-bioc-testing/Rlibs/Rhtslib/include' -I'/home/hpages/bbs-3.18-bioc-testing/Rlibs/zlibbioc/include' -I/usr/local/include   -DPACKAGE_NAME=\"\" -DPACKAGE_TARNAME=\"\" -DPACKAGE_VERSION=\"\" -DPACKAGE_STRING=\"\" -DPACKAGE_BUGREPORT=\"\" -DPACKAGE_URL=\"\" -DHAVE_LIBZ=1 -DSTDC_HEADERS=1 -DHAVE_SYS_TYPES_H=1 -DHAVE_SYS_STAT_H=1 -DHAVE_STDLIB_H=1 -DHAVE_STRING_H=1 -DHAVE_MEMORY_H=1 -DHAVE_STRINGS_H=1 -DHAVE_INTTYPES_H=1 -DHAVE_STDINT_H=1 -DHAVE_UNISTD_H=1 -DSIZEOF_UNSIGNED_LONG=8 -fpic  -g -O2  -Wall -c read_maq_map.cc -o read_maq_map.o
In file included from read_maq_map.cc:13:
maqmap_m.h: In function ‘maqmap_T<max_readlen>* maqmap_read_header(gzFile) [with int max_readlen = 128]’:
maqmap_m.h:102:18: warning: pointer ‘mm’ used after ‘void free(void*)’ [-Wuse-after-free]
  102 |             error("MAQ format '%d' not supported", mm->format);
In function ‘void maq_delete_maqmap(maqmap_T<max_readlen>*) [with int max_readlen = 128]’,
    inlined from ‘void maq_delete_maqmap(maqmap_T<max_readlen>*) [with int max_readlen = 128]’ at maqmap_m.h:74:35,
    inlined from ‘maqmap_T<max_readlen>* maqmap_read_header(gzFile) [with int max_readlen = 128]’ at maqmap_m.h:101:30:
maqmap_m.h:84:14: note: call to ‘void free(void*)’ here
   84 |     std::free(mm);
      |     ~~~~~~~~~^~~~
maqmap_m.h: In function ‘maqmap_T<max_readlen>* maqmap_read_header(gzFile) [with int max_readlen = 64]’:
maqmap_m.h:102:18: warning: pointer ‘mm’ used after ‘void free(void*)’ [-Wuse-after-free]
  102 |             error("MAQ format '%d' not supported", mm->format);
In function ‘void maq_delete_maqmap(maqmap_T<max_readlen>*) [with int max_readlen = 64]’,
    inlined from ‘void maq_delete_maqmap(maqmap_T<max_readlen>*) [with int max_readlen = 64]’ at maqmap_m.h:74:35,
    inlined from ‘maqmap_T<max_readlen>* maqmap_read_header(gzFile) [with int max_readlen = 64]’ at maqmap_m.h:101:30:
maqmap_m.h:84:14: note: call to ‘void free(void*)’ here
   84 |     std::free(mm);
      |     ~~~~~~~~~^~~~
gcc -I"/home/hpages/bbs-3.18-bioc/R/include" -DNDEBUG  -I'/home/hpages/bbs-3.18-bioc-testing/Rlibs/S4Vectors/include' -I'/home/hpages/bbs-3.18-bioc-testing/Rlibs/IRanges/include' -I'/home/hpages/bbs-3.18-bioc-testing/Rlibs/XVector/include' -I'/home/hpages/bbs-3.18-bioc-testing/Rlibs/Biostrings/include' -I'/home/hpages/bbs-3.18-bioc-testing/Rlibs/Rhtslib/include' -I'/home/hpages/bbs-3.18-bioc-testing/Rlibs/zlibbioc/include' -I/usr/local/include   -fopenmp -fpic  -g -O2  -Wall -c sampler.c -o sampler.o
gcc -I"/home/hpages/bbs-3.18-bioc/R/include" -DNDEBUG  -I'/home/hpages/bbs-3.18-bioc-testing/Rlibs/S4Vectors/include' -I'/home/hpages/bbs-3.18-bioc-testing/Rlibs/IRanges/include' -I'/home/hpages/bbs-3.18-bioc-testing/Rlibs/XVector/include' -I'/home/hpages/bbs-3.18-bioc-testing/Rlibs/Biostrings/include' -I'/home/hpages/bbs-3.18-bioc-testing/Rlibs/Rhtslib/include' -I'/home/hpages/bbs-3.18-bioc-testing/Rlibs/zlibbioc/include' -I/usr/local/include   -fopenmp -fpic  -g -O2  -Wall -c trim.c -o trim.o
gcc -I"/home/hpages/bbs-3.18-bioc/R/include" -DNDEBUG  -I'/home/hpages/bbs-3.18-bioc-testing/Rlibs/S4Vectors/include' -I'/home/hpages/bbs-3.18-bioc-testing/Rlibs/IRanges/include' -I'/home/hpages/bbs-3.18-bioc-testing/Rlibs/XVector/include' -I'/home/hpages/bbs-3.18-bioc-testing/Rlibs/Biostrings/include' -I'/home/hpages/bbs-3.18-bioc-testing/Rlibs/Rhtslib/include' -I'/home/hpages/bbs-3.18-bioc-testing/Rlibs/zlibbioc/include' -I/usr/local/include   -fopenmp -fpic  -g -O2  -Wall -c util.c -o util.o
gcc -I"/home/hpages/bbs-3.18-bioc/R/include" -DNDEBUG  -I'/home/hpages/bbs-3.18-bioc-testing/Rlibs/S4Vectors/include' -I'/home/hpages/bbs-3.18-bioc-testing/Rlibs/IRanges/include' -I'/home/hpages/bbs-3.18-bioc-testing/Rlibs/XVector/include' -I'/home/hpages/bbs-3.18-bioc-testing/Rlibs/Biostrings/include' -I'/home/hpages/bbs-3.18-bioc-testing/Rlibs/Rhtslib/include' -I'/home/hpages/bbs-3.18-bioc-testing/Rlibs/zlibbioc/include' -I/usr/local/include   -fopenmp -fpic  -g -O2  -Wall -c xsnap.c -o xsnap.o
g++ -std=gnu++17 -shared -L/usr/local/lib -o ShortRead.so Biostrings_stubs.o IRanges_stubs.o R_init_ShortRead.o S4Vectors_stubs.o XVector_stubs.o alphabet.o count.o io.o io_bowtie.o io_soap.o readBfaToc.o read_maq_map.o sampler.o trim.o util.o xsnap.o -lz -fopenmp
installing to /home/hpages/bbs-3.18-bioc-testing/Rlibs/00LOCK-ShortRead/00new/ShortRead/libs
** R
** inst
** byte-compile and prepare package for lazy loading
** help
*** installing help indices
** building package indices
** installing vignettes
** testing if installed package can be loaded from temporary location
** checking absolute paths in shared objects and dynamic libraries
** testing if installed package can be loaded from final location
** testing if installed package keeps a record of temporary installation path
* DONE (ShortRead)