| Back to First build/check report with an "external build node" |
This page was generated on 2023-06-01 18:17:19 -0400 (Thu, 01 Jun 2023).
| Hostname | OS | Arch (*) | R version | Installed pkgs |
|---|---|---|---|---|
| xps15 | Linux (Ubuntu 23.04) | x86_64 | 4.3.0 Patched (2023-05-23 r84466) -- "Already Tomorrow" | 544 |
| Click on any hostname to see more info about the system (e.g. compilers) (*) as reported by 'uname -p', except on Windows and Mac OS X | ||||
|
To the developers/maintainers of the Rsubread package: Use the following Renviron settings to reproduce errors and warnings. Note: If "R CMD check" recently failed on the Linux builder over a missing dependency, add the missing dependency to "Suggests" in your DESCRIPTION file. See the Renviron.bioc for details. |
| Package 75/91 | Hostname | OS / Arch | INSTALL | BUILD | CHECK | BUILD BIN | |||||||
| Rsubread 2.15.3 (landing page) Wei Shi
| xps15 | Linux (Ubuntu 23.04) / x86_64 | OK | OK | OK | ||||||||
| Package: Rsubread |
| Version: 2.15.3 |
| Command: /home/hpages/bbs-3.18-bioc/R/bin/R CMD check --install=check:Rsubread.install-out.txt --library=/home/hpages/bbs-3.18-bioc-testing/Rlibs --timings Rsubread_2.15.3.tar.gz |
| StartedAt: 2023-06-01 13:22:01 -0700 (Thu, 01 Jun 2023) |
| EndedAt: 2023-06-01 13:40:17 -0700 (Thu, 01 Jun 2023) |
| EllapsedTime: 1096.9 seconds |
| RetCode: 0 |
| Status: OK |
| CheckDir: Rsubread.Rcheck |
| Warnings: 0 |
##############################################################################
##############################################################################
###
### Running command:
###
### /home/hpages/bbs-3.18-bioc/R/bin/R CMD check --install=check:Rsubread.install-out.txt --library=/home/hpages/bbs-3.18-bioc-testing/Rlibs --timings Rsubread_2.15.3.tar.gz
###
##############################################################################
##############################################################################
* using log directory ‘/home/hpages/bbs-3.18-bioc-testing/meat/Rsubread.Rcheck’
* using R version 4.3.0 Patched (2023-05-23 r84466)
* using platform: x86_64-pc-linux-gnu (64-bit)
* R was compiled by
gcc (Ubuntu 12.2.0-17ubuntu1) 12.2.0
GNU Fortran (Ubuntu 12.2.0-17ubuntu1) 12.2.0
* running under: Ubuntu 23.04
* using session charset: UTF-8
* checking for file ‘Rsubread/DESCRIPTION’ ... OK
* this is package ‘Rsubread’ version ‘2.15.3’
* checking package namespace information ... OK
* checking package dependencies ... OK
* checking if this is a source package ... OK
* checking if there is a namespace ... OK
* checking for hidden files and directories ... OK
* checking for portable file names ... OK
* checking for sufficient/correct file permissions ... OK
* checking whether package ‘Rsubread’ can be installed ... OK
* used C compiler: ‘gcc (Ubuntu 12.2.0-17ubuntu1) 12.2.0’
* checking installed package size ... NOTE
installed size is 39.4Mb
sub-directories of 1Mb or more:
annot 30.9Mb
libs 3.6Mb
qualf 3.4Mb
* checking package directory ... OK
* checking ‘build’ directory ... OK
* checking DESCRIPTION meta-information ... OK
* checking top-level files ... OK
* checking for left-over files ... OK
* checking index information ... OK
* checking package subdirectories ... OK
* checking R files for non-ASCII characters ... OK
* checking R files for syntax errors ... OK
* checking whether the package can be loaded ... OK
* checking whether the package can be loaded with stated dependencies ... OK
* checking whether the package can be unloaded cleanly ... OK
* checking whether the namespace can be loaded with stated dependencies ... OK
* checking whether the namespace can be unloaded cleanly ... OK
* checking loading without being on the library search path ... OK
* checking dependencies in R code ... OK
* checking S3 generic/method consistency ... OK
* checking replacement functions ... OK
* checking foreign function calls ... OK
* checking R code for possible problems ... OK
* checking Rd files ... OK
* checking Rd metadata ... OK
* checking Rd cross-references ... OK
* checking for missing documentation entries ... OK
* checking for code/documentation mismatches ... OK
* checking Rd \usage sections ... OK
* checking Rd contents ... OK
* checking for unstated dependencies in examples ... OK
* checking line endings in shell scripts ... OK
* checking line endings in C/C++/Fortran sources/headers ... OK
* checking line endings in Makefiles ... OK
* checking compilation flags in Makevars ... OK
* checking for GNU extensions in Makefiles ... OK
* checking for portable use of $(BLAS_LIBS) and $(LAPACK_LIBS) ... OK
* checking use of PKG_*FLAGS in Makefiles ... OK
* checking compiled code ... NOTE
Note: information on .o files is not available
* checking installed files from ‘inst/doc’ ... OK
* checking files in ‘vignettes’ ... OK
* checking examples ... OK
Examples with CPU (user + system) or elapsed time > 5s
user system elapsed
propmapped 41.309 22.841 64.141
align 36.481 22.481 58.954
sublong 27.987 8.067 35.778
buildindex 9.973 3.123 13.143
* checking for unstated dependencies in vignettes ... OK
* checking package vignettes in ‘inst/doc’ ... OK
* checking running R code from vignettes ...
‘Rsubread.Rnw’... OK
OK
* checking re-building of vignette outputs ... OK
* checking PDF version of manual ... OK
* DONE
Status: 2 NOTEs
See
‘/home/hpages/bbs-3.18-bioc-testing/meat/Rsubread.Rcheck/00check.log’
for details.
Rsubread.Rcheck/00install.out
##############################################################################
##############################################################################
###
### Running command:
###
### /home/hpages/bbs-3.18-bioc/R/bin/R CMD INSTALL Rsubread
###
##############################################################################
##############################################################################
* installing to library ‘/home/hpages/bbs-3.18-bioc-testing/Rlibs’
* installing *source* package ‘Rsubread’ ...
** using staged installation
@@@@@ The operating system is Linux.
** libs
using C compiler: ‘gcc (Ubuntu 12.2.0-17ubuntu1) 12.2.0’
gcc -I"/home/hpages/bbs-3.18-bioc/R/include" -DNDEBUG -I/usr/local/include -DMAKE_FOR_EXON -D SUBREAD_VERSION="\"Rsubread 2.15.3\"" -fpic -g -O2 -Wall -c HelperFunctions.c -o HelperFunctions.o
gcc -I"/home/hpages/bbs-3.18-bioc/R/include" -DNDEBUG -I/usr/local/include -DMAKE_FOR_EXON -D SUBREAD_VERSION="\"Rsubread 2.15.3\"" -fpic -g -O2 -Wall -c LRMbase-index.c -o LRMbase-index.o
gcc -I"/home/hpages/bbs-3.18-bioc/R/include" -DNDEBUG -I/usr/local/include -DMAKE_FOR_EXON -D SUBREAD_VERSION="\"Rsubread 2.15.3\"" -fpic -g -O2 -Wall -c LRMchro-event.c -o LRMchro-event.o
gcc -I"/home/hpages/bbs-3.18-bioc/R/include" -DNDEBUG -I/usr/local/include -DMAKE_FOR_EXON -D SUBREAD_VERSION="\"Rsubread 2.15.3\"" -fpic -g -O2 -Wall -c LRMfile-io.c -o LRMfile-io.o
gcc -I"/home/hpages/bbs-3.18-bioc/R/include" -DNDEBUG -I/usr/local/include -DMAKE_FOR_EXON -D SUBREAD_VERSION="\"Rsubread 2.15.3\"" -fpic -g -O2 -Wall -c LRMhashtable.c -o LRMhashtable.o
gcc -I"/home/hpages/bbs-3.18-bioc/R/include" -DNDEBUG -I/usr/local/include -DMAKE_FOR_EXON -D SUBREAD_VERSION="\"Rsubread 2.15.3\"" -fpic -g -O2 -Wall -c LRMhelper.c -o LRMhelper.o
gcc -I"/home/hpages/bbs-3.18-bioc/R/include" -DNDEBUG -I/usr/local/include -DMAKE_FOR_EXON -D SUBREAD_VERSION="\"Rsubread 2.15.3\"" -fpic -g -O2 -Wall -c LRMseek-zlib.c -o LRMseek-zlib.o
gcc -I"/home/hpages/bbs-3.18-bioc/R/include" -DNDEBUG -I/usr/local/include -DMAKE_FOR_EXON -D SUBREAD_VERSION="\"Rsubread 2.15.3\"" -fpic -g -O2 -Wall -c LRMsorted-hashtable.c -o LRMsorted-hashtable.o
gcc -I"/home/hpages/bbs-3.18-bioc/R/include" -DNDEBUG -I/usr/local/include -DMAKE_FOR_EXON -D SUBREAD_VERSION="\"Rsubread 2.15.3\"" -fpic -g -O2 -Wall -c R_wrapper.c -o R_wrapper.o
gcc -I"/home/hpages/bbs-3.18-bioc/R/include" -DNDEBUG -I/usr/local/include -DMAKE_FOR_EXON -D SUBREAD_VERSION="\"Rsubread 2.15.3\"" -fpic -g -O2 -Wall -c RsimReads.c -o RsimReads.o
gcc -I"/home/hpages/bbs-3.18-bioc/R/include" -DNDEBUG -I/usr/local/include -DMAKE_FOR_EXON -D SUBREAD_VERSION="\"Rsubread 2.15.3\"" -fpic -g -O2 -Wall -c SNPCalling.c -o SNPCalling.o
gcc -I"/home/hpages/bbs-3.18-bioc/R/include" -DNDEBUG -I/usr/local/include -DMAKE_FOR_EXON -D SUBREAD_VERSION="\"Rsubread 2.15.3\"" -fpic -g -O2 -Wall -c aligner.c -o aligner.o
gcc -I"/home/hpages/bbs-3.18-bioc/R/include" -DNDEBUG -I/usr/local/include -DMAKE_FOR_EXON -D SUBREAD_VERSION="\"Rsubread 2.15.3\"" -fpic -g -O2 -Wall -c atgcContent.c -o atgcContent.o
gcc -I"/home/hpages/bbs-3.18-bioc/R/include" -DNDEBUG -I/usr/local/include -DMAKE_FOR_EXON -D SUBREAD_VERSION="\"Rsubread 2.15.3\"" -fpic -g -O2 -Wall -c build-sam-index.c -o build-sam-index.o
gcc -I"/home/hpages/bbs-3.18-bioc/R/include" -DNDEBUG -I/usr/local/include -DMAKE_FOR_EXON -D SUBREAD_VERSION="\"Rsubread 2.15.3\"" -fpic -g -O2 -Wall -c cell-counts.c -o cell-counts.o
cell-counts.c: In function ‘cellCounts_find_hits_for_mapped_section’:
cell-counts.c:1600:30: warning: ‘search_start’ may be used uninitialized [-Wmaybe-uninitialized]
1600 | unsigned int search_start, search_end, search_block_id;
| ^~~~~~~~~~~~
gcc -I"/home/hpages/bbs-3.18-bioc/R/include" -DNDEBUG -I/usr/local/include -DMAKE_FOR_EXON -D SUBREAD_VERSION="\"Rsubread 2.15.3\"" -fpic -g -O2 -Wall -c core-bigtable.c -o core-bigtable.o
gcc -I"/home/hpages/bbs-3.18-bioc/R/include" -DNDEBUG -I/usr/local/include -DMAKE_FOR_EXON -D SUBREAD_VERSION="\"Rsubread 2.15.3\"" -fpic -g -O2 -Wall -c core-indel.c -o core-indel.o
gcc -I"/home/hpages/bbs-3.18-bioc/R/include" -DNDEBUG -I/usr/local/include -DMAKE_FOR_EXON -D SUBREAD_VERSION="\"Rsubread 2.15.3\"" -fpic -g -O2 -Wall -c core-interface-aligner.c -o core-interface-aligner.o
gcc -I"/home/hpages/bbs-3.18-bioc/R/include" -DNDEBUG -I/usr/local/include -DMAKE_FOR_EXON -D SUBREAD_VERSION="\"Rsubread 2.15.3\"" -fpic -g -O2 -Wall -c core-interface-subjunc.c -o core-interface-subjunc.o
gcc -I"/home/hpages/bbs-3.18-bioc/R/include" -DNDEBUG -I/usr/local/include -DMAKE_FOR_EXON -D SUBREAD_VERSION="\"Rsubread 2.15.3\"" -fpic -g -O2 -Wall -c core-junction.c -o core-junction.o
core-junction.c: In function ‘find_donor_receptor’:
core-junction.c:2099:25: warning: this ‘if’ clause does not guard... [-Wmisleading-indentation]
2099 | if(0&& FIXLENstrcmp("V0112_0155:7:1101:12618:2466#ACTTGA", rname) == 0)
| ^~
core-junction.c:2103:33: note: ...this statement, but the latter is misleadingly indented as if it were guarded by the ‘if’
2103 | if( (end_site_mismatches + start_site_mismatches) * 500 + insertion_in_between_i < best_testing_score ){
| ^~
gcc -I"/home/hpages/bbs-3.18-bioc/R/include" -DNDEBUG -I/usr/local/include -DMAKE_FOR_EXON -D SUBREAD_VERSION="\"Rsubread 2.15.3\"" -fpic -g -O2 -Wall -c core.c -o core.o
gcc -I"/home/hpages/bbs-3.18-bioc/R/include" -DNDEBUG -I/usr/local/include -DMAKE_FOR_EXON -D SUBREAD_VERSION="\"Rsubread 2.15.3\"" -fpic -g -O2 -Wall -c detection-calls.c -o detection-calls.o
detection-calls.c: In function ‘DTCwrite_annotations’:
detection-calls.c:155:9: warning: dangling pointer ‘gc_2int’ to an unnamed temporary may be used [-Wdangling-pointer=]
155 | DTCadd_annotation(context, gene_name, chro_name, start, end, is_negative_strand, gc_2int[0], gc_2int[1], 0);
| ^~~~~~~~~~~~~~~~~~~~~~~~~~~~~~~~~~~~~~~~~~~~~~~~~~~~~~~~~~~~~~~~~~~~~~~~~~~~~~~~~~~~~~~~~~~~~~~~~~~~~~~~~~~
detection-calls.c:154:48: note: unnamed temporary defined here
154 | if(!gc_2int) gc_2int = (unsigned int[]){0,0,0};
| ^
detection-calls.c:155:109: warning: dangling pointer ‘gc_2int’ to an unnamed temporary may be used [-Wdangling-pointer=]
155 | DTCadd_annotation(context, gene_name, chro_name, start, end, is_negative_strand, gc_2int[0], gc_2int[1], 0);
| ^
detection-calls.c:154:48: note: unnamed temporary defined here
154 | if(!gc_2int) gc_2int = (unsigned int[]){0,0,0};
| ^
detection-calls.c:155:9: warning: dangling pointer ‘gc_2int’ to an unnamed temporary may be used [-Wdangling-pointer=]
155 | DTCadd_annotation(context, gene_name, chro_name, start, end, is_negative_strand, gc_2int[0], gc_2int[1], 0);
| ^~~~~~~~~~~~~~~~~~~~~~~~~~~~~~~~~~~~~~~~~~~~~~~~~~~~~~~~~~~~~~~~~~~~~~~~~~~~~~~~~~~~~~~~~~~~~~~~~~~~~~~~~~~
detection-calls.c:154:48: note: unnamed temporary defined here
154 | if(!gc_2int) gc_2int = (unsigned int[]){0,0,0};
| ^
gcc -I"/home/hpages/bbs-3.18-bioc/R/include" -DNDEBUG -I/usr/local/include -DMAKE_FOR_EXON -D SUBREAD_VERSION="\"Rsubread 2.15.3\"" -fpic -g -O2 -Wall -c detectionCall.c -o detectionCall.o
gcc -I"/home/hpages/bbs-3.18-bioc/R/include" -DNDEBUG -I/usr/local/include -DMAKE_FOR_EXON -D SUBREAD_VERSION="\"Rsubread 2.15.3\"" -fpic -g -O2 -Wall -c detectionCallAnnotation.c -o detectionCallAnnotation.o
gcc -I"/home/hpages/bbs-3.18-bioc/R/include" -DNDEBUG -I/usr/local/include -DMAKE_FOR_EXON -D SUBREAD_VERSION="\"Rsubread 2.15.3\"" -fpic -g -O2 -Wall -c exon-algorithms.c -o exon-algorithms.o
gcc -I"/home/hpages/bbs-3.18-bioc/R/include" -DNDEBUG -I/usr/local/include -DMAKE_FOR_EXON -D SUBREAD_VERSION="\"Rsubread 2.15.3\"" -fpic -g -O2 -Wall -c exon-align-indel.c -o exon-align-indel.o
gcc -I"/home/hpages/bbs-3.18-bioc/R/include" -DNDEBUG -I/usr/local/include -DMAKE_FOR_EXON -D SUBREAD_VERSION="\"Rsubread 2.15.3\"" -fpic -g -O2 -Wall -c exon-align.c -o exon-align.o
gcc -I"/home/hpages/bbs-3.18-bioc/R/include" -DNDEBUG -I/usr/local/include -DMAKE_FOR_EXON -D SUBREAD_VERSION="\"Rsubread 2.15.3\"" -fpic -g -O2 -Wall -c flattenAnnotations.c -o flattenAnnotations.o
gcc -I"/home/hpages/bbs-3.18-bioc/R/include" -DNDEBUG -I/usr/local/include -DMAKE_FOR_EXON -D SUBREAD_VERSION="\"Rsubread 2.15.3\"" -fpic -g -O2 -Wall -c fullscan.c -o fullscan.o
gcc -I"/home/hpages/bbs-3.18-bioc/R/include" -DNDEBUG -I/usr/local/include -DMAKE_FOR_EXON -D SUBREAD_VERSION="\"Rsubread 2.15.3\"" -fpic -g -O2 -Wall -c fusion-align.c -o fusion-align.o
gcc -I"/home/hpages/bbs-3.18-bioc/R/include" -DNDEBUG -I/usr/local/include -DMAKE_FOR_EXON -D SUBREAD_VERSION="\"Rsubread 2.15.3\"" -fpic -g -O2 -Wall -c gen_rand_reads.c -o gen_rand_reads.o
gcc -I"/home/hpages/bbs-3.18-bioc/R/include" -DNDEBUG -I/usr/local/include -DMAKE_FOR_EXON -D SUBREAD_VERSION="\"Rsubread 2.15.3\"" -fpic -g -O2 -Wall -c gene-algorithms.c -o gene-algorithms.o
gcc -I"/home/hpages/bbs-3.18-bioc/R/include" -DNDEBUG -I/usr/local/include -DMAKE_FOR_EXON -D SUBREAD_VERSION="\"Rsubread 2.15.3\"" -fpic -g -O2 -Wall -c gene-value-index.c -o gene-value-index.o
gene-value-index.c: In function ‘is_offset_in_chro’:
gene-value-index.c:85:33: warning: this ‘if’ clause does not guard... [-Wmisleading-indentation]
85 | if( pos < chros -> padding || pos >= ( chros->read_offsets[n] - chros->read_offsets[n-1] - chros -> padding ))
| ^~
In file included from gene-value-index.h:24,
from gene-value-index.c:25:
subread.h:154:24: note: ...this statement, but the latter is misleadingly indented as if it were guarded by the ‘if’
154 | #define SUBREADprintf msgqu_printf
| ^~~~~~~~~~~~
gene-value-index.c:87:41: note: in expansion of macro ‘SUBREADprintf’
87 | SUBREADprintf("INCHRO:%d ; POS:%d\n", ret, pos);
| ^~~~~~~~~~~~~
gcc -I"/home/hpages/bbs-3.18-bioc/R/include" -DNDEBUG -I/usr/local/include -DMAKE_FOR_EXON -D SUBREAD_VERSION="\"Rsubread 2.15.3\"" -fpic -g -O2 -Wall -c hashtable.c -o hashtable.o
gcc -I"/home/hpages/bbs-3.18-bioc/R/include" -DNDEBUG -I/usr/local/include -DMAKE_FOR_EXON -D SUBREAD_VERSION="\"Rsubread 2.15.3\"" -fpic -g -O2 -Wall -c index-builder.c -o index-builder.o
gcc -I"/home/hpages/bbs-3.18-bioc/R/include" -DNDEBUG -I/usr/local/include -DMAKE_FOR_EXON -D SUBREAD_VERSION="\"Rsubread 2.15.3\"" -fpic -g -O2 -Wall -c input-blc.c -o input-blc.o
input-blc.c: In function ‘iCache_continuous_read_lanes’:
input-blc.c:580:59: warning: unused variable ‘npos’ [-Wunused-variable]
580 | long long npos = lseek(tfp -> cbcl_bin_fd, next_tile_start_off , SEEK_SET);
| ^~~~
gcc -I"/home/hpages/bbs-3.18-bioc/R/include" -DNDEBUG -I/usr/local/include -DMAKE_FOR_EXON -D SUBREAD_VERSION="\"Rsubread 2.15.3\"" -fpic -g -O2 -Wall -c input-files.c -o input-files.o
gcc -I"/home/hpages/bbs-3.18-bioc/R/include" -DNDEBUG -I/usr/local/include -DMAKE_FOR_EXON -D SUBREAD_VERSION="\"Rsubread 2.15.3\"" -fpic -g -O2 -Wall -c interval_merge.c -o interval_merge.o
gcc -I"/home/hpages/bbs-3.18-bioc/R/include" -DNDEBUG -I/usr/local/include -DMAKE_FOR_EXON -D SUBREAD_VERSION="\"Rsubread 2.15.3\"" -fpic -g -O2 -Wall -c long-hashtable.c -o long-hashtable.o
gcc -I"/home/hpages/bbs-3.18-bioc/R/include" -DNDEBUG -I/usr/local/include -DMAKE_FOR_EXON -D SUBREAD_VERSION="\"Rsubread 2.15.3\"" -fpic -g -O2 -Wall -c longread-mapping.c -o longread-mapping.o
gcc -I"/home/hpages/bbs-3.18-bioc/R/include" -DNDEBUG -I/usr/local/include -DMAKE_FOR_EXON -D SUBREAD_VERSION="\"Rsubread 2.15.3\"" -fpic -g -O2 -Wall -c mergeVCF.c -o mergeVCF.o
gcc -I"/home/hpages/bbs-3.18-bioc/R/include" -DNDEBUG -I/usr/local/include -DMAKE_FOR_EXON -D SUBREAD_VERSION="\"Rsubread 2.15.3\"" -fpic -g -O2 -Wall -c processExons.c -o processExons.o
gcc -I"/home/hpages/bbs-3.18-bioc/R/include" -DNDEBUG -I/usr/local/include -DMAKE_FOR_EXON -D SUBREAD_VERSION="\"Rsubread 2.15.3\"" -fpic -g -O2 -Wall -c propmapped.c -o propmapped.o
gcc -I"/home/hpages/bbs-3.18-bioc/R/include" -DNDEBUG -I/usr/local/include -DMAKE_FOR_EXON -D SUBREAD_VERSION="\"Rsubread 2.15.3\"" -fpic -g -O2 -Wall -c qualityScores.c -o qualityScores.o
gcc -I"/home/hpages/bbs-3.18-bioc/R/include" -DNDEBUG -I/usr/local/include -DMAKE_FOR_EXON -D SUBREAD_VERSION="\"Rsubread 2.15.3\"" -fpic -g -O2 -Wall -c read-repair.c -o read-repair.o
gcc -I"/home/hpages/bbs-3.18-bioc/R/include" -DNDEBUG -I/usr/local/include -DMAKE_FOR_EXON -D SUBREAD_VERSION="\"Rsubread 2.15.3\"" -fpic -g -O2 -Wall -c readSummary.c -o readSummary.o
readSummary.c: In function ‘vote_and_add_count’:
readSummary.c:4923:66: warning: ‘longest_overlap_score’ may be used uninitialized [-Wmaybe-uninitialized]
4923 | if(longest_overlap_score > scoring_numbers[score_x1]) scoring_numbers[score_x1] = 0;
| ~~~~~~~~~~~~~~~~~~~~~~^~~~~~~~~~~~~~~~~~~~~~~~~~~
readSummary.c:4691:51: note: ‘longest_overlap_score’ was declared here
4691 | int scoring_count = 0, score_x1, longest_overlap_score;
| ^~~~~~~~~~~~~~~~~~~~~
gcc -I"/home/hpages/bbs-3.18-bioc/R/include" -DNDEBUG -I/usr/local/include -DMAKE_FOR_EXON -D SUBREAD_VERSION="\"Rsubread 2.15.3\"" -fpic -g -O2 -Wall -c removeDupReads.c -o removeDupReads.o
gcc -I"/home/hpages/bbs-3.18-bioc/R/include" -DNDEBUG -I/usr/local/include -DMAKE_FOR_EXON -D SUBREAD_VERSION="\"Rsubread 2.15.3\"" -fpic -g -O2 -Wall -c sam2bed.c -o sam2bed.o
gcc -I"/home/hpages/bbs-3.18-bioc/R/include" -DNDEBUG -I/usr/local/include -DMAKE_FOR_EXON -D SUBREAD_VERSION="\"Rsubread 2.15.3\"" -fpic -g -O2 -Wall -c sambam-file.c -o sambam-file.o
gcc -I"/home/hpages/bbs-3.18-bioc/R/include" -DNDEBUG -I/usr/local/include -DMAKE_FOR_EXON -D SUBREAD_VERSION="\"Rsubread 2.15.3\"" -fpic -g -O2 -Wall -c seek-zlib.c -o seek-zlib.o
gcc -I"/home/hpages/bbs-3.18-bioc/R/include" -DNDEBUG -I/usr/local/include -DMAKE_FOR_EXON -D SUBREAD_VERSION="\"Rsubread 2.15.3\"" -fpic -g -O2 -Wall -c sorted-hashtable.c -o sorted-hashtable.o
gcc -I"/home/hpages/bbs-3.18-bioc/R/include" -DNDEBUG -I/usr/local/include -DMAKE_FOR_EXON -D SUBREAD_VERSION="\"Rsubread 2.15.3\"" -fpic -g -O2 -Wall -c sublog.c -o sublog.o
gcc -I"/home/hpages/bbs-3.18-bioc/R/include" -DNDEBUG -I/usr/local/include -DMAKE_FOR_EXON -D SUBREAD_VERSION="\"Rsubread 2.15.3\"" -fpic -g -O2 -Wall -c tx-unique.c -o tx-unique.o
gcc -shared -L/usr/local/lib -o Rsubread.so HelperFunctions.o LRMbase-index.o LRMchro-event.o LRMfile-io.o LRMhashtable.o LRMhelper.o LRMseek-zlib.o LRMsorted-hashtable.o R_wrapper.o RsimReads.o SNPCalling.o aligner.o atgcContent.o build-sam-index.o cell-counts.o core-bigtable.o core-indel.o core-interface-aligner.o core-interface-subjunc.o core-junction.o core.o detection-calls.o detectionCall.o detectionCallAnnotation.o exon-algorithms.o exon-align-indel.o exon-align.o flattenAnnotations.o fullscan.o fusion-align.o gen_rand_reads.o gene-algorithms.o gene-value-index.o hashtable.o index-builder.o input-blc.o input-files.o interval_merge.o long-hashtable.o longread-mapping.o mergeVCF.o processExons.o propmapped.o qualityScores.o read-repair.o readSummary.o removeDupReads.o sam2bed.o sambam-file.o seek-zlib.o sorted-hashtable.o sublog.o tx-unique.o -lz -lpthread -DMAKE_FOR_EXON
installing to /home/hpages/bbs-3.18-bioc-testing/Rlibs/00LOCK-Rsubread/00new/Rsubread/libs
** R
** inst
** byte-compile and prepare package for lazy loading
** help
*** installing help indices
** building package indices
** installing vignettes
** testing if installed package can be loaded from temporary location
** checking absolute paths in shared objects and dynamic libraries
** testing if installed package can be loaded from final location
** testing if installed package keeps a record of temporary installation path
* DONE (Rsubread)
Rsubread.Rcheck/Rsubread-Ex.timings
| name | user | system | elapsed | |
| align | 36.481 | 22.481 | 58.954 | |
| buildindex | 9.973 | 3.123 | 13.143 | |
| cellCounts | 0 | 0 | 0 | |
| featureCounts | 0.001 | 0.000 | 0.001 | |
| findCommonVariants | 0 | 0 | 0 | |
| getInBuiltAnnotation | 0.357 | 0.028 | 0.384 | |
| promoterRegions | 1.853 | 0.008 | 1.861 | |
| propmapped | 41.309 | 22.841 | 64.141 | |
| qualityScores | 0.046 | 0.010 | 0.057 | |
| simReads | 0 | 0 | 0 | |
| sublong | 27.987 | 8.067 | 35.778 | |