Back to First build/check report with an "external build node"

This page was generated on 2023-06-01 18:17:19 -0400 (Thu, 01 Jun 2023).

HostnameOSArch (*)R versionInstalled pkgs
xps15Linux (Ubuntu 23.04)x86_644.3.0 Patched (2023-05-23 r84466) -- "Already Tomorrow" 544
Click on any hostname to see more info about the system (e.g. compilers)      (*) as reported by 'uname -p', except on Windows and Mac OS X

BUILD results for MSnbase on xps15


To the developers/maintainers of the MSnbase package:
Use the following Renviron settings to reproduce errors and warnings.

Note: If "R CMD check" recently failed on the Linux builder over a missing dependency, add the missing dependency to "Suggests" in your DESCRIPTION file. See the Renviron.bioc for details.

raw results

Package 56/91HostnameOS / ArchINSTALLBUILDCHECKBUILD BIN
MSnbase 2.27.0  (landing page)
Laurent Gatto
Snapshot Date: 2023-06-01 15:10:15 -0400 (Thu, 01 Jun 2023)
git_url: https://git.bioconductor.org/packages/MSnbase
git_branch: devel
git_last_commit: 66d8d8d
git_last_commit_date: 2023-04-25 10:19:06 -0400 (Tue, 25 Apr 2023)
xps15Linux (Ubuntu 23.04) / x86_64  ERROR    ERROR  skipped

Summary

Package: MSnbase
Version: 2.27.0
Command: /home/hpages/bbs-3.18-bioc/R/bin/R CMD build --keep-empty-dirs --no-resave-data MSnbase
StartedAt: 2023-06-01 12:44:14 -0700 (Thu, 01 Jun 2023)
EndedAt: 2023-06-01 12:44:16 -0700 (Thu, 01 Jun 2023)
EllapsedTime: 2.0 seconds
RetCode: 1
Status:   ERROR  
PackageFile: None
PackageFileSize: NA

Command output

##############################################################################
##############################################################################
###
### Running command:
###
###   /home/hpages/bbs-3.18-bioc/R/bin/R CMD build --keep-empty-dirs --no-resave-data MSnbase
###
##############################################################################
##############################################################################


* checking for file ‘MSnbase/DESCRIPTION’ ... OK
* preparing ‘MSnbase’:
* checking DESCRIPTION meta-information ... OK
* cleaning src
* installing the package to build vignettes
      -----------------------------------
ERROR: dependency ‘MsCoreUtils’ is not available for package ‘MSnbase’
* removing ‘/tmp/Rtmpu1tHAy/Rinst67a1147770b4b/MSnbase’
      -----------------------------------
ERROR: package installation failed