| Back to First build/check report with an "external build node" |
This page was generated on 2023-06-01 18:17:19 -0400 (Thu, 01 Jun 2023).
| Hostname | OS | Arch (*) | R version | Installed pkgs |
|---|---|---|---|---|
| xps15 | Linux (Ubuntu 23.04) | x86_64 | 4.3.0 Patched (2023-05-23 r84466) -- "Already Tomorrow" | 544 |
| Click on any hostname to see more info about the system (e.g. compilers) (*) as reported by 'uname -p', except on Windows and Mac OS X | ||||
|
To the developers/maintainers of the ExperimentHub package: Use the following Renviron settings to reproduce errors and warnings. Note: If "R CMD check" recently failed on the Linux builder over a missing dependency, add the missing dependency to "Suggests" in your DESCRIPTION file. See the Renviron.bioc for details. |
| Package 34/91 | Hostname | OS / Arch | INSTALL | BUILD | CHECK | BUILD BIN | |||||||
| ExperimentHub 2.9.0 (landing page) Bioconductor Package Maintainer
| xps15 | Linux (Ubuntu 23.04) / x86_64 | OK | OK | ERROR | ||||||||
| Package: ExperimentHub |
| Version: 2.9.0 |
| Command: /home/hpages/bbs-3.18-bioc/R/bin/R CMD build --keep-empty-dirs --no-resave-data ExperimentHub |
| StartedAt: 2023-06-01 12:39:48 -0700 (Thu, 01 Jun 2023) |
| EndedAt: 2023-06-01 12:40:31 -0700 (Thu, 01 Jun 2023) |
| EllapsedTime: 43.0 seconds |
| RetCode: 0 |
| Status: OK |
| PackageFile: ExperimentHub_2.9.0.tar.gz |
| PackageFileSize: 484.6 KiB |
############################################################################## ############################################################################## ### ### Running command: ### ### /home/hpages/bbs-3.18-bioc/R/bin/R CMD build --keep-empty-dirs --no-resave-data ExperimentHub ### ############################################################################## ############################################################################## * checking for file ‘ExperimentHub/DESCRIPTION’ ... OK * preparing ‘ExperimentHub’: * checking DESCRIPTION meta-information ... OK * installing the package to build vignettes * creating vignettes ... OK * checking for LF line-endings in source and make files and shell scripts * checking for empty or unneeded directories * building ‘ExperimentHub_2.9.0.tar.gz’