| Back to First build/check report with an "external build node" | 
This page was generated on 2023-06-01 18:17:19 -0400 (Thu, 01 Jun 2023).
| Hostname | OS | Arch (*) | R version | Installed pkgs | 
|---|---|---|---|---|
| xps15 | Linux (Ubuntu 23.04) | x86_64 | 4.3.0 Patched (2023-05-23 r84466) -- "Already Tomorrow" | 544 | 
| Click on any hostname to see more info about the system (e.g. compilers) (*) as reported by 'uname -p', except on Windows and Mac OS X | ||||
| To the developers/maintainers of the BiocFileCache package: Use the following Renviron settings to reproduce errors and warnings. Note: If "R CMD check" recently failed on the Linux builder over a missing dependency, add the missing dependency to "Suggests" in your DESCRIPTION file. See the Renviron.bioc for details. | 
| Package 14/91 | Hostname | OS / Arch | INSTALL | BUILD | CHECK | BUILD BIN | |||||||
| BiocFileCache 2.9.0  (landing page) Lori Shepherd 
 | xps15 | Linux (Ubuntu 23.04) / x86_64 | OK | OK | OK | ||||||||
| Package: BiocFileCache | 
| Version: 2.9.0 | 
| Command: /home/hpages/bbs-3.18-bioc/R/bin/R CMD INSTALL BiocFileCache | 
| StartedAt: 2023-06-01 12:25:40 -0700 (Thu, 01 Jun 2023) | 
| EndedAt: 2023-06-01 12:25:48 -0700 (Thu, 01 Jun 2023) | 
| EllapsedTime: 8.0 seconds | 
| RetCode: 0 | 
| Status: OK | 
############################################################################## ############################################################################## ### ### Running command: ### ### /home/hpages/bbs-3.18-bioc/R/bin/R CMD INSTALL BiocFileCache ### ############################################################################## ############################################################################## * installing to library ‘/home/hpages/bbs-3.18-bioc-testing/Rlibs’ * installing *source* package ‘BiocFileCache’ ... ** using staged installation ** R ** inst ** byte-compile and prepare package for lazy loading ** help *** installing help indices ** building package indices ** installing vignettes ** testing if installed package can be loaded from temporary location ** testing if installed package can be loaded from final location ** testing if installed package keeps a record of temporary installation path * DONE (BiocFileCache)