Back to First build/check report with an "external build node" |
This page was generated on 2023-06-01 18:17:19 -0400 (Thu, 01 Jun 2023).
Hostname | OS | Arch (*) | R version | Installed pkgs |
---|---|---|---|---|
xps15 | Linux (Ubuntu 23.04) | x86_64 | 4.3.0 Patched (2023-05-23 r84466) -- "Already Tomorrow" | 544 |
Click on any hostname to see more info about the system (e.g. compilers) (*) as reported by 'uname -p', except on Windows and Mac OS X |
To the developers/maintainers of the AnnotationDbi package: Use the following Renviron settings to reproduce errors and warnings. Note: If "R CMD check" recently failed on the Linux builder over a missing dependency, add the missing dependency to "Suggests" in your DESCRIPTION file. See the Renviron.bioc for details. |
Package 5/91 | Hostname | OS / Arch | INSTALL | BUILD | CHECK | BUILD BIN | |||||||
AnnotationDbi 1.63.1 (landing page) Bioconductor Package Maintainer
| xps15 | Linux (Ubuntu 23.04) / x86_64 | OK | OK | WARNINGS | ||||||||
Package: AnnotationDbi |
Version: 1.63.1 |
Command: /home/hpages/bbs-3.18-bioc/R/bin/R CMD check --install=check:AnnotationDbi.install-out.txt --library=/home/hpages/bbs-3.18-bioc-testing/Rlibs --timings AnnotationDbi_1.63.1.tar.gz |
StartedAt: 2023-06-01 12:57:19 -0700 (Thu, 01 Jun 2023) |
EndedAt: 2023-06-01 13:01:59 -0700 (Thu, 01 Jun 2023) |
EllapsedTime: 280.2 seconds |
RetCode: 0 |
Status: WARNINGS |
CheckDir: AnnotationDbi.Rcheck |
Warnings: 1 |
############################################################################## ############################################################################## ### ### Running command: ### ### /home/hpages/bbs-3.18-bioc/R/bin/R CMD check --install=check:AnnotationDbi.install-out.txt --library=/home/hpages/bbs-3.18-bioc-testing/Rlibs --timings AnnotationDbi_1.63.1.tar.gz ### ############################################################################## ############################################################################## * using log directory ‘/home/hpages/bbs-3.18-bioc-testing/meat/AnnotationDbi.Rcheck’ * using R version 4.3.0 Patched (2023-05-23 r84466) * using platform: x86_64-pc-linux-gnu (64-bit) * R was compiled by gcc (Ubuntu 12.2.0-17ubuntu1) 12.2.0 GNU Fortran (Ubuntu 12.2.0-17ubuntu1) 12.2.0 * running under: Ubuntu 23.04 * using session charset: UTF-8 * checking for file ‘AnnotationDbi/DESCRIPTION’ ... OK * this is package ‘AnnotationDbi’ version ‘1.63.1’ * package encoding: UTF-8 * checking package namespace information ... OK * checking package dependencies ... OK * checking if this is a source package ... OK * checking if there is a namespace ... OK * checking for hidden files and directories ... OK * checking for portable file names ... OK * checking for sufficient/correct file permissions ... OK * checking whether package ‘AnnotationDbi’ can be installed ... OK * checking installed package size ... NOTE installed size is 8.3Mb sub-directories of 1Mb or more: R 1.1Mb extdata 6.0Mb * checking package directory ... OK * checking ‘build’ directory ... OK * checking DESCRIPTION meta-information ... OK * checking top-level files ... OK * checking for left-over files ... OK * checking index information ... OK * checking package subdirectories ... OK * checking R files for non-ASCII characters ... OK * checking R files for syntax errors ... OK * checking whether the package can be loaded ... OK * checking whether the package can be loaded with stated dependencies ... OK * checking whether the package can be unloaded cleanly ... OK * checking whether the namespace can be loaded with stated dependencies ... OK * checking whether the namespace can be unloaded cleanly ... OK * checking loading without being on the library search path ... OK * checking dependencies in R code ... NOTE Unexported object imported by a ':::' call: ‘BiocGenerics:::testPackage’ See the note in ?`:::` about the use of this operator. * checking S3 generic/method consistency ... OK * checking replacement functions ... OK * checking foreign function calls ... OK * checking R code for possible problems ... NOTE createORGANISMSeeds: no visible global function definition for ‘makeAnnDbMapSeeds’ Undefined global functions or variables: makeAnnDbMapSeeds * checking Rd files ... WARNING checkRd: (5) AnnDbObj-class.Rd:58-61: \item in \describe must have non-empty label checkRd: (5) AnnDbObj-class.Rd:64-68: \item in \describe must have non-empty label checkRd: (5) AnnDbObj-class.Rd:71-75: \item in \describe must have non-empty label checkRd: (5) AnnDbObj-class.Rd:78-89: \item in \describe must have non-empty label checkRd: (5) AnnDbObj-class.Rd:92-96: \item in \describe must have non-empty label checkRd: (5) Bimap.Rd:79-82: \item in \describe must have non-empty label checkRd: (5) Bimap.Rd:84-87: \item in \describe must have non-empty label checkRd: (-1) inpIDMapper.Rd:91: Escaped LaTeX specials: \# checkRd: (-1) inpIDMapper.Rd:95: Escaped LaTeX specials: \# checkRd: (-1) inpIDMapper.Rd:99: Escaped LaTeX specials: \# * checking Rd metadata ... OK * checking Rd cross-references ... OK * checking for missing documentation entries ... OK * checking for code/documentation mismatches ... OK * checking Rd \usage sections ... OK * checking Rd contents ... OK * checking for unstated dependencies in examples ... OK * checking files in ‘vignettes’ ... OK * checking examples ... OK Examples with CPU (user + system) or elapsed time > 5s user system elapsed AnnDbPkg-checker 38.110 0.452 39.001 organismKEGGFrame 0.181 0.004 5.656 * checking for unstated dependencies in ‘tests’ ... OK * checking tests ... Running ‘AnnotationDbi_unit_tests.R’ OK * checking for unstated dependencies in vignettes ... OK * checking package vignettes in ‘inst/doc’ ... OK * checking running R code from vignettes ... ‘AnnotationDbi.Rnw’ using ‘UTF-8’... OK ‘IntroToAnnotationPackages.Rnw’ using ‘UTF-8’... OK NONE * checking re-building of vignette outputs ... OK * checking PDF version of manual ... OK * DONE Status: 1 WARNING, 3 NOTEs See ‘/home/hpages/bbs-3.18-bioc-testing/meat/AnnotationDbi.Rcheck/00check.log’ for details.
AnnotationDbi.Rcheck/00install.out
############################################################################## ############################################################################## ### ### Running command: ### ### /home/hpages/bbs-3.18-bioc/R/bin/R CMD INSTALL AnnotationDbi ### ############################################################################## ############################################################################## * installing to library ‘/home/hpages/bbs-3.18-bioc-testing/Rlibs’ * installing *source* package ‘AnnotationDbi’ ... ** using staged installation ** R ** inst ** byte-compile and prepare package for lazy loading Creating a new generic function for ‘packageName’ in package ‘AnnotationDbi’ Creating a generic function for ‘ls’ from package ‘base’ in package ‘AnnotationDbi’ Creating a generic function for ‘eapply’ from package ‘base’ in package ‘AnnotationDbi’ Creating a generic function for ‘exists’ from package ‘base’ in package ‘AnnotationDbi’ Creating a generic function for ‘sample’ from package ‘base’ in package ‘AnnotationDbi’ ** help *** installing help indices ** building package indices ** installing vignettes ** testing if installed package can be loaded from temporary location ** testing if installed package can be loaded from final location ** testing if installed package keeps a record of temporary installation path * DONE (AnnotationDbi)
AnnotationDbi.Rcheck/tests/AnnotationDbi_unit_tests.Rout
R version 4.3.0 Patched (2023-05-23 r84466) -- "Already Tomorrow" Copyright (C) 2023 The R Foundation for Statistical Computing Platform: x86_64-pc-linux-gnu (64-bit) R is free software and comes with ABSOLUTELY NO WARRANTY. You are welcome to redistribute it under certain conditions. Type 'license()' or 'licence()' for distribution details. R is a collaborative project with many contributors. Type 'contributors()' for more information and 'citation()' on how to cite R or R packages in publications. Type 'demo()' for some demos, 'help()' for on-line help, or 'help.start()' for an HTML browser interface to help. Type 'q()' to quit R. > require("AnnotationDbi") || stop("unable to load AnnotationDbi package") Loading required package: AnnotationDbi Loading required package: stats4 Loading required package: BiocGenerics Attaching package: 'BiocGenerics' The following objects are masked from 'package:stats': IQR, mad, sd, var, xtabs The following objects are masked from 'package:base': Filter, Find, Map, Position, Reduce, anyDuplicated, aperm, append, as.data.frame, basename, cbind, colnames, dirname, do.call, duplicated, eval, evalq, get, grep, grepl, intersect, is.unsorted, lapply, mapply, match, mget, order, paste, pmax, pmax.int, pmin, pmin.int, rank, rbind, rownames, sapply, setdiff, sort, table, tapply, union, unique, unsplit, which.max, which.min Loading required package: Biobase Welcome to Bioconductor Vignettes contain introductory material; view with 'browseVignettes()'. To cite Bioconductor, see 'citation("Biobase")', and for packages 'citation("pkgname")'. Loading required package: IRanges Loading required package: S4Vectors Attaching package: 'S4Vectors' The following object is masked from 'package:utils': findMatches The following objects are masked from 'package:base': I, expand.grid, unname [1] TRUE > > AnnotationDbi:::.test() Loading required package: org.Hs.eg.db 'select()' returned 1:1 mapping between keys and columns 'select()' returned 1:many mapping between keys and columns 'select()' returned 1:1 mapping between keys and columns 'select()' returned 1:many mapping between keys and columns 'select()' returned 1:many mapping between keys and columns 'select()' returned 1:many mapping between keys and columns 'select()' returned 1:many mapping between keys and columns 'select()' returned 1:many mapping between keys and columns 'select()' returned 1:many mapping between keys and columns 'select()' returned 1:many mapping between keys and columns Loading required package: RSQLite Loading required package: org.At.tair.db Loading required package: org.Sc.sgd.db Loading required package: GO.db Loading required package: hgu95av2.db 'select()' returned many:many mapping between keys and columns 'select()' returned 1:many mapping between keys and columns 'select()' returned 1:1 mapping between keys and columns 'select()' returned 1:1 mapping between keys and columns 'select()' returned many:1 mapping between keys and columns 'select()' returned 1:1 mapping between keys and columns 'select()' returned many:1 mapping between keys and columns 'select()' returned 1:1 mapping between keys and columns 'select()' returned many:1 mapping between keys and columns 'select()' returned 1:many mapping between keys and columns 'select()' returned 1:many mapping between keys and columns 'select()' returned 1:many mapping between keys and columns 'select()' returned 1:many mapping between keys and columns 'select()' returned 1:1 mapping between keys and columns 'select()' returned 1:1 mapping between keys and columns 'select()' returned 1:1 mapping between keys and columns 'select()' returned 1:1 mapping between keys and columns 'select()' returned 1:1 mapping between keys and columns 'select()' returned 1:1 mapping between keys and columns 'select()' returned 1:many mapping between keys and columns 'select()' returned 1:many mapping between keys and columns 'select()' returned 1:many mapping between keys and columns 'select()' returned 1:many mapping between keys and columns 'select()' returned 1:many mapping between keys and columns 'select()' returned 1:1 mapping between keys and columns Warning: You have selected the following columns that can have a many to one relationship with the primary key: ACCNUM, ALIAS, ENSEMBL, ENSEMBLPROT, ENSEMBLTRANS, ENZYME, EVIDENCE, EVIDENCEALL, GO, GOALL, IPI, MAP, OMIM, ONTOLOGY, ONTOLOGYALL, PATH, PFAM, PMID, PROSITE, REFSEQ, UCSCKG, UNIPROT . Because you have selected more than a few such columns there is a risk that this selection may balloon up into a very large result as the number of rows returned multiplies accordingly. To experience smaller/more manageable results and faster retrieval times, you might want to consider selecting these columns separately. 'select()' returned 1:many mapping between keys and columns 'select()' returned 1:1 mapping between keys and columns 'select()' returned 1:many mapping between keys and columns 'select()' returned 1:many mapping between keys and columns 'select()' returned 1:many mapping between keys and columns 'select()' returned 1:1 mapping between keys and columns 'select()' returned many:1 mapping between keys and columns 'select()' returned 1:many mapping between keys and columns 'select()' returned many:1 mapping between keys and columns 'select()' returned 1:1 mapping between keys and columns 'select()' returned many:many mapping between keys and columns 'select()' returned 1:1 mapping between keys and columns 'select()' returned 1:1 mapping between keys and columns 'select()' returned 1:many mapping between keys and columns 'select()' returned 1:1 mapping between keys and columns 'select()' returned 1:1 mapping between keys and columns 'select()' returned 1:1 mapping between keys and columns 'select()' returned 1:many mapping between keys and columns Loading required package: reactome.db 'select()' returned 1:many mapping between keys and columns 'select()' returned 1:1 mapping between keys and columns 'select()' returned 1:1 mapping between keys and columns 'select()' returned 1:many mapping between keys and columns 'select()' returned 1:many mapping between keys and columns RUNIT TEST PROTOCOL -- Thu Jun 1 13:01:07 2023 *********************************************** Number of test functions: 64 Number of errors: 0 Number of failures: 0 1 Test Suite : AnnotationDbi RUnit Tests - 64 test functions, 0 errors, 0 failures Number of test functions: 64 Number of errors: 0 Number of failures: 0 Warning messages: 1: In .local(x, ...) : returned vector has duplicated names 2: In .local(x, ...) : returned vector has duplicated names 3: call dbDisconnect() when finished working with a connection 4: In .deprecatedColsMessage() : Accessing gene location information via 'CHR','CHRLOC','CHRLOCEND' is deprecated. Please use a range based accessor like genes(), or select() with columns values like TXCHROM and TXSTART on a TxDb or OrganismDb object instead. 5: In .deprecatedColsMessage() : Accessing gene location information via 'CHR','CHRLOC','CHRLOCEND' is deprecated. Please use a range based accessor like genes(), or select() with columns values like TXCHROM and TXSTART on a TxDb or OrganismDb object instead. 6: In .deprecatedColsMessage() : Accessing gene location information via 'CHR','CHRLOC','CHRLOCEND' is deprecated. Please use a range based accessor like genes(), or select() with columns values like TXCHROM and TXSTART on a TxDb or OrganismDb object instead. > > proc.time() user system elapsed 60.625 2.319 63.204
AnnotationDbi.Rcheck/AnnotationDbi-Ex.timings
name | user | system | elapsed | |
AnnDbObj-class | 0.384 | 0.060 | 0.444 | |
AnnDbPkg-checker | 38.110 | 0.452 | 39.001 | |
AnnotationDb-class | 1.936 | 0.084 | 2.050 | |
Bimap-direction | 3.566 | 0.308 | 3.890 | |
Bimap-envirAPI | 0.218 | 0.116 | 0.334 | |
Bimap-keys | 0.689 | 0.016 | 0.705 | |
Bimap-toTable | 2.145 | 0.032 | 2.208 | |
Bimap | 1.875 | 0.140 | 2.015 | |
BimapFiltering | 0.110 | 0.004 | 0.113 | |
BimapFormatting | 0.262 | 0.004 | 0.265 | |
GOColsAndKeytypes | 0.132 | 0.008 | 0.140 | |
GOFrame | 1.421 | 0.188 | 1.643 | |
GOTerms-class | 0.001 | 0.000 | 0.000 | |
KEGGFrame | 0.080 | 0.004 | 1.902 | |
colsAndKeytypes | 0.130 | 0.000 | 0.145 | |
createSimpleBimap | 0.061 | 0.000 | 0.060 | |
inpIDMapper | 0 | 0 | 0 | |
makeGOGraph | 0.235 | 0.004 | 0.238 | |
make_eg_to_go_map | 0.103 | 0.008 | 0.111 | |
organismKEGGFrame | 0.181 | 0.004 | 5.656 | |
print.probetable | 0.485 | 0.200 | 0.685 | |
toSQLStringSet | 0 | 0 | 0 | |
unlist2 | 0.161 | 0.004 | 0.165 | |