Back to Mac ARM64 build report for BioC 3.18 |
|
This page was generated on 2024-04-18 11:32:19 -0400 (Thu, 18 Apr 2024).
Hostname | OS | Arch (*) | R version | Installed pkgs |
---|---|---|---|---|
kjohnson1 | macOS 13.6.1 Ventura | arm64 | 4.3.3 (2024-02-29) -- "Angel Food Cake" | 4388 |
Click on any hostname to see more info about the system (e.g. compilers) (*) as reported by 'uname -p', except on Windows and Mac OS X |
Package 2017/2266 | Hostname | OS / Arch | INSTALL | BUILD | CHECK | BUILD BIN | ||||||||
specL 1.36.0 (landing page) Christian Panse
| kjohnson1 | macOS 13.6.1 Ventura / arm64 | OK | OK | OK | OK | ||||||||
To the developers/maintainers of the specL package: - Use the following Renviron settings to reproduce errors and warnings. - If 'R CMD check' started to fail recently on the Linux builder(s) over a missing dependency, add the missing dependency to 'Suggests:' in your DESCRIPTION file. See Renviron.bioc for more information. |
Package: specL |
Version: 1.36.0 |
Command: /Library/Frameworks/R.framework/Resources/bin/R CMD check --install=check:specL.install-out.txt --library=/Library/Frameworks/R.framework/Resources/library --no-vignettes --timings specL_1.36.0.tar.gz |
StartedAt: 2024-04-18 04:55:57 -0400 (Thu, 18 Apr 2024) |
EndedAt: 2024-04-18 04:56:55 -0400 (Thu, 18 Apr 2024) |
EllapsedTime: 58.1 seconds |
RetCode: 0 |
Status: OK |
CheckDir: specL.Rcheck |
Warnings: 0 |
############################################################################## ############################################################################## ### ### Running command: ### ### /Library/Frameworks/R.framework/Resources/bin/R CMD check --install=check:specL.install-out.txt --library=/Library/Frameworks/R.framework/Resources/library --no-vignettes --timings specL_1.36.0.tar.gz ### ############################################################################## ############################################################################## * using log directory ‘/Users/biocbuild/bbs-3.18-bioc-mac-arm64/meat/specL.Rcheck’ * using R version 4.3.3 (2024-02-29) * using platform: aarch64-apple-darwin20 (64-bit) * R was compiled by Apple clang version 14.0.0 (clang-1400.0.29.202) GNU Fortran (GCC) 12.2.0 * running under: macOS Ventura 13.6.1 * using session charset: UTF-8 * using option ‘--no-vignettes’ * checking for file ‘specL/DESCRIPTION’ ... OK * checking extension type ... Package * this is package ‘specL’ version ‘1.36.0’ * checking package namespace information ... OK * checking package dependencies ... OK * checking if this is a source package ... OK * checking if there is a namespace ... OK * checking for hidden files and directories ... OK * checking for portable file names ... OK * checking for sufficient/correct file permissions ... OK * checking whether package ‘specL’ can be installed ... OK * checking installed package size ... OK * checking package directory ... OK * checking ‘build’ directory ... OK * checking DESCRIPTION meta-information ... OK * checking top-level files ... OK * checking for left-over files ... OK * checking index information ... OK * checking package subdirectories ... OK * checking R files for non-ASCII characters ... OK * checking R files for syntax errors ... OK * checking whether the package can be loaded ... OK * checking whether the package can be loaded with stated dependencies ... OK * checking whether the package can be unloaded cleanly ... OK * checking whether the namespace can be loaded with stated dependencies ... OK * checking whether the namespace can be unloaded cleanly ... OK * checking startup messages can be suppressed ... OK * checking dependencies in R code ... OK * checking S3 generic/method consistency ... OK * checking replacement functions ... OK * checking foreign function calls ... OK * checking R code for possible problems ... NOTE .retentiontimePlotFile : <anonymous>: no visible global function definition for ‘head’ summary,specLSet : <anonymous>: no visible binding for global variable ‘iRTpeptides’ Undefined global functions or variables: head iRTpeptides Consider adding importFrom("utils", "head") to your NAMESPACE file. * checking Rd files ... OK * checking Rd metadata ... OK * checking Rd cross-references ... OK * checking for missing documentation entries ... OK * checking for code/documentation mismatches ... OK * checking Rd \usage sections ... OK * checking Rd contents ... OK * checking for unstated dependencies in examples ... OK * checking contents of ‘data’ directory ... OK * checking data for non-ASCII characters ... OK * checking LazyData ... OK * checking data for ASCII and uncompressed saves ... OK * checking files in ‘vignettes’ ... OK * checking examples ... OK * checking for unstated dependencies in ‘tests’ ... OK * checking tests ... Running ‘runTests.R’ OK * checking for unstated dependencies in vignettes ... OK * checking package vignettes in ‘inst/doc’ ... OK * checking running R code from vignettes ... SKIPPED * checking re-building of vignette outputs ... SKIPPED * checking PDF version of manual ... OK * DONE Status: 1 NOTE See ‘/Users/biocbuild/bbs-3.18-bioc-mac-arm64/meat/specL.Rcheck/00check.log’ for details.
specL.Rcheck/00install.out
############################################################################## ############################################################################## ### ### Running command: ### ### /Library/Frameworks/R.framework/Resources/bin/R CMD INSTALL specL ### ############################################################################## ############################################################################## * installing to library ‘/Library/Frameworks/R.framework/Versions/4.3-arm64/Resources/library’ * installing *source* package ‘specL’ ... ** using staged installation ** R ** data *** moving datasets to lazyload DB ** inst ** byte-compile and prepare package for lazy loading ** help *** installing help indices ** building package indices ** installing vignettes ** testing if installed package can be loaded from temporary location ** testing if installed package can be loaded from final location ** testing if installed package keeps a record of temporary installation path * DONE (specL)
specL.Rcheck/tests/runTests.Rout
R version 4.3.3 (2024-02-29) -- "Angel Food Cake" Copyright (C) 2024 The R Foundation for Statistical Computing Platform: aarch64-apple-darwin20 (64-bit) R is free software and comes with ABSOLUTELY NO WARRANTY. You are welcome to redistribute it under certain conditions. Type 'license()' or 'licence()' for distribution details. R is a collaborative project with many contributors. Type 'contributors()' for more information and 'citation()' on how to cite R or R packages in publications. Type 'demo()' for some demos, 'help()' for on-line help, or 'help.start()' for an HTML browser interface to help. Type 'q()' to quit R. > BiocGenerics:::testPackage("specL") Attaching package: 'specL' The following objects are masked from 'package:protViz': plot.psm, plot.psmSet, summary.psmSet start protein annotation ... time taken: 0.0006011168162028 minutes start protein annotation ... time taken: 0.000527934233347575 minutes normalizing RT ... found 7 iRT peptide(s) in s:\p1239\Proteomics\QEXACTIVE_3\ctrachse_20140910_Nuclei_diff_extraction_methods\20140910_01_fetuin_400amol_1.raw found 7 iRT peptide(s) in s:\p1239\Proteomics\QEXACTIVE_3\ctrachse_20140910_Nuclei_diff_extraction_methods\20140910_07_fetuin_400amol_2.raw building model ... generating ion library ... start generating specLSet object ... length of findNN idx 137 length of genSwathIonLibSpecL 137 time taken: 0.2809739112854 secs length of genSwathIonLibSpecL after fragmentIonRange filtering 137 normalizing RT ... found 7 iRT peptide(s) in s:\p1239\Proteomics\QEXACTIVE_3\ctrachse_20140910_Nuclei_diff_extraction_methods\20140910_01_fetuin_400amol_1.raw found 7 iRT peptide(s) in s:\p1239\Proteomics\QEXACTIVE_3\ctrachse_20140910_Nuclei_diff_extraction_methods\20140910_07_fetuin_400amol_2.raw building model ... generating ion library ... start generating specLSet object ... length of findNN idx 137 length of genSwathIonLibSpecL 137 time taken: 0.284243106842041 secs length of genSwathIonLibSpecL after fragmentIonRange filtering 137 normalizing RT ... found 7 iRT peptide(s) in s:\p1239\Proteomics\QEXACTIVE_3\ctrachse_20140910_Nuclei_diff_extraction_methods\20140910_01_fetuin_400amol_1.raw found 7 iRT peptide(s) in s:\p1239\Proteomics\QEXACTIVE_3\ctrachse_20140910_Nuclei_diff_extraction_methods\20140910_07_fetuin_400amol_2.raw building model ... generating ion library ... start generating specLSet object ... length of findNN idx 137 length of genSwathIonLibSpecL 137 time taken: 0.265919923782349 secs length of genSwathIonLibSpecL after fragmentIonRange filtering 137 normalizing RT ... no iRT peptides found for building the model. => no iRT regression applied, using orgiginal rt instead! generating ion library ... start generating specLSet object ... length of findNN idx 137 length of genSwathIonLibSpecL 137 time taken: 0.256240129470825 secs length of genSwathIonLibSpecL after fragmentIonRange filtering 137 normalizing RT ... found 7 iRT peptide(s) in s:\p1239\Proteomics\QEXACTIVE_3\ctrachse_20140910_Nuclei_diff_extraction_methods\20140910_01_fetuin_400amol_1.raw found 7 iRT peptide(s) in s:\p1239\Proteomics\QEXACTIVE_3\ctrachse_20140910_Nuclei_diff_extraction_methods\20140910_07_fetuin_400amol_2.raw building model ... model with only one file. generating ion library ... start generating specLSet object ... length of findNN idx 1 length of genSwathIonLibSpecL 1 time taken: 0.0203158855438232 secs length of genSwathIonLibSpecL after fragmentIonRange filtering 1 normalizing RT ... found 7 iRT peptide(s) in s:\p1239\Proteomics\QEXACTIVE_3\ctrachse_20140910_Nuclei_diff_extraction_methods\20140910_01_fetuin_400amol_1.raw found 7 iRT peptide(s) in s:\p1239\Proteomics\QEXACTIVE_3\ctrachse_20140910_Nuclei_diff_extraction_methods\20140910_07_fetuin_400amol_2.raw building model ... model with only one file. generating ion library ... start generating specLSet object ... length of findNN idx 1 length of genSwathIonLibSpecL 1 time taken: 0.019298791885376 secs length of genSwathIonLibSpecL after fragmentIonRange filtering 1 normalizing RT ... found 7 iRT peptide(s) in s:\p1239\Proteomics\QEXACTIVE_3\ctrachse_20140910_Nuclei_diff_extraction_methods\20140910_01_fetuin_400amol_1.raw found 7 iRT peptide(s) in s:\p1239\Proteomics\QEXACTIVE_3\ctrachse_20140910_Nuclei_diff_extraction_methods\20140910_07_fetuin_400amol_2.raw building model ... generating ion library ... start generating specLSet object ... length of findNN idx 137 length of genSwathIonLibSpecL 137 time taken: 0.208225965499878 secs length of genSwathIonLibSpecL after fragmentIonRange filtering 137 normalizing RT ... no iRT peptides found for building the model. => no iRT regression applied, using orgiginal rt instead! generating ion library ... start generating specLSet object ... length of findNN idx 137 length of genSwathIonLibSpecL 137 time taken: 0.276549100875854 secs length of genSwathIonLibSpecL after fragmentIonRange filtering 137 normalizing RT ... found 7 iRT peptide(s) in s:\p1239\Proteomics\QEXACTIVE_3\ctrachse_20140910_Nuclei_diff_extraction_methods\20140910_01_fetuin_400amol_1.raw found 7 iRT peptide(s) in s:\p1239\Proteomics\QEXACTIVE_3\ctrachse_20140910_Nuclei_diff_extraction_methods\20140910_07_fetuin_400amol_2.raw building model ... model with only one file. generating ion library ... start generating specLSet object ... length of findNN idx 1 length of genSwathIonLibSpecL 1 time taken: 0.0223209857940674 secs length of genSwathIonLibSpecL after fragmentIonRange filtering 1 normalizing RT ... found 7 iRT peptide(s) in s:\p1239\Proteomics\QEXACTIVE_3\ctrachse_20140910_Nuclei_diff_extraction_methods\20140910_01_fetuin_400amol_1.raw found 7 iRT peptide(s) in s:\p1239\Proteomics\QEXACTIVE_3\ctrachse_20140910_Nuclei_diff_extraction_methods\20140910_07_fetuin_400amol_2.raw building model ... model with only one file. generating ion library ... start generating specLSet object ... length of findNN idx 1 length of genSwathIonLibSpecL 1 time taken: 0.0283019542694092 secs length of genSwathIonLibSpecL after fragmentIonRange filtering 1 normalizing RT ... found 7 iRT peptide(s) in s:\p1239\Proteomics\QEXACTIVE_3\ctrachse_20140910_Nuclei_diff_extraction_methods\20140910_01_fetuin_400amol_1.raw found 7 iRT peptide(s) in s:\p1239\Proteomics\QEXACTIVE_3\ctrachse_20140910_Nuclei_diff_extraction_methods\20140910_07_fetuin_400amol_2.raw building model ... generating ion library ... start generating specLSet object ... length of findNN idx 69 length of genSwathIonLibSpecL 69 time taken: 0.170037984848022 secs length of genSwathIonLibSpecL after fragmentIonRange filtering 69 normalizing RT ... found 7 iRT peptide(s) in s:\p1239\Proteomics\QEXACTIVE_3\ctrachse_20140910_Nuclei_diff_extraction_methods\20140910_01_fetuin_400amol_1.raw found 7 iRT peptide(s) in s:\p1239\Proteomics\QEXACTIVE_3\ctrachse_20140910_Nuclei_diff_extraction_methods\20140910_07_fetuin_400amol_2.raw building model ... generating ion library ... start generating specLSet object ... length of findNN idx 68 length of genSwathIonLibSpecL 68 time taken: 0.163676023483276 secs length of genSwathIonLibSpecL after fragmentIonRange filtering 68 normalizing RT ... found 7 iRT peptide(s) in s:\p1239\Proteomics\QEXACTIVE_3\ctrachse_20140910_Nuclei_diff_extraction_methods\20140910_01_fetuin_400amol_1.raw found 7 iRT peptide(s) in s:\p1239\Proteomics\QEXACTIVE_3\ctrachse_20140910_Nuclei_diff_extraction_methods\20140910_07_fetuin_400amol_2.raw building model ... generating ion library ... start generating specLSet object ... length of findNN idx 137 length of genSwathIonLibSpecL 137 time taken: 0.282510995864868 secs length of genSwathIonLibSpecL after fragmentIonRange filtering 137 normalizing RT ... found 7 iRT peptide(s) in s:\p1239\Proteomics\QEXACTIVE_3\ctrachse_20140910_Nuclei_diff_extraction_methods\20140910_01_fetuin_400amol_1.raw found 7 iRT peptide(s) in s:\p1239\Proteomics\QEXACTIVE_3\ctrachse_20140910_Nuclei_diff_extraction_methods\20140910_07_fetuin_400amol_2.raw building model ... generating ion library ... start generating specLSet object ... length of findNN idx 69 length of genSwathIonLibSpecL 69 time taken: 0.144057035446167 secs length of genSwathIonLibSpecL after fragmentIonRange filtering 69 normalizing RT ... found 7 iRT peptide(s) in s:\p1239\Proteomics\QEXACTIVE_3\ctrachse_20140910_Nuclei_diff_extraction_methods\20140910_01_fetuin_400amol_1.raw found 7 iRT peptide(s) in s:\p1239\Proteomics\QEXACTIVE_3\ctrachse_20140910_Nuclei_diff_extraction_methods\20140910_07_fetuin_400amol_2.raw building model ... generating ion library ... start generating specLSet object ... length of findNN idx 68 length of genSwathIonLibSpecL 68 time taken: 0.161318063735962 secs length of genSwathIonLibSpecL after fragmentIonRange filtering 68 normalizing RT ... found 7 iRT peptide(s) in s:\p1239\Proteomics\QEXACTIVE_3\ctrachse_20140910_Nuclei_diff_extraction_methods\20140910_01_fetuin_400amol_1.raw found 7 iRT peptide(s) in s:\p1239\Proteomics\QEXACTIVE_3\ctrachse_20140910_Nuclei_diff_extraction_methods\20140910_07_fetuin_400amol_2.raw building model ... generating ion library ... start generating specLSet object ... length of findNN idx 137 length of genSwathIonLibSpecL 137 time taken: 0.28261399269104 secs length of genSwathIonLibSpecL after fragmentIonRange filtering 137 fetched 137 rows. assigning 28 modifications ... fetched 184 rows. assigning 37 modifications ... normalizing RT ... found 7 iRT peptide(s) in s:\p1239\Proteomics\QEXACTIVE_3\ctrachse_20140910_Nuclei_diff_extraction_methods\20140910_01_fetuin_400amol_1.raw found 7 iRT peptide(s) in s:\p1239\Proteomics\QEXACTIVE_3\ctrachse_20140910_Nuclei_diff_extraction_methods\20140910_07_fetuin_400amol_2.raw building model ... generating ion library ... start generating specLSet object ... length of findNN idx 137 length of genSwathIonLibSpecL 137 time taken: 0.221050977706909 secs length of genSwathIonLibSpecL after fragmentIonRange filtering 137 fetched 137 rows. assigning 28 modifications ... fetched 184 rows. assigning 37 modifications ... normalizing RT ... found 7 iRT peptide(s) in s:\p1239\Proteomics\QEXACTIVE_3\ctrachse_20140910_Nuclei_diff_extraction_methods\20140910_01_fetuin_400amol_1.raw found 7 iRT peptide(s) in s:\p1239\Proteomics\QEXACTIVE_3\ctrachse_20140910_Nuclei_diff_extraction_methods\20140910_07_fetuin_400amol_2.raw building model ... generating ion library ... start generating specLSet object ... length of findNN idx 137 length of genSwathIonLibSpecL 137 time taken: 0.221507787704468 secs length of genSwathIonLibSpecL after fragmentIonRange filtering 137 RUNIT TEST PROTOCOL -- Thu Apr 18 04:56:46 2024 *********************************************** Number of test functions: 9 Number of errors: 0 Number of failures: 0 1 Test Suite : specL RUnit Tests - 9 test functions, 0 errors, 0 failures Number of test functions: 9 Number of errors: 0 Number of failures: 0 There were 13 warnings (use warnings() to see them) > > > proc.time() user system elapsed 5.662 0.389 6.384
specL.Rcheck/specL-Ex.timings
name | user | system | elapsed | |
annotate.protein_id | 0.028 | 0.017 | 0.052 | |
cdsw | 0.029 | 0.003 | 0.034 | |
genSwathIonLib | 0.395 | 0.025 | 0.439 | |
iRTpeptides | 0.004 | 0.002 | 0.008 | |
peptideStd | 0.007 | 0.003 | 0.010 | |
read.bibliospec | 0.001 | 0.000 | 0.002 | |
specL-class | 0.002 | 0.001 | 0.002 | |
specLSet-class | 0.001 | 0.001 | 0.001 | |