| Back to Mac ARM64 build report for BioC 3.18 | 
 | 
This page was generated on 2024-04-18 11:32:18 -0400 (Thu, 18 Apr 2024).
| Hostname | OS | Arch (*) | R version | Installed pkgs | 
|---|---|---|---|---|
| kjohnson1 | macOS 13.6.1 Ventura | arm64 | 4.3.3 (2024-02-29) -- "Angel Food Cake" | 4388 | 
| Click on any hostname to see more info about the system (e.g. compilers) (*) as reported by 'uname -p', except on Windows and Mac OS X | ||||
| Package 1873/2266 | Hostname | OS / Arch | INSTALL | BUILD | CHECK | BUILD BIN | ||||||||
| scFeatureFilter 1.22.0  (landing page) Guillaume Devailly 
 | kjohnson1 | macOS 13.6.1 Ventura / arm64 | OK | OK | OK | OK |  | |||||||
| To the developers/maintainers of the scFeatureFilter package: - Use the following Renviron settings to reproduce errors and warnings. - If 'R CMD check' started to fail recently on the Linux builder(s) over a missing dependency, add the missing dependency to 'Suggests:' in your DESCRIPTION file. See Renviron.bioc for more information. | 
| Package: scFeatureFilter | 
| Version: 1.22.0 | 
| Command: /Library/Frameworks/R.framework/Resources/bin/R CMD check --install=check:scFeatureFilter.install-out.txt --library=/Library/Frameworks/R.framework/Resources/library --no-vignettes --timings scFeatureFilter_1.22.0.tar.gz | 
| StartedAt: 2024-04-18 02:54:35 -0400 (Thu, 18 Apr 2024) | 
| EndedAt: 2024-04-18 02:56:53 -0400 (Thu, 18 Apr 2024) | 
| EllapsedTime: 138.6 seconds | 
| RetCode: 0 | 
| Status: OK | 
| CheckDir: scFeatureFilter.Rcheck | 
| Warnings: 0 | 
##############################################################################
##############################################################################
###
### Running command:
###
###   /Library/Frameworks/R.framework/Resources/bin/R CMD check --install=check:scFeatureFilter.install-out.txt --library=/Library/Frameworks/R.framework/Resources/library --no-vignettes --timings scFeatureFilter_1.22.0.tar.gz
###
##############################################################################
##############################################################################
* using log directory ‘/Users/biocbuild/bbs-3.18-bioc-mac-arm64/meat/scFeatureFilter.Rcheck’
* using R version 4.3.3 (2024-02-29)
* using platform: aarch64-apple-darwin20 (64-bit)
* R was compiled by
    Apple clang version 14.0.0 (clang-1400.0.29.202)
    GNU Fortran (GCC) 12.2.0
* running under: macOS Ventura 13.6.1
* using session charset: UTF-8
* using option ‘--no-vignettes’
* checking for file ‘scFeatureFilter/DESCRIPTION’ ... OK
* checking extension type ... Package
* this is package ‘scFeatureFilter’ version ‘1.22.0’
* checking package namespace information ... OK
* checking package dependencies ... OK
* checking if this is a source package ... OK
* checking if there is a namespace ... OK
* checking for hidden files and directories ... OK
* checking for portable file names ... OK
* checking for sufficient/correct file permissions ... OK
* checking whether package ‘scFeatureFilter’ can be installed ... OK
* checking installed package size ... OK
* checking package directory ... OK
* checking ‘build’ directory ... OK
* checking DESCRIPTION meta-information ... OK
* checking top-level files ... OK
* checking for left-over files ... OK
* checking index information ... OK
* checking package subdirectories ... NOTE
Problems with news in ‘NEWS’:
  Cannot process chunk/lines:
    2019-12-06: The vignette is no longer failing
* checking R files for non-ASCII characters ... OK
* checking R files for syntax errors ... OK
* checking whether the package can be loaded ... OK
* checking whether the package can be loaded with stated dependencies ... OK
* checking whether the package can be unloaded cleanly ... OK
* checking whether the namespace can be loaded with stated dependencies ... OK
* checking whether the namespace can be unloaded cleanly ... OK
* checking dependencies in R code ... OK
* checking S3 generic/method consistency ... OK
* checking replacement functions ... OK
* checking foreign function calls ... OK
* checking R code for possible problems ... OK
* checking Rd files ... OK
* checking Rd metadata ... OK
* checking Rd cross-references ... OK
* checking for missing documentation entries ... OK
* checking for code/documentation mismatches ... OK
* checking Rd \usage sections ... OK
* checking Rd contents ... OK
* checking for unstated dependencies in examples ... OK
* checking contents of ‘data’ directory ... OK
* checking data for non-ASCII characters ... OK
* checking LazyData ... OK
* checking data for ASCII and uncompressed saves ... OK
* checking files in ‘vignettes’ ... OK
* checking examples ... OK
Examples with CPU (user + system) or elapsed time > 5s
                                  user system elapsed
plot_correlations_distributions 16.743  1.235  19.486
bin_scdata                       9.208  0.299  11.263
plot_metric                      7.239  0.792   8.763
sc_feature_filter                6.006  0.793   7.500
* checking for unstated dependencies in ‘tests’ ... OK
* checking tests ...
  Running ‘runTests.R’
  Running ‘testthat.R’
 OK
* checking for unstated dependencies in vignettes ... OK
* checking package vignettes in ‘inst/doc’ ... OK
* checking running R code from vignettes ... SKIPPED
* checking re-building of vignette outputs ... SKIPPED
* checking PDF version of manual ... OK
* DONE
Status: 1 NOTE
See
  ‘/Users/biocbuild/bbs-3.18-bioc-mac-arm64/meat/scFeatureFilter.Rcheck/00check.log’
for details.
scFeatureFilter.Rcheck/00install.out
############################################################################## ############################################################################## ### ### Running command: ### ### /Library/Frameworks/R.framework/Resources/bin/R CMD INSTALL scFeatureFilter ### ############################################################################## ############################################################################## * installing to library ‘/Library/Frameworks/R.framework/Versions/4.3-arm64/Resources/library’ * installing *source* package ‘scFeatureFilter’ ... ** using staged installation ** R ** data *** moving datasets to lazyload DB ** inst ** byte-compile and prepare package for lazy loading ** help *** installing help indices ** building package indices ** installing vignettes ** testing if installed package can be loaded from temporary location ** testing if installed package can be loaded from final location ** testing if installed package keeps a record of temporary installation path * DONE (scFeatureFilter)
scFeatureFilter.Rcheck/tests/runTests.Rout
R version 4.3.3 (2024-02-29) -- "Angel Food Cake"
Copyright (C) 2024 The R Foundation for Statistical Computing
Platform: aarch64-apple-darwin20 (64-bit)
R is free software and comes with ABSOLUTELY NO WARRANTY.
You are welcome to redistribute it under certain conditions.
Type 'license()' or 'licence()' for distribution details.
R is a collaborative project with many contributors.
Type 'contributors()' for more information and
'citation()' on how to cite R or R packages in publications.
Type 'demo()' for some demos, 'help()' for on-line help, or
'help.start()' for an HTML browser interface to help.
Type 'q()' to quit R.
> library(testthat)
> library(dplyr)
Attaching package: 'dplyr'
The following object is masked from 'package:testthat':
    matches
The following objects are masked from 'package:stats':
    filter, lag
The following objects are masked from 'package:base':
    intersect, setdiff, setequal, union
> library(scFeatureFilter)
> 
> test_check("scFeatureFilter")
[ FAIL 0 | WARN 0 | SKIP 0 | PASS 34 ]
> 
> proc.time()
   user  system elapsed 
 11.020   0.511  12.304 
scFeatureFilter.Rcheck/tests/testthat.Rout
R version 4.3.3 (2024-02-29) -- "Angel Food Cake"
Copyright (C) 2024 The R Foundation for Statistical Computing
Platform: aarch64-apple-darwin20 (64-bit)
R is free software and comes with ABSOLUTELY NO WARRANTY.
You are welcome to redistribute it under certain conditions.
Type 'license()' or 'licence()' for distribution details.
R is a collaborative project with many contributors.
Type 'contributors()' for more information and
'citation()' on how to cite R or R packages in publications.
Type 'demo()' for some demos, 'help()' for on-line help, or
'help.start()' for an HTML browser interface to help.
Type 'q()' to quit R.
> library(testthat)
> library(dplyr)
Attaching package: 'dplyr'
The following object is masked from 'package:testthat':
    matches
The following objects are masked from 'package:stats':
    filter, lag
The following objects are masked from 'package:base':
    intersect, setdiff, setequal, union
> library(scFeatureFilter)
> 
> test_check("scFeatureFilter")
[ FAIL 0 | WARN 0 | SKIP 0 | PASS 34 ]
> 
> proc.time()
   user  system elapsed 
 10.543   0.507  11.918 
scFeatureFilter.Rcheck/scFeatureFilter-Ex.timings
| name | user | system | elapsed | |
| bin_scdata | 9.208 | 0.299 | 11.263 | |
| calculate_cvs | 0.058 | 0.003 | 0.063 | |
| correlate_windows | 0.085 | 0.010 | 0.097 | |
| correlations_to_densities | 0.136 | 0.005 | 0.146 | |
| define_top_genes | 0.133 | 0.011 | 0.149 | |
| determine_bin_cutoff | 0.040 | 0.003 | 0.046 | |
| filter_expression_table | 0.117 | 0.011 | 0.145 | |
| get_mean_median | 0.075 | 0.007 | 0.085 | |
| plot_correlations_distributions | 16.743 | 1.235 | 19.486 | |
| plot_mean_variance | 4.228 | 0.183 | 4.849 | |
| plot_metric | 7.239 | 0.792 | 8.763 | |
| plot_top_window_autocor | 0.966 | 0.242 | 1.339 | |
| sc_feature_filter | 6.006 | 0.793 | 7.500 | |