| Back to Mac ARM64 build report for BioC 3.18 |
|
This page was generated on 2024-04-18 11:32:18 -0400 (Thu, 18 Apr 2024).
| Hostname | OS | Arch (*) | R version | Installed pkgs |
|---|---|---|---|---|
| kjohnson1 | macOS 13.6.1 Ventura | arm64 | 4.3.3 (2024-02-29) -- "Angel Food Cake" | 4388 |
| Click on any hostname to see more info about the system (e.g. compilers) (*) as reported by 'uname -p', except on Windows and Mac OS X | ||||
| Package 1870/2266 | Hostname | OS / Arch | INSTALL | BUILD | CHECK | BUILD BIN | ||||||||
| scDesign3 1.0.1 (landing page) Dongyuan Song
| kjohnson1 | macOS 13.6.1 Ventura / arm64 | OK | OK | OK | OK | ||||||||
|
To the developers/maintainers of the scDesign3 package: - Use the following Renviron settings to reproduce errors and warnings. - If 'R CMD check' started to fail recently on the Linux builder(s) over a missing dependency, add the missing dependency to 'Suggests:' in your DESCRIPTION file. See Renviron.bioc for more information. |
| Package: scDesign3 |
| Version: 1.0.1 |
| Command: /Library/Frameworks/R.framework/Resources/bin/R CMD check --install=check:scDesign3.install-out.txt --library=/Library/Frameworks/R.framework/Resources/library --no-vignettes --timings scDesign3_1.0.1.tar.gz |
| StartedAt: 2024-04-18 02:51:51 -0400 (Thu, 18 Apr 2024) |
| EndedAt: 2024-04-18 02:55:59 -0400 (Thu, 18 Apr 2024) |
| EllapsedTime: 248.0 seconds |
| RetCode: 0 |
| Status: OK |
| CheckDir: scDesign3.Rcheck |
| Warnings: 0 |
##############################################################################
##############################################################################
###
### Running command:
###
### /Library/Frameworks/R.framework/Resources/bin/R CMD check --install=check:scDesign3.install-out.txt --library=/Library/Frameworks/R.framework/Resources/library --no-vignettes --timings scDesign3_1.0.1.tar.gz
###
##############################################################################
##############################################################################
* using log directory ‘/Users/biocbuild/bbs-3.18-bioc-mac-arm64/meat/scDesign3.Rcheck’
* using R version 4.3.3 (2024-02-29)
* using platform: aarch64-apple-darwin20 (64-bit)
* R was compiled by
Apple clang version 14.0.0 (clang-1400.0.29.202)
GNU Fortran (GCC) 12.2.0
* running under: macOS Ventura 13.6.1
* using session charset: UTF-8
* using option ‘--no-vignettes’
* checking for file ‘scDesign3/DESCRIPTION’ ... OK
* checking extension type ... Package
* this is package ‘scDesign3’ version ‘1.0.1’
* package encoding: UTF-8
* checking package namespace information ... OK
* checking package dependencies ... OK
* checking if this is a source package ... OK
* checking if there is a namespace ... OK
* checking for hidden files and directories ... OK
* checking for portable file names ... OK
* checking for sufficient/correct file permissions ... OK
* checking whether package ‘scDesign3’ can be installed ... OK
* checking installed package size ... OK
* checking package directory ... OK
* checking ‘build’ directory ... OK
* checking DESCRIPTION meta-information ... OK
* checking top-level files ... OK
* checking for left-over files ... OK
* checking index information ... OK
* checking package subdirectories ... OK
* checking R files for non-ASCII characters ... OK
* checking R files for syntax errors ... OK
* checking whether the package can be loaded ... OK
* checking whether the package can be loaded with stated dependencies ... OK
* checking whether the package can be unloaded cleanly ... OK
* checking whether the namespace can be loaded with stated dependencies ... OK
* checking whether the namespace can be unloaded cleanly ... OK
* checking dependencies in R code ... OK
* checking S3 generic/method consistency ... OK
* checking replacement functions ... OK
* checking foreign function calls ... OK
* checking R code for possible problems ... OK
* checking Rd files ... OK
* checking Rd metadata ... OK
* checking Rd cross-references ... OK
* checking for missing documentation entries ... OK
* checking for code/documentation mismatches ... OK
* checking Rd \usage sections ... OK
* checking Rd contents ... OK
* checking for unstated dependencies in examples ... OK
* checking contents of ‘data’ directory ... OK
* checking data for non-ASCII characters ... OK
* checking data for ASCII and uncompressed saves ... OK
* checking files in ‘vignettes’ ... OK
* checking examples ... OK
Examples with CPU (user + system) or elapsed time > 5s
user system elapsed
scdesign3 95.786 4.396 62.281
construct_data 7.910 0.266 10.047
* checking for unstated dependencies in ‘tests’ ... OK
* checking tests ...
Running ‘testthat.R’
OK
* checking for unstated dependencies in vignettes ... OK
* checking package vignettes in ‘inst/doc’ ... OK
* checking running R code from vignettes ... SKIPPED
* checking re-building of vignette outputs ... SKIPPED
* checking PDF version of manual ... OK
* DONE
Status: OK
scDesign3.Rcheck/00install.out
############################################################################## ############################################################################## ### ### Running command: ### ### /Library/Frameworks/R.framework/Resources/bin/R CMD INSTALL scDesign3 ### ############################################################################## ############################################################################## * installing to library ‘/Library/Frameworks/R.framework/Versions/4.3-arm64/Resources/library’ * installing *source* package ‘scDesign3’ ... ** using staged installation ** R ** data ** inst ** byte-compile and prepare package for lazy loading ** help *** installing help indices *** copying figures ** building package indices ** installing vignettes ** testing if installed package can be loaded from temporary location ** testing if installed package can be loaded from final location ** testing if installed package keeps a record of temporary installation path * DONE (scDesign3)
scDesign3.Rcheck/tests/testthat.Rout
R version 4.3.3 (2024-02-29) -- "Angel Food Cake"
Copyright (C) 2024 The R Foundation for Statistical Computing
Platform: aarch64-apple-darwin20 (64-bit)
R is free software and comes with ABSOLUTELY NO WARRANTY.
You are welcome to redistribute it under certain conditions.
Type 'license()' or 'licence()' for distribution details.
R is a collaborative project with many contributors.
Type 'contributors()' for more information and
'citation()' on how to cite R or R packages in publications.
Type 'demo()' for some demos, 'help()' for on-line help, or
'help.start()' for an HTML browser interface to help.
Type 'q()' to quit R.
> library(testthat)
> library(scDesign3)
>
> test_check("scDesign3")
Loading required package: SingleCellExperiment
Loading required package: SummarizedExperiment
Loading required package: MatrixGenerics
Loading required package: matrixStats
Attaching package: 'MatrixGenerics'
The following objects are masked from 'package:matrixStats':
colAlls, colAnyNAs, colAnys, colAvgsPerRowSet, colCollapse,
colCounts, colCummaxs, colCummins, colCumprods, colCumsums,
colDiffs, colIQRDiffs, colIQRs, colLogSumExps, colMadDiffs,
colMads, colMaxs, colMeans2, colMedians, colMins, colOrderStats,
colProds, colQuantiles, colRanges, colRanks, colSdDiffs, colSds,
colSums2, colTabulates, colVarDiffs, colVars, colWeightedMads,
colWeightedMeans, colWeightedMedians, colWeightedSds,
colWeightedVars, rowAlls, rowAnyNAs, rowAnys, rowAvgsPerColSet,
rowCollapse, rowCounts, rowCummaxs, rowCummins, rowCumprods,
rowCumsums, rowDiffs, rowIQRDiffs, rowIQRs, rowLogSumExps,
rowMadDiffs, rowMads, rowMaxs, rowMeans2, rowMedians, rowMins,
rowOrderStats, rowProds, rowQuantiles, rowRanges, rowRanks,
rowSdDiffs, rowSds, rowSums2, rowTabulates, rowVarDiffs, rowVars,
rowWeightedMads, rowWeightedMeans, rowWeightedMedians,
rowWeightedSds, rowWeightedVars
Loading required package: GenomicRanges
Loading required package: stats4
Loading required package: BiocGenerics
Attaching package: 'BiocGenerics'
The following objects are masked from 'package:stats':
IQR, mad, sd, var, xtabs
The following objects are masked from 'package:base':
Filter, Find, Map, Position, Reduce, anyDuplicated, aperm, append,
as.data.frame, basename, cbind, colnames, dirname, do.call,
duplicated, eval, evalq, get, grep, grepl, intersect, is.unsorted,
lapply, mapply, match, mget, order, paste, pmax, pmax.int, pmin,
pmin.int, rank, rbind, rownames, sapply, setdiff, sort, table,
tapply, union, unique, unsplit, which.max, which.min
Loading required package: S4Vectors
Attaching package: 'S4Vectors'
The following object is masked from 'package:utils':
findMatches
The following objects are masked from 'package:base':
I, expand.grid, unname
Loading required package: IRanges
Loading required package: GenomeInfoDb
Loading required package: Biobase
Welcome to Bioconductor
Vignettes contain introductory material; view with
'browseVignettes()'. To cite Bioconductor, see
'citation("Biobase")', and for packages 'citation("pkgname")'.
Attaching package: 'Biobase'
The following object is masked from 'package:MatrixGenerics':
rowMedians
The following objects are masked from 'package:matrixStats':
anyMissing, rowMedians
Convert Residuals to Uniform
Converting End
Copula group embryonic day 3 starts
Vine Copula Estimation Starts
Time difference of 0.191678 secs
Vine Copula Estimation Ends
Copula group embryonic day 4 starts
Vine Copula Estimation Starts
Time difference of 0.03824806 secs
Vine Copula Estimation Ends
Copula group embryonic day 5 starts
Vine Copula Estimation Starts
Time difference of 0.06515121 secs
Vine Copula Estimation Ends
Copula group embryonic day 6 starts
Vine Copula Estimation Starts
Time difference of 0.07299089 secs
Vine Copula Estimation Ends
Copula group embryonic day 7 starts
Vine Copula Estimation Starts
Time difference of 0.08590198 secs
Vine Copula Estimation Ends
Use the empirical quantile matrices from the original data; do not fit copula. This will make the result FIXED.
Empirical quantile group embryonic day 3 starts
Empirical quantile group embryonic day 4 starts
Empirical quantile group embryonic day 5 starts
Empirical quantile group embryonic day 6 starts
Empirical quantile group embryonic day 7 starts
Use Copula to sample a multivariate quantile matrix
Sample Copula group embryonic day 3 starts
Sample Copula group embryonic day 4 starts
Sample Copula group embryonic day 5 starts
Sample Copula group embryonic day 6 starts
Sample Copula group embryonic day 7 starts
Multivariate quantile matrix is provided
Input Data Construction Start
Input Data Construction End
Start Marginal Fitting
Marginal Fitting End
Start Copula Fitting
Convert Residuals to Uniform
Converting End
Copula group 1 starts
Vine Copula Estimation Starts
Time difference of 0.04079199 secs
Vine Copula Estimation Ends
Copula group 2 starts
Vine Copula Estimation Starts
Time difference of 0.04908419 secs
Vine Copula Estimation Ends
Copula group 3 starts
Vine Copula Estimation Starts
Time difference of 0.06576681 secs
Vine Copula Estimation Ends
Copula group 4 starts
Vine Copula Estimation Starts
Time difference of 0.0250411 secs
Vine Copula Estimation Ends
Copula Fitting End
Start Parameter Extraction
Parameter
Extraction End
Start Generate New Data
Use Copula to sample a multivariate quantile matrix
Sample Copula group 1 starts
Sample Copula group 2 starts
Sample Copula group 3 starts
Sample Copula group 4 starts
New Data Generating End
[ FAIL 0 | WARN 8 | SKIP 1 | PASS 0 ]
══ Skipped tests (1) ═══════════════════════════════════════════════════════════
• empty test (1): 'test-scDesign3.R:4:1'
[ FAIL 0 | WARN 8 | SKIP 1 | PASS 0 ]
>
> proc.time()
user system elapsed
59.817 4.286 71.431
scDesign3.Rcheck/scDesign3-Ex.timings
| name | user | system | elapsed | |
| ba | 0.000 | 0.000 | 0.001 | |
| construct_data | 7.910 | 0.266 | 10.047 | |
| extract_para | 2.996 | 0.114 | 3.896 | |
| fit_copula | 1.746 | 0.060 | 1.879 | |
| fit_marginal | 1.153 | 0.036 | 1.606 | |
| ga | 0 | 0 | 0 | |
| gamlss.ba | 0 | 0 | 0 | |
| gamlss.ga | 0 | 0 | 0 | |
| perform_lrt | 3.116 | 0.389 | 4.212 | |
| scdesign3 | 95.786 | 4.396 | 62.281 | |
| simu_new | 2.181 | 0.250 | 3.137 | |