Back to Mac ARM64 build report for BioC 3.18 |
|
This page was generated on 2024-04-18 11:32:16 -0400 (Thu, 18 Apr 2024).
Hostname | OS | Arch (*) | R version | Installed pkgs |
---|---|---|---|---|
kjohnson1 | macOS 13.6.1 Ventura | arm64 | 4.3.3 (2024-02-29) -- "Angel Food Cake" | 4388 |
Click on any hostname to see more info about the system (e.g. compilers) (*) as reported by 'uname -p', except on Windows and Mac OS X |
Package 1627/2266 | Hostname | OS / Arch | INSTALL | BUILD | CHECK | BUILD BIN | ||||||||
qPLEXanalyzer 1.20.0 (landing page) Ashley Sawle
| kjohnson1 | macOS 13.6.1 Ventura / arm64 | OK | OK | OK | OK | ||||||||
To the developers/maintainers of the qPLEXanalyzer package: - Use the following Renviron settings to reproduce errors and warnings. - If 'R CMD check' started to fail recently on the Linux builder(s) over a missing dependency, add the missing dependency to 'Suggests:' in your DESCRIPTION file. See Renviron.bioc for more information. |
Package: qPLEXanalyzer |
Version: 1.20.0 |
Command: /Library/Frameworks/R.framework/Resources/bin/R CMD check --install=check:qPLEXanalyzer.install-out.txt --library=/Library/Frameworks/R.framework/Resources/library --no-vignettes --timings qPLEXanalyzer_1.20.0.tar.gz |
StartedAt: 2024-04-18 00:02:49 -0400 (Thu, 18 Apr 2024) |
EndedAt: 2024-04-18 00:07:15 -0400 (Thu, 18 Apr 2024) |
EllapsedTime: 265.8 seconds |
RetCode: 0 |
Status: OK |
CheckDir: qPLEXanalyzer.Rcheck |
Warnings: 0 |
############################################################################## ############################################################################## ### ### Running command: ### ### /Library/Frameworks/R.framework/Resources/bin/R CMD check --install=check:qPLEXanalyzer.install-out.txt --library=/Library/Frameworks/R.framework/Resources/library --no-vignettes --timings qPLEXanalyzer_1.20.0.tar.gz ### ############################################################################## ############################################################################## * using log directory ‘/Users/biocbuild/bbs-3.18-bioc-mac-arm64/meat/qPLEXanalyzer.Rcheck’ * using R version 4.3.3 (2024-02-29) * using platform: aarch64-apple-darwin20 (64-bit) * R was compiled by Apple clang version 14.0.0 (clang-1400.0.29.202) GNU Fortran (GCC) 12.2.0 * running under: macOS Ventura 13.6.1 * using session charset: UTF-8 * using option ‘--no-vignettes’ * checking for file ‘qPLEXanalyzer/DESCRIPTION’ ... OK * checking extension type ... Package * this is package ‘qPLEXanalyzer’ version ‘1.20.0’ * package encoding: UTF-8 * checking package namespace information ... OK * checking package dependencies ... OK * checking if this is a source package ... OK * checking if there is a namespace ... OK * checking for hidden files and directories ... OK * checking for portable file names ... OK * checking for sufficient/correct file permissions ... OK * checking whether package ‘qPLEXanalyzer’ can be installed ... OK * checking installed package size ... OK * checking package directory ... OK * checking ‘build’ directory ... OK * checking DESCRIPTION meta-information ... OK * checking top-level files ... OK * checking for left-over files ... OK * checking index information ... OK * checking package subdirectories ... NOTE Problems with news in ‘NEWS’: Cannot process chunk/lines: Updates to vignette to avoid build errors when attempting to connect to Uniprot * checking R files for non-ASCII characters ... OK * checking R files for syntax errors ... OK * checking whether the package can be loaded ... OK * checking whether the package can be loaded with stated dependencies ... OK * checking whether the package can be unloaded cleanly ... OK * checking whether the namespace can be loaded with stated dependencies ... OK * checking whether the namespace can be unloaded cleanly ... OK * checking dependencies in R code ... OK * checking S3 generic/method consistency ... OK * checking replacement functions ... OK * checking foreign function calls ... OK * checking R code for possible problems ... NOTE convertToMSnset: no visible binding for global variable ‘SampleName’ corrPlot: no visible binding for global variable ‘X’ corrPlot: no visible binding for global variable ‘AddValues’ corrPlot: no visible binding for global variable ‘Cor’ corrPlot: no visible binding for global variable ‘Y’ corrPlot: no visible binding for global variable ‘CorTxt’ coveragePlot: no visible binding for global variable ‘Accessions’ coveragePlot: no visible binding for global variable ‘Sequences’ getContrastResults: no visible binding for global variable ‘B’ getContrastResults: no visible binding for global variable ‘AveExpr’ getContrastResults: no visible binding for global variable ‘logFC’ groupScaling: no visible binding for global variable ‘sInt’ groupScaling: no visible binding for global variable ‘meanscaledIntensity’ hierarchicalPlot: no visible binding for global variable ‘x’ hierarchicalPlot: no visible binding for global variable ‘y’ hierarchicalPlot: no visible binding for global variable ‘xend’ hierarchicalPlot: no visible binding for global variable ‘yend’ hierarchicalPlot: no visible binding for global variable ‘SampleName’ intensityBoxplot: no visible binding for global variable ‘Intensity’ intensityBoxplot: no visible binding for global variable ‘logInt’ intensityBoxplot: no visible binding for global variable ‘SampleName’ intensityPlot: no visible binding for global variable ‘Intensity’ intensityPlot: no visible binding for global variable ‘SampleName’ maVolPlot: no visible binding for global variable ‘group’ maVolPlot: no visible binding for global variable ‘adj.P.Val’ maVolPlot: no visible binding for global variable ‘GeneSymbol’ maVolPlot: no visible binding for global variable ‘SymbolLab’ mergePeptides: no visible binding for global variable ‘Accessions’ mergePeptides: no visible binding for global variable ‘Sequences’ mergePeptides: no visible binding for global variable ‘Seq_Acc’ mergePeptides: no visible global function definition for ‘where’ mergePeptides: no visible binding for global variable ‘Count’ mergeSites: no visible binding for global variable ‘Accessions’ mergeSites: no visible binding for global variable ‘Sites’ mergeSites: no visible binding for global variable ‘Type’ mergeSites: no visible binding for global variable ‘Sites_Acc’ mergeSites: no visible global function definition for ‘where’ mergeSites: no visible binding for global variable ‘Count’ peptideIntensityPlot: no visible binding for global variable ‘PeptideID’ peptideIntensityPlot: no visible binding for global variable ‘Intensity’ peptideIntensityPlot: no visible binding for global variable ‘Accessions’ peptideIntensityPlot: no visible binding for global variable ‘SampleName’ peptideIntensityPlot: no visible binding for global variable ‘logIntensity’ peptideIntensityPlot: no visible binding for global variable ‘Sequences’ peptideIntensityPlot: no visible binding for global variable ‘Modifications’ plotMeanVar: no visible binding for global variable ‘x’ plotMeanVar: no visible binding for global variable ‘y’ plotMeanVar: no visible binding for global variable ‘Mean’ plotMeanVar: no visible binding for global variable ‘Variance’ rliPlot: no visible binding for global variable ‘RowID’ rliPlot: no visible binding for global variable ‘Intensity’ rliPlot: no visible binding for global variable ‘logInt’ rliPlot: no visible binding for global variable ‘medianLogInt’ rliPlot: no visible binding for global variable ‘SampleName’ rliPlot: no visible binding for global variable ‘RLI’ summarizeIntensities: no visible binding for global variable ‘Accessions’ summarizeIntensities: no visible binding for global variable ‘Sequences’ summarizeIntensities: no visible global function definition for ‘where’ summarizeIntensities: no visible binding for global variable ‘Count’ Undefined global functions or variables: Accessions AddValues AveExpr B Cor CorTxt Count GeneSymbol Intensity Mean Modifications PeptideID RLI RowID SampleName Seq_Acc Sequences Sites Sites_Acc SymbolLab Type Variance X Y adj.P.Val group logFC logInt logIntensity meanscaledIntensity medianLogInt sInt where x xend y yend * checking Rd files ... OK * checking Rd metadata ... OK * checking Rd cross-references ... OK * checking for missing documentation entries ... OK * checking for code/documentation mismatches ... OK * checking Rd \usage sections ... OK * checking Rd contents ... OK * checking for unstated dependencies in examples ... OK * checking contents of ‘data’ directory ... OK * checking data for non-ASCII characters ... OK * checking data for ASCII and uncompressed saves ... OK * checking files in ‘vignettes’ ... OK * checking examples ... OK * checking for unstated dependencies in vignettes ... OK * checking package vignettes in ‘inst/doc’ ... OK * checking running R code from vignettes ... SKIPPED * checking re-building of vignette outputs ... SKIPPED * checking PDF version of manual ... OK * DONE Status: 2 NOTEs See ‘/Users/biocbuild/bbs-3.18-bioc-mac-arm64/meat/qPLEXanalyzer.Rcheck/00check.log’ for details.
qPLEXanalyzer.Rcheck/00install.out
############################################################################## ############################################################################## ### ### Running command: ### ### /Library/Frameworks/R.framework/Resources/bin/R CMD INSTALL qPLEXanalyzer ### ############################################################################## ############################################################################## * installing to library ‘/Library/Frameworks/R.framework/Versions/4.3-arm64/Resources/library’ * installing *source* package ‘qPLEXanalyzer’ ... ** using staged installation ** R ** data ** inst ** byte-compile and prepare package for lazy loading Note: wrong number of arguments to '==' Note: wrong number of arguments to '==' ** help *** installing help indices ** building package indices ** installing vignettes ** testing if installed package can be loaded from temporary location ** testing if installed package can be loaded from final location ** testing if installed package keeps a record of temporary installation path * DONE (qPLEXanalyzer)
qPLEXanalyzer.Rcheck/qPLEXanalyzer-Ex.timings
name | user | system | elapsed | |
IRSnorm | 4.457 | 0.075 | 4.548 | |
assignColours | 0.361 | 0.010 | 0.372 | |
computeDiffStats | 0.658 | 0.035 | 0.700 | |
convertToMSnset | 0.336 | 0.009 | 0.350 | |
corrPlot | 0.988 | 0.024 | 1.034 | |
coveragePlot | 0.783 | 0.024 | 0.833 | |
getContrastResults | 1.226 | 0.017 | 1.245 | |
groupScaling | 0.373 | 0.013 | 0.386 | |
hierarchicalPlot | 0.376 | 0.010 | 0.387 | |
intensityBoxplot | 1.171 | 0.057 | 1.238 | |
intensityPlot | 1.584 | 0.046 | 1.633 | |
maVolPlot | 1.133 | 0.039 | 1.172 | |
mergePeptides | 0.725 | 0.013 | 0.746 | |
mergeSites | 0.343 | 0.009 | 0.358 | |
normalizeQuantiles | 0.385 | 0.010 | 0.395 | |
normalizeScaling | 0.356 | 0.008 | 0.364 | |
pcaPlot | 0.801 | 0.028 | 0.831 | |
peptideIntensityPlot | 0.731 | 0.018 | 0.750 | |
plotMeanVar | 0.734 | 0.026 | 0.761 | |
regressIntensity | 2.077 | 0.022 | 2.109 | |
rliPlot | 1.769 | 0.051 | 1.825 | |
rowScaling | 0.673 | 0.014 | 0.689 | |
summarizeIntensities | 0.498 | 0.009 | 0.508 | |