| Back to Mac ARM64 build report for BioC 3.18 | 
 | 
This page was generated on 2024-04-18 11:32:15 -0400 (Thu, 18 Apr 2024).
| Hostname | OS | Arch (*) | R version | Installed pkgs | 
|---|---|---|---|---|
| kjohnson1 | macOS 13.6.1 Ventura | arm64 | 4.3.3 (2024-02-29) -- "Angel Food Cake" | 4388 | 
| Click on any hostname to see more info about the system (e.g. compilers) (*) as reported by 'uname -p', except on Windows and Mac OS X | ||||
| Package 1508/2266 | Hostname | OS / Arch | INSTALL | BUILD | CHECK | BUILD BIN | ||||||||
| pathVar 1.32.0  (landing page) Samuel Zimmerman 
 | kjohnson1 | macOS 13.6.1 Ventura / arm64 | OK | OK | OK | OK |  | |||||||
| To the developers/maintainers of the pathVar package: - Use the following Renviron settings to reproduce errors and warnings. - If 'R CMD check' started to fail recently on the Linux builder(s) over a missing dependency, add the missing dependency to 'Suggests:' in your DESCRIPTION file. See Renviron.bioc for more information. | 
| Package: pathVar | 
| Version: 1.32.0 | 
| Command: /Library/Frameworks/R.framework/Resources/bin/R CMD check --install=check:pathVar.install-out.txt --library=/Library/Frameworks/R.framework/Resources/library --no-vignettes --timings pathVar_1.32.0.tar.gz | 
| StartedAt: 2024-04-17 22:34:50 -0400 (Wed, 17 Apr 2024) | 
| EndedAt: 2024-04-17 22:37:44 -0400 (Wed, 17 Apr 2024) | 
| EllapsedTime: 173.7 seconds | 
| RetCode: 0 | 
| Status: OK | 
| CheckDir: pathVar.Rcheck | 
| Warnings: 0 | 
##############################################################################
##############################################################################
###
### Running command:
###
###   /Library/Frameworks/R.framework/Resources/bin/R CMD check --install=check:pathVar.install-out.txt --library=/Library/Frameworks/R.framework/Resources/library --no-vignettes --timings pathVar_1.32.0.tar.gz
###
##############################################################################
##############################################################################
* using log directory ‘/Users/biocbuild/bbs-3.18-bioc-mac-arm64/meat/pathVar.Rcheck’
* using R version 4.3.3 (2024-02-29)
* using platform: aarch64-apple-darwin20 (64-bit)
* R was compiled by
    Apple clang version 14.0.0 (clang-1400.0.29.202)
    GNU Fortran (GCC) 12.2.0
* running under: macOS Ventura 13.6.1
* using session charset: UTF-8
* using option ‘--no-vignettes’
* checking for file ‘pathVar/DESCRIPTION’ ... OK
* checking extension type ... Package
* this is package ‘pathVar’ version ‘1.32.0’
* checking package namespace information ... OK
* checking package dependencies ... OK
* checking if this is a source package ... OK
* checking if there is a namespace ... OK
* checking for hidden files and directories ... OK
* checking for portable file names ... OK
* checking for sufficient/correct file permissions ... OK
* checking whether package ‘pathVar’ can be installed ... OK
* checking installed package size ... OK
* checking package directory ... OK
* checking ‘build’ directory ... OK
* checking DESCRIPTION meta-information ... OK
* checking top-level files ... OK
* checking for left-over files ... OK
* checking index information ... OK
* checking package subdirectories ... OK
* checking R files for non-ASCII characters ... OK
* checking R files for syntax errors ... OK
* checking whether the package can be loaded ... OK
* checking whether the package can be loaded with stated dependencies ... OK
* checking whether the package can be unloaded cleanly ... OK
* checking whether the namespace can be loaded with stated dependencies ... OK
* checking whether the namespace can be unloaded cleanly ... OK
* checking dependencies in R code ... OK
* checking S3 generic/method consistency ... OK
* checking replacement functions ... OK
* checking foreign function calls ... OK
* checking R code for possible problems ... NOTE
diagnosticsVarPlots: no visible binding for global variable ‘avg’
diagnosticsVarPlots: no visible binding for global variable ‘standDev’
diagnosticsVarPlots: no visible binding for global variable ‘medAbsDev’
diagnosticsVarPlots: no visible binding for global variable ‘cv’
diagnosticsVarPlotsTwoSample: no visible binding for global variable
  ‘avg’
diagnosticsVarPlotsTwoSample: no visible binding for global variable
  ‘standDev’
diagnosticsVarPlotsTwoSample: no visible binding for global variable
  ‘medAbsDev’
diagnosticsVarPlotsTwoSample: no visible binding for global variable
  ‘cv’
pathVarOneSample: no visible binding for global variable ‘APval’
pathVarOneSample: no visible binding for global variable
  ‘PercOfGenesInPway’
pathVarTwoSamplesCont: no visible binding for global variable ‘APval’
pathVarTwoSamplesCont: no visible binding for global variable
  ‘PercOfGenesInPway’
pathVarTwoSamplesDisc: no visible binding for global variable ‘APval’
pathVarTwoSamplesDisc: no visible binding for global variable
  ‘PercOfGenesInPway’
plotAllTwoSampleDistributionCounts: no visible binding for global
  variable ‘Cluster’
plotAllTwoSampleDistributionCounts: no visible binding for global
  variable ‘Number_of_genes’
plotOneSample: no visible binding for global variable ‘Cluster’
plotOneSample: no visible binding for global variable ‘Number_of_genes’
plotTwoSamplesCont: no visible binding for global variable ‘PwayName’
plotTwoSamplesCont: no visible binding for global variable
  ‘NumOfGenesFromDataSetInPathway’
plotTwoSamplesCont: no visible binding for global variable ‘value’
plotTwoSamplesCont: no visible binding for global variable
  ‘..density..’
plotTwoSamplesCont: no visible binding for global variable ‘group’
plotTwoSamplesDisc: no visible binding for global variable ‘Cluster’
plotTwoSamplesDisc: no visible binding for global variable
  ‘Number_of_genes’
sigOneSample: no visible binding for global variable ‘APval’
sigOneSample: no visible binding for global variable ‘PwayName’
sigTwoSamplesCont: no visible binding for global variable ‘APval’
sigTwoSamplesCont: no visible binding for global variable ‘PwayName’
sigTwoSamplesDisc: no visible binding for global variable ‘APval’
sigTwoSamplesDisc: no visible binding for global variable ‘PwayName’
Undefined global functions or variables:
  ..density.. APval Cluster NumOfGenesFromDataSetInPathway
  Number_of_genes PercOfGenesInPway PwayName avg cv group medAbsDev
  standDev value
* checking Rd files ... OK
* checking Rd metadata ... OK
* checking Rd cross-references ... OK
* checking for missing documentation entries ... OK
* checking for code/documentation mismatches ... OK
* checking Rd \usage sections ... OK
* checking Rd contents ... OK
* checking for unstated dependencies in examples ... OK
* checking contents of ‘data’ directory ... OK
* checking data for non-ASCII characters ... OK
* checking LazyData ... OK
* checking data for ASCII and uncompressed saves ... OK
* checking sizes of PDF files under ‘inst/doc’ ... OK
* checking files in ‘vignettes’ ... OK
* checking examples ... OK
Examples with CPU (user + system) or elapsed time > 5s
                               user system elapsed
sigPway                      56.650  3.203  60.122
diagnosticsVarPlots          29.383  0.765  30.255
diagnosticsVarPlotsTwoSample 19.143  0.549  19.728
* checking for unstated dependencies in vignettes ... OK
* checking package vignettes in ‘inst/doc’ ... OK
* checking running R code from vignettes ... SKIPPED
* checking re-building of vignette outputs ... SKIPPED
* checking PDF version of manual ... OK
* DONE
Status: 1 NOTE
See
  ‘/Users/biocbuild/bbs-3.18-bioc-mac-arm64/meat/pathVar.Rcheck/00check.log’
for details.
pathVar.Rcheck/00install.out
############################################################################## ############################################################################## ### ### Running command: ### ### /Library/Frameworks/R.framework/Resources/bin/R CMD INSTALL pathVar ### ############################################################################## ############################################################################## * installing to library ‘/Library/Frameworks/R.framework/Versions/4.3-arm64/Resources/library’ * installing *source* package ‘pathVar’ ... ** using staged installation ** R ** data *** moving datasets to lazyload DB ** inst ** byte-compile and prepare package for lazy loading ** help *** installing help indices ** building package indices ** installing vignettes ** testing if installed package can be loaded from temporary location ** testing if installed package can be loaded from final location ** testing if installed package keeps a record of temporary installation path * DONE (pathVar)
pathVar.Rcheck/pathVar-Ex.timings
| name | user | system | elapsed | |
| bock | 0.016 | 0.004 | 0.021 | |
| diagnosticsVarPlots | 29.383 | 0.765 | 30.255 | |
| diagnosticsVarPlotsTwoSample | 19.143 | 0.549 | 19.728 | |
| geneDistributionSet-class | 0.004 | 0.000 | 0.004 | |
| geneDistributionSet2-class | 0.002 | 0.000 | 0.002 | |
| geneDistributionSet3-class | 0.001 | 0.000 | 0.001 | |
| geneSet-class | 0.000 | 0.001 | 0.001 | |
| getGenes | 1.968 | 0.123 | 2.092 | |
| makeDBList | 0 | 0 | 0 | |
| pathVar-package | 2.679 | 0.062 | 2.810 | |
| pathVarOneSample | 2.019 | 0.034 | 2.067 | |
| pathVarTwoSamplesCont | 1.992 | 0.064 | 2.065 | |
| pathVarTwoSamplesDisc | 0.782 | 0.011 | 0.793 | |
| plotAllTwoSampleDistributionCounts | 3.236 | 0.771 | 4.046 | |
| plotPway | 3.338 | 0.096 | 3.439 | |
| pways.kegg | 0.001 | 0.002 | 0.002 | |
| pways.reactome | 0.000 | 0.001 | 0.002 | |
| saveAsPDF | 2.596 | 0.079 | 2.699 | |
| sigPway | 56.650 | 3.203 | 60.122 | |
| significantPathway-class | 0.001 | 0.000 | 0.001 | |
| significantPathway2-class | 0.001 | 0.001 | 0.001 | |
| significantPathway3-class | 0.001 | 0.000 | 0.002 | |