| Back to Mac ARM64 build report for BioC 3.18 | 
 | 
This page was generated on 2024-04-18 11:32:14 -0400 (Thu, 18 Apr 2024).
| Hostname | OS | Arch (*) | R version | Installed pkgs | 
|---|---|---|---|---|
| kjohnson1 | macOS 13.6.1 Ventura | arm64 | 4.3.3 (2024-02-29) -- "Angel Food Cake" | 4388 | 
| Click on any hostname to see more info about the system (e.g. compilers) (*) as reported by 'uname -p', except on Windows and Mac OS X | ||||
| Package 1404/2266 | Hostname | OS / Arch | INSTALL | BUILD | CHECK | BUILD BIN | ||||||||
| netOmics 1.8.0  (landing page) Antoine Bodein 
 | kjohnson1 | macOS 13.6.1 Ventura / arm64 | ERROR | ERROR | skipped | skipped | ||||||||
| To the developers/maintainers of the netOmics package: - Use the following Renviron settings to reproduce errors and warnings. - If 'R CMD check' started to fail recently on the Linux builder(s) over a missing dependency, add the missing dependency to 'Suggests:' in your DESCRIPTION file. See Renviron.bioc for more information. | 
| Package: netOmics | 
| Version: 1.8.0 | 
| Command: /Library/Frameworks/R.framework/Resources/bin/R CMD build --keep-empty-dirs --no-resave-data netOmics | 
| StartedAt: 2024-04-16 22:49:05 -0400 (Tue, 16 Apr 2024) | 
| EndedAt: 2024-04-16 22:49:06 -0400 (Tue, 16 Apr 2024) | 
| EllapsedTime: 1.2 seconds | 
| RetCode: 1 | 
| Status: ERROR | 
| PackageFile: None | 
| PackageFileSize: NA | 
##############################################################################
##############################################################################
###
### Running command:
###
###   /Library/Frameworks/R.framework/Resources/bin/R CMD build --keep-empty-dirs --no-resave-data netOmics
###
##############################################################################
##############################################################################
* checking for file ‘netOmics/DESCRIPTION’ ... OK
* preparing ‘netOmics’:
* checking DESCRIPTION meta-information ... OK
* installing the package to build vignettes
      -----------------------------------
ERROR: dependency ‘RandomWalkRestartMH’ is not available for package ‘netOmics’
* removing ‘/private/tmp/RtmpuqZ9Ng/Rinst559c2cf7ba81/netOmics’
      -----------------------------------
ERROR: package installation failed