| Back to Mac ARM64 build report for BioC 3.18 |
|
This page was generated on 2024-04-18 11:32:11 -0400 (Thu, 18 Apr 2024).
| Hostname | OS | Arch (*) | R version | Installed pkgs |
|---|---|---|---|---|
| kjohnson1 | macOS 13.6.1 Ventura | arm64 | 4.3.3 (2024-02-29) -- "Angel Food Cake" | 4388 |
| Click on any hostname to see more info about the system (e.g. compilers) (*) as reported by 'uname -p', except on Windows and Mac OS X | ||||
| Package 964/2266 | Hostname | OS / Arch | INSTALL | BUILD | CHECK | BUILD BIN | ||||||||
| hiReadsProcessor 1.38.0 (landing page) Nirav V Malani
| kjohnson1 | macOS 13.6.1 Ventura / arm64 | OK | OK | OK | OK | ||||||||
|
To the developers/maintainers of the hiReadsProcessor package: - Use the following Renviron settings to reproduce errors and warnings. - If 'R CMD check' started to fail recently on the Linux builder(s) over a missing dependency, add the missing dependency to 'Suggests:' in your DESCRIPTION file. See Renviron.bioc for more information. |
| Package: hiReadsProcessor |
| Version: 1.38.0 |
| Command: /Library/Frameworks/R.framework/Resources/bin/R CMD check --install=check:hiReadsProcessor.install-out.txt --library=/Library/Frameworks/R.framework/Resources/library --no-vignettes --timings hiReadsProcessor_1.38.0.tar.gz |
| StartedAt: 2024-04-17 16:25:21 -0400 (Wed, 17 Apr 2024) |
| EndedAt: 2024-04-17 16:30:45 -0400 (Wed, 17 Apr 2024) |
| EllapsedTime: 323.6 seconds |
| RetCode: 0 |
| Status: OK |
| CheckDir: hiReadsProcessor.Rcheck |
| Warnings: 0 |
##############################################################################
##############################################################################
###
### Running command:
###
### /Library/Frameworks/R.framework/Resources/bin/R CMD check --install=check:hiReadsProcessor.install-out.txt --library=/Library/Frameworks/R.framework/Resources/library --no-vignettes --timings hiReadsProcessor_1.38.0.tar.gz
###
##############################################################################
##############################################################################
* using log directory ‘/Users/biocbuild/bbs-3.18-bioc-mac-arm64/meat/hiReadsProcessor.Rcheck’
* using R version 4.3.3 (2024-02-29)
* using platform: aarch64-apple-darwin20 (64-bit)
* R was compiled by
Apple clang version 14.0.0 (clang-1400.0.29.202)
GNU Fortran (GCC) 12.2.0
* running under: macOS Ventura 13.6.1
* using session charset: UTF-8
* using option ‘--no-vignettes’
* checking for file ‘hiReadsProcessor/DESCRIPTION’ ... OK
* this is package ‘hiReadsProcessor’ version ‘1.38.0’
* checking package namespace information ... OK
* checking package dependencies ... OK
* checking if this is a source package ... OK
* checking if there is a namespace ... OK
* checking for hidden files and directories ... NOTE
Found the following hidden files and directories:
.BBSoptions
These were most likely included in error. See section ‘Package
structure’ in the ‘Writing R Extensions’ manual.
* checking for portable file names ... OK
* checking for sufficient/correct file permissions ... OK
* checking whether package ‘hiReadsProcessor’ can be installed ... OK
* checking installed package size ... OK
* checking package directory ... OK
* checking ‘build’ directory ... OK
* checking DESCRIPTION meta-information ... OK
* checking top-level files ... OK
* checking for left-over files ... OK
* checking index information ... OK
* checking package subdirectories ... OK
* checking R files for non-ASCII characters ... OK
* checking R files for syntax errors ... OK
* checking whether the package can be loaded ... OK
* checking whether the package can be loaded with stated dependencies ... OK
* checking whether the package can be unloaded cleanly ... OK
* checking whether the namespace can be loaded with stated dependencies ... OK
* checking whether the namespace can be unloaded cleanly ... OK
* checking dependencies in R code ... OK
* checking S3 generic/method consistency ... OK
* checking replacement functions ... OK
* checking foreign function calls ... OK
* checking R code for possible problems ... NOTE
chunkize: no visible global function definition for ‘breakInChunks’
chunkize: no visible global function definition for ‘detectCores’
clusterSites : <anonymous>: no visible binding for global variable
‘queryHits’
clusterSites: no visible binding for global variable ‘clusteredValue’
clusterSites: no visible binding for global variable
‘clusteredValue.freq’
crossOverCheck: no visible binding for global variable ‘queryHits’
decodeByBarcode: no visible global function definition for ‘metadata<-’
decodeByBarcode: no visible global function definition for ‘metadata’
extractSeqs : <anonymous>: no visible global function definition for
‘metadata’
extractSeqs : <anonymous> : <anonymous> : <anonymous>: no visible
global function definition for ‘IRanges’
extractSeqs : <anonymous> : <anonymous>: no visible global function
definition for ‘IRanges’
findBarcodes: no visible global function definition for ‘metadata<-’
findBarcodes: no visible global function definition for ‘metadata’
findIntegrations: no visible global function definition for
‘fasta.info’
findIntegrations : <anonymous>: no visible global function definition
for ‘IRanges’
findVector : <anonymous>: no visible global function definition for
‘IRanges’
pairUpAlignments : <anonymous>: no visible binding for global variable
‘queryHits’
pairwiseAlignSeqs: no visible global function definition for
‘IRangesList’
pairwiseAlignSeqs: no visible global function definition for ‘IRanges’
primerIDAlignSeqs: no visible global function definition for ‘IRanges’
primerIDAlignSeqs: no visible global function definition for
‘IRangesList’
pslToRangedObject: no visible global function definition for ‘IRanges’
read.BAMasPSL: no visible global function definition for ‘ScanBamParam’
read.BAMasPSL: no visible global function definition for ‘scanBamFlag’
read.BAMasPSL: no visible global function definition for ‘DataFrame’
read.SeqFolder: no visible global function definition for ‘SimpleList’
read.psl: no visible global function definition for ‘mclapply’
read.psl : <anonymous>: no visible binding for global variable
‘matches’
read.psl : <anonymous>: no visible binding for global variable
‘misMatches’
read.psl : <anonymous>: no visible binding for global variable
‘qBaseInsert’
read.psl : <anonymous>: no visible binding for global variable
‘tBaseInsert’
read.psl: no visible binding for global variable ‘matches’
read.psl: no visible binding for global variable ‘misMatches’
read.psl: no visible binding for global variable ‘qBaseInsert’
read.psl: no visible binding for global variable ‘tBaseInsert’
read.sampleInfo: no visible global function definition for ‘SimpleList’
splitSeqsToFiles: no visible global function definition for
‘fasta.info’
vpairwiseAlignSeqs: no visible global function definition for ‘Rle’
vpairwiseAlignSeqs: no visible global function definition for
‘runLength’
vpairwiseAlignSeqs: no visible global function definition for ‘IRanges’
vpairwiseAlignSeqs: no visible global function definition for
‘runValue’
Undefined global functions or variables:
DataFrame IRanges IRangesList Rle ScanBamParam SimpleList
breakInChunks clusteredValue clusteredValue.freq detectCores
fasta.info matches mclapply metadata metadata<- misMatches
qBaseInsert queryHits runLength runValue scanBamFlag tBaseInsert
* checking Rd files ... OK
* checking Rd metadata ... OK
* checking Rd cross-references ... OK
* checking for missing documentation entries ... OK
* checking for code/documentation mismatches ... OK
* checking Rd \usage sections ... OK
* checking Rd contents ... OK
* checking for unstated dependencies in examples ... OK
* checking contents of ‘data’ directory ... OK
* checking data for non-ASCII characters ... OK
* checking data for ASCII and uncompressed saves ... OK
* checking files in ‘vignettes’ ... OK
* checking examples ... OK
* checking for unstated dependencies in vignettes ... OK
* checking package vignettes in ‘inst/doc’ ... OK
* checking running R code from vignettes ... SKIPPED
* checking re-building of vignette outputs ... SKIPPED
* checking PDF version of manual ... OK
* DONE
Status: 2 NOTEs
See
‘/Users/biocbuild/bbs-3.18-bioc-mac-arm64/meat/hiReadsProcessor.Rcheck/00check.log’
for details.
hiReadsProcessor.Rcheck/00install.out
############################################################################## ############################################################################## ### ### Running command: ### ### /Library/Frameworks/R.framework/Resources/bin/R CMD INSTALL hiReadsProcessor ### ############################################################################## ############################################################################## * installing to library ‘/Library/Frameworks/R.framework/Versions/4.3-arm64/Resources/library’ * installing *source* package ‘hiReadsProcessor’ ... ** using staged installation ** R ** data ** inst ** byte-compile and prepare package for lazy loading ** help *** installing help indices ** building package indices ** installing vignettes ** testing if installed package can be loaded from temporary location ** testing if installed package can be loaded from final location ** testing if installed package keeps a record of temporary installation path * DONE (hiReadsProcessor)
hiReadsProcessor.Rcheck/hiReadsProcessor-Ex.timings
| name | user | system | elapsed | |
| addFeature | 0.222 | 0.006 | 0.230 | |
| addListNameToReads | 0.296 | 0.016 | 0.316 | |
| annotateSites | 0 | 0 | 0 | |
| blatSeqs | 0.000 | 0.001 | 0.000 | |
| chunkize | 0.026 | 0.003 | 0.029 | |
| clusterSites | 0.333 | 0.026 | 0.362 | |
| crossOverCheck | 0.142 | 0.007 | 0.151 | |
| dereplicateReads | 0.042 | 0.000 | 0.044 | |
| doRCtest | 4.069 | 0.080 | 4.150 | |
| extractFeature | 0.152 | 0.046 | 0.197 | |
| extractSeqs | 0.366 | 0.051 | 0.419 | |
| findAndTrimSeq | 1.294 | 0.268 | 1.567 | |
| findBarcodes | 1.053 | 0.002 | 1.056 | |
| findIntegrations | 0 | 0 | 0 | |
| findLTRs | 0 | 0 | 0 | |
| findLinkers | 0 | 0 | 0 | |
| findPrimers | 0.000 | 0.000 | 0.001 | |
| findVector | 0 | 0 | 0 | |
| getIntegrationSites | 2.228 | 0.009 | 2.241 | |
| getSectorsForSamples | 0.105 | 0.001 | 0.107 | |
| getSonicAbund | 0.213 | 0.210 | 0.427 | |
| isuSites | 4.100 | 0.256 | 4.370 | |
| otuSites | 4.696 | 0.022 | 4.746 | |
| pairUpAlignments | 0 | 0 | 0 | |
| pairwiseAlignSeqs | 2.425 | 0.973 | 3.297 | |
| primerIDAlignSeqs | 3.500 | 0.808 | 4.296 | |
| pslCols | 0.000 | 0.000 | 0.001 | |
| pslToRangedObject | 0.196 | 0.008 | 0.207 | |
| read.BAMasPSL | 0 | 0 | 0 | |
| read.SeqFolder | 0.966 | 0.039 | 1.019 | |
| read.blast8 | 0 | 0 | 0 | |
| read.psl | 0.000 | 0.000 | 0.001 | |
| read.sampleInfo | 0.869 | 0.009 | 0.881 | |
| read.seqsFromSector | 0 | 0 | 0 | |
| removeReadsWithNs | 0.016 | 0.001 | 0.017 | |
| replicateReads | 0.038 | 0.001 | 0.039 | |
| sampleSummary | 0.603 | 0.014 | 0.618 | |
| splitByBarcode | 0.026 | 0.001 | 0.027 | |
| splitSeqsToFiles | 0.126 | 0.007 | 0.132 | |
| startgfServer | 0.000 | 0.000 | 0.001 | |
| trimSeqs | 0.024 | 0.001 | 0.026 | |
| vpairwiseAlignSeqs | 2.241 | 0.768 | 2.913 | |
| write.listedDNAStringSet | 0.000 | 0.000 | 0.001 | |
| write.psl | 0.026 | 0.004 | 0.031 | |