Back to Mac ARM64 build report for BioC 3.18 |
|
This page was generated on 2024-04-18 11:32:09 -0400 (Thu, 18 Apr 2024).
Hostname | OS | Arch (*) | R version | Installed pkgs |
---|---|---|---|---|
kjohnson1 | macOS 13.6.1 Ventura | arm64 | 4.3.3 (2024-02-29) -- "Angel Food Cake" | 4388 |
Click on any hostname to see more info about the system (e.g. compilers) (*) as reported by 'uname -p', except on Windows and Mac OS X |
Package 509/2266 | Hostname | OS / Arch | INSTALL | BUILD | CHECK | BUILD BIN | ||||||||
debCAM 1.20.0 (landing page) Lulu Chen
| kjohnson1 | macOS 13.6.1 Ventura / arm64 | OK | OK | OK | OK | ||||||||
To the developers/maintainers of the debCAM package: - Use the following Renviron settings to reproduce errors and warnings. - If 'R CMD check' started to fail recently on the Linux builder(s) over a missing dependency, add the missing dependency to 'Suggests:' in your DESCRIPTION file. See Renviron.bioc for more information. |
Package: debCAM |
Version: 1.20.0 |
Command: /Library/Frameworks/R.framework/Resources/bin/R CMD check --install=check:debCAM.install-out.txt --library=/Library/Frameworks/R.framework/Resources/library --no-vignettes --timings debCAM_1.20.0.tar.gz |
StartedAt: 2024-04-17 11:12:28 -0400 (Wed, 17 Apr 2024) |
EndedAt: 2024-04-17 11:16:17 -0400 (Wed, 17 Apr 2024) |
EllapsedTime: 228.7 seconds |
RetCode: 0 |
Status: OK |
CheckDir: debCAM.Rcheck |
Warnings: 0 |
############################################################################## ############################################################################## ### ### Running command: ### ### /Library/Frameworks/R.framework/Resources/bin/R CMD check --install=check:debCAM.install-out.txt --library=/Library/Frameworks/R.framework/Resources/library --no-vignettes --timings debCAM_1.20.0.tar.gz ### ############################################################################## ############################################################################## * using log directory ‘/Users/biocbuild/bbs-3.18-bioc-mac-arm64/meat/debCAM.Rcheck’ * using R version 4.3.3 (2024-02-29) * using platform: aarch64-apple-darwin20 (64-bit) * R was compiled by Apple clang version 14.0.0 (clang-1400.0.29.202) GNU Fortran (GCC) 12.2.0 * running under: macOS Ventura 13.6.1 * using session charset: UTF-8 * using option ‘--no-vignettes’ * checking for file ‘debCAM/DESCRIPTION’ ... OK * checking extension type ... Package * this is package ‘debCAM’ version ‘1.20.0’ * package encoding: UTF-8 * checking package namespace information ... OK * checking package dependencies ... OK * checking if this is a source package ... OK * checking if there is a namespace ... OK * checking for hidden files and directories ... OK * checking for portable file names ... OK * checking for sufficient/correct file permissions ... OK * checking whether package ‘debCAM’ can be installed ... OK * checking installed package size ... OK * checking package directory ... OK * checking ‘build’ directory ... OK * checking DESCRIPTION meta-information ... OK * checking top-level files ... OK * checking for left-over files ... OK * checking index information ... OK * checking package subdirectories ... OK * checking R files for non-ASCII characters ... OK * checking R files for syntax errors ... OK * checking whether the package can be loaded ... OK * checking whether the package can be loaded with stated dependencies ... OK * checking whether the package can be unloaded cleanly ... OK * checking whether the namespace can be loaded with stated dependencies ... OK * checking whether the namespace can be unloaded cleanly ... OK * checking startup messages can be suppressed ... OK * checking dependencies in R code ... OK * checking S3 generic/method consistency ... OK * checking replacement functions ... OK * checking foreign function calls ... OK * checking R code for possible problems ... OK * checking Rd files ... OK * checking Rd metadata ... OK * checking Rd cross-references ... OK * checking for missing documentation entries ... OK * checking for code/documentation mismatches ... OK * checking Rd \usage sections ... OK * checking Rd contents ... OK * checking for unstated dependencies in examples ... OK * checking contents of ‘data’ directory ... OK * checking data for non-ASCII characters ... OK * checking data for ASCII and uncompressed saves ... OK * checking files in ‘vignettes’ ... OK * checking examples ... OK Examples with CPU (user + system) or elapsed time > 5s user system elapsed MGsforA 21.749 3.097 25.007 CAMASest 11.165 2.723 14.078 redoASest 11.405 2.080 13.541 CAMPrep 11.218 2.238 13.543 CAMMGCluster 10.948 1.964 12.981 reselectMG 11.492 1.374 12.871 PCAmat 11.251 1.426 12.759 CAM 11.143 1.470 12.636 AS-accessor 10.421 1.407 12.172 XWProj 5.221 0.549 5.776 * checking for unstated dependencies in ‘tests’ ... OK * checking tests ... Running ‘testthat.R’ OK * checking for unstated dependencies in vignettes ... OK * checking package vignettes in ‘inst/doc’ ... OK * checking running R code from vignettes ... SKIPPED * checking re-building of vignette outputs ... SKIPPED * checking PDF version of manual ... OK * DONE Status: OK
debCAM.Rcheck/00install.out
############################################################################## ############################################################################## ### ### Running command: ### ### /Library/Frameworks/R.framework/Resources/bin/R CMD INSTALL debCAM ### ############################################################################## ############################################################################## * installing to library ‘/Library/Frameworks/R.framework/Versions/4.3-arm64/Resources/library’ * installing *source* package ‘debCAM’ ... ** using staged installation ** R ** data ** inst ** byte-compile and prepare package for lazy loading ** help *** installing help indices ** building package indices ** installing vignettes ** testing if installed package can be loaded from temporary location ** testing if installed package can be loaded from final location ** testing if installed package keeps a record of temporary installation path * DONE (debCAM)
debCAM.Rcheck/tests/testthat.Rout
R version 4.3.3 (2024-02-29) -- "Angel Food Cake" Copyright (C) 2024 The R Foundation for Statistical Computing Platform: aarch64-apple-darwin20 (64-bit) R is free software and comes with ABSOLUTELY NO WARRANTY. You are welcome to redistribute it under certain conditions. Type 'license()' or 'licence()' for distribution details. R is a collaborative project with many contributors. Type 'contributors()' for more information and 'citation()' on how to cite R or R packages in publications. Type 'demo()' for some demos, 'help()' for on-line help, or 'help.start()' for an HTML browser interface to help. Type 'q()' to quit R. > library(testthat) > library(debCAM) > > test_check("debCAM") [ FAIL 0 | WARN 0 | SKIP 0 | PASS 5 ] > > proc.time() user system elapsed 3.656 0.264 3.868
debCAM.Rcheck/debCAM-Ex.timings
name | user | system | elapsed | |
AS-accessor | 10.421 | 1.407 | 12.172 | |
AfromMarkers | 0.235 | 0.008 | 0.248 | |
CAM | 11.143 | 1.470 | 12.636 | |
CAMASest | 11.165 | 2.723 | 14.078 | |
CAMMGCluster | 10.948 | 1.964 | 12.981 | |
CAMPrep | 11.218 | 2.238 | 13.543 | |
MDL | 0.000 | 0.001 | 0.000 | |
MGsforA | 21.749 | 3.097 | 25.007 | |
MGstatistic | 0.434 | 0.012 | 0.455 | |
PCAmat | 11.251 | 1.426 | 12.759 | |
XWProj | 5.221 | 0.549 | 5.776 | |
cornerSort | 0.080 | 0.014 | 0.072 | |
redoASest | 11.405 | 2.080 | 13.541 | |
reselectMG | 11.492 | 1.374 | 12.871 | |
sffsHull | 0.022 | 0.000 | 0.022 | |
simplexplot | 2.067 | 0.067 | 2.136 | |