| Back to Mac ARM64 build report for BioC 3.18 | 
 | 
This page was generated on 2024-04-18 11:32:06 -0400 (Thu, 18 Apr 2024).
| Hostname | OS | Arch (*) | R version | Installed pkgs | 
|---|---|---|---|---|
| kjohnson1 | macOS 13.6.1 Ventura | arm64 | 4.3.3 (2024-02-29) -- "Angel Food Cake" | 4388 | 
| Click on any hostname to see more info about the system (e.g. compilers) (*) as reported by 'uname -p', except on Windows and Mac OS X | ||||
| Package 34/2266 | Hostname | OS / Arch | INSTALL | BUILD | CHECK | BUILD BIN | ||||||||
| agilp 3.34.0  (landing page) Benny Chain 
 | kjohnson1 | macOS 13.6.1 Ventura / arm64 | OK | OK | OK | OK |  | |||||||
| To the developers/maintainers of the agilp package: - Use the following Renviron settings to reproduce errors and warnings. - If 'R CMD check' started to fail recently on the Linux builder(s) over a missing dependency, add the missing dependency to 'Suggests:' in your DESCRIPTION file. See Renviron.bioc for more information. | 
| Package: agilp | 
| Version: 3.34.0 | 
| Command: /Library/Frameworks/R.framework/Resources/bin/R CMD check --install=check:agilp.install-out.txt --library=/Library/Frameworks/R.framework/Resources/library --no-vignettes --timings agilp_3.34.0.tar.gz | 
| StartedAt: 2024-04-17 05:12:22 -0400 (Wed, 17 Apr 2024) | 
| EndedAt: 2024-04-17 05:12:43 -0400 (Wed, 17 Apr 2024) | 
| EllapsedTime: 21.0 seconds | 
| RetCode: 0 | 
| Status: OK | 
| CheckDir: agilp.Rcheck | 
| Warnings: 0 | 
##############################################################################
##############################################################################
###
### Running command:
###
###   /Library/Frameworks/R.framework/Resources/bin/R CMD check --install=check:agilp.install-out.txt --library=/Library/Frameworks/R.framework/Resources/library --no-vignettes --timings agilp_3.34.0.tar.gz
###
##############################################################################
##############################################################################
* using log directory ‘/Users/biocbuild/bbs-3.18-bioc-mac-arm64/meat/agilp.Rcheck’
* using R version 4.3.3 (2024-02-29)
* using platform: aarch64-apple-darwin20 (64-bit)
* R was compiled by
    Apple clang version 14.0.0 (clang-1400.0.29.202)
    GNU Fortran (GCC) 12.2.0
* running under: macOS Ventura 13.6.1
* using session charset: UTF-8
* using option ‘--no-vignettes’
* checking for file ‘agilp/DESCRIPTION’ ... OK
* checking extension type ... Package
* this is package ‘agilp’ version ‘3.34.0’
* checking package namespace information ... OK
* checking package dependencies ... OK
* checking if this is a source package ... OK
* checking if there is a namespace ... OK
* checking for hidden files and directories ... OK
* checking for portable file names ... OK
* checking for sufficient/correct file permissions ... OK
* checking whether package ‘agilp’ can be installed ... OK
* checking installed package size ... OK
* checking package directory ... OK
* checking ‘build’ directory ... OK
* checking DESCRIPTION meta-information ... NOTE
Malformed Description field: should contain one or more complete sentences.
* checking top-level files ... OK
* checking for left-over files ... OK
* checking index information ... OK
* checking package subdirectories ... OK
* checking R files for non-ASCII characters ... OK
* checking R files for syntax errors ... OK
* checking whether the package can be loaded ... OK
* checking whether the package can be loaded with stated dependencies ... OK
* checking whether the package can be unloaded cleanly ... OK
* checking whether the namespace can be loaded with stated dependencies ... OK
* checking whether the namespace can be unloaded cleanly ... OK
* checking dependencies in R code ... OK
* checking S3 generic/method consistency ... OK
* checking replacement functions ... OK
* checking foreign function calls ... OK
* checking R code for possible problems ... NOTE
AALoess: no visible global function definition for ‘read.table’
AALoess: no visible global function definition for ‘loess’
AALoess: no visible global function definition for ‘predict’
AALoess: no visible global function definition for ‘write.table’
AALoess: no visible global function definition for ‘hist’
AAProcess: no visible global function definition for ‘read.table’
AAProcess: no visible global function definition for ‘write.table’
Baseline: no visible global function definition for ‘read.table’
Baseline: no visible global function definition for ‘write.table’
Equaliser: no visible global function definition for ‘read.table’
Equaliser: no visible global function definition for ‘write.table’
IDswop: no visible global function definition for ‘read.table’
IDswop: no visible binding for global variable ‘sd’
IDswop: no visible global function definition for ‘write.table’
Loader: no visible global function definition for ‘read.table’
Loader: no visible global function definition for ‘write.table’
filenamex: no visible global function definition for ‘write.table’
Undefined global functions or variables:
  hist loess predict read.table sd write.table
Consider adding
  importFrom("graphics", "hist")
  importFrom("stats", "loess", "predict", "sd")
  importFrom("utils", "read.table", "write.table")
to your NAMESPACE file.
* checking Rd files ... OK
* checking Rd metadata ... OK
* checking Rd cross-references ... OK
* checking for missing documentation entries ... OK
* checking for code/documentation mismatches ... OK
* checking Rd \usage sections ... OK
* checking Rd contents ... OK
* checking for unstated dependencies in examples ... OK
* checking sizes of PDF files under ‘inst/doc’ ... OK
* checking files in ‘vignettes’ ... OK
* checking examples ... OK
* checking for unstated dependencies in vignettes ... OK
* checking package vignettes in ‘inst/doc’ ... OK
* checking running R code from vignettes ... SKIPPED
* checking re-building of vignette outputs ... SKIPPED
* checking PDF version of manual ... OK
* DONE
Status: 2 NOTEs
See
  ‘/Users/biocbuild/bbs-3.18-bioc-mac-arm64/meat/agilp.Rcheck/00check.log’
for details.
agilp.Rcheck/00install.out
############################################################################## ############################################################################## ### ### Running command: ### ### /Library/Frameworks/R.framework/Resources/bin/R CMD INSTALL agilp ### ############################################################################## ############################################################################## * installing to library ‘/Library/Frameworks/R.framework/Versions/4.3-arm64/Resources/library’ * installing *source* package ‘agilp’ ... ** using staged installation ** R ** inst ** byte-compile and prepare package for lazy loading ** help *** installing help indices ** building package indices ** installing vignettes ** testing if installed package can be loaded from temporary location ** testing if installed package can be loaded from final location ** testing if installed package keeps a record of temporary installation path * DONE (agilp)
agilp.Rcheck/agilp-Ex.timings
| name | user | system | elapsed | |
| AALoess | 0.076 | 0.008 | 0.086 | |
| AAProcess | 0.048 | 0.006 | 0.055 | |
| Baseline | 0.036 | 0.004 | 0.040 | |
| Equaliser | 0.042 | 0.004 | 0.046 | |
| IDswop | 0.279 | 0.011 | 0.293 | |
| Loader | 0.069 | 0.030 | 0.101 | |
| filenamex | 0.002 | 0.001 | 0.003 | |