| Back to Mac ARM64 build report for BioC 3.18 |
|
This page was generated on 2024-04-18 11:32:06 -0400 (Thu, 18 Apr 2024).
| Hostname | OS | Arch (*) | R version | Installed pkgs |
|---|---|---|---|---|
| kjohnson1 | macOS 13.6.1 Ventura | arm64 | 4.3.3 (2024-02-29) -- "Angel Food Cake" | 4388 |
| Click on any hostname to see more info about the system (e.g. compilers) (*) as reported by 'uname -p', except on Windows and Mac OS X | ||||
| Package 2/2266 | Hostname | OS / Arch | INSTALL | BUILD | CHECK | BUILD BIN | ||||||||
| a4Base 1.50.0 (landing page) Laure Cougnaud
| kjohnson1 | macOS 13.6.1 Ventura / arm64 | OK | OK | OK | OK | ||||||||
|
To the developers/maintainers of the a4Base package: - Use the following Renviron settings to reproduce errors and warnings. - If 'R CMD check' started to fail recently on the Linux builder(s) over a missing dependency, add the missing dependency to 'Suggests:' in your DESCRIPTION file. See Renviron.bioc for more information. |
| Package: a4Base |
| Version: 1.50.0 |
| Command: /Library/Frameworks/R.framework/Resources/bin/R CMD check --install=check:a4Base.install-out.txt --library=/Library/Frameworks/R.framework/Resources/library --no-vignettes --timings a4Base_1.50.0.tar.gz |
| StartedAt: 2024-04-17 05:01:18 -0400 (Wed, 17 Apr 2024) |
| EndedAt: 2024-04-17 05:05:17 -0400 (Wed, 17 Apr 2024) |
| EllapsedTime: 238.6 seconds |
| RetCode: 0 |
| Status: OK |
| CheckDir: a4Base.Rcheck |
| Warnings: 0 |
##############################################################################
##############################################################################
###
### Running command:
###
### /Library/Frameworks/R.framework/Resources/bin/R CMD check --install=check:a4Base.install-out.txt --library=/Library/Frameworks/R.framework/Resources/library --no-vignettes --timings a4Base_1.50.0.tar.gz
###
##############################################################################
##############################################################################
* using log directory ‘/Users/biocbuild/bbs-3.18-bioc-mac-arm64/meat/a4Base.Rcheck’
* using R version 4.3.3 (2024-02-29)
* using platform: aarch64-apple-darwin20 (64-bit)
* R was compiled by
Apple clang version 14.0.0 (clang-1400.0.29.202)
GNU Fortran (GCC) 12.2.0
* running under: macOS Ventura 13.6.1
* using session charset: UTF-8
* using option ‘--no-vignettes’
* checking for file ‘a4Base/DESCRIPTION’ ... OK
* checking extension type ... Package
* this is package ‘a4Base’ version ‘1.50.0’
* checking package namespace information ... OK
* checking package dependencies ... NOTE
Package which this enhances but not available for checking: ‘JavaGD’
* checking if this is a source package ... OK
* checking if there is a namespace ... OK
* checking for hidden files and directories ... OK
* checking for portable file names ... OK
* checking for sufficient/correct file permissions ... OK
* checking whether package ‘a4Base’ can be installed ... OK
* checking installed package size ... OK
* checking package directory ... OK
* checking DESCRIPTION meta-information ... OK
* checking top-level files ... OK
* checking for left-over files ... OK
* checking index information ... OK
* checking package subdirectories ... OK
* checking R files for non-ASCII characters ... OK
* checking R files for syntax errors ... OK
* checking whether the package can be loaded ... OK
* checking whether the package can be loaded with stated dependencies ... OK
* checking whether the package can be unloaded cleanly ... OK
* checking whether the namespace can be loaded with stated dependencies ... OK
* checking whether the namespace can be unloaded cleanly ... OK
* checking startup messages can be suppressed ... OK
* checking dependencies in R code ... OK
* checking S3 generic/method consistency ... OK
* checking replacement functions ... OK
* checking foreign function calls ... OK
* checking R code for possible problems ... OK
* checking Rd files ... NOTE
checkRd: (-1) filterVarInt.Rd:52: Escaped LaTeX specials: \&
checkRd: (-1) histPvalue.Rd:50: Escaped LaTeX specials: \&
checkRd: (-1) lassoReg.Rd:38: Escaped LaTeX specials: \&
checkRd: (-1) spectralMap.Rd:49: Escaped LaTeX specials: \&
checkRd: (-1) volcanoPlot.Rd:45: Escaped LaTeX specials: \&
* checking Rd metadata ... OK
* checking Rd cross-references ... OK
* checking for missing documentation entries ... OK
* checking for code/documentation mismatches ... OK
* checking Rd \usage sections ... OK
* checking Rd contents ... OK
* checking for unstated dependencies in examples ... OK
* checking contents of ‘data’ directory ... OK
* checking data for non-ASCII characters ... OK
* checking data for ASCII and uncompressed saves ... OK
* checking examples ... OK
Examples with CPU (user + system) or elapsed time > 5s
user system elapsed
spectralMap 13.166 0.742 14.010
computeLogRatio 4.913 0.126 5.073
* checking PDF version of manual ... OK
* DONE
Status: 2 NOTEs
See
‘/Users/biocbuild/bbs-3.18-bioc-mac-arm64/meat/a4Base.Rcheck/00check.log’
for details.
a4Base.Rcheck/00install.out
############################################################################## ############################################################################## ### ### Running command: ### ### /Library/Frameworks/R.framework/Resources/bin/R CMD INSTALL a4Base ### ############################################################################## ############################################################################## * installing to library ‘/Library/Frameworks/R.framework/Versions/4.3-arm64/Resources/library’ * installing *source* package ‘a4Base’ ... ** using staged installation ** R ** data ** inst ** byte-compile and prepare package for lazy loading ** help *** installing help indices ** building package indices ** testing if installed package can be loaded from temporary location ** testing if installed package can be loaded from final location ** testing if installed package keeps a record of temporary installation path * DONE (a4Base)
a4Base.Rcheck/a4Base-Ex.timings
| name | user | system | elapsed | |
| a4palette | 0.026 | 0.003 | 0.030 | |
| addQuantilesColors | 2.557 | 0.119 | 2.681 | |
| boxPlot | 2.641 | 0.063 | 2.729 | |
| combineTwoExpressionSet | 0 | 0 | 0 | |
| computeLogRatio | 4.913 | 0.126 | 5.073 | |
| createExpressionSet | 0.056 | 0.002 | 0.058 | |
| filterVarInt | 3.053 | 0.075 | 3.131 | |
| heatmap.expressionSet | 0.000 | 0.001 | 0.002 | |
| histPvalue | 2.155 | 0.082 | 2.307 | |
| histpvalueplotter | 2.294 | 0.070 | 2.459 | |
| lassoReg | 2.537 | 0.060 | 2.661 | |
| logReg | 0.000 | 0.001 | 0.000 | |
| nlcvTT | 0 | 0 | 0 | |
| plot1gene | 2.106 | 0.067 | 2.234 | |
| plotComb2Samples | 3.244 | 0.091 | 3.413 | |
| plotCombMultSamples | 3.453 | 0.137 | 3.643 | |
| plotCombination2genes | 3.700 | 0.059 | 3.779 | |
| plotLogRatio | 4.731 | 0.150 | 4.965 | |
| probabilitiesPlot | 0.000 | 0.001 | 0.000 | |
| probe2gene | 2.201 | 0.037 | 2.238 | |
| profilesPlot | 2.449 | 0.057 | 2.518 | |
| propdegenescalculation | 2.503 | 0.074 | 2.613 | |
| replicates | 0.002 | 0.000 | 0.002 | |
| spectralMap | 13.166 | 0.742 | 14.010 | |
| tTest | 2.773 | 0.076 | 2.859 | |
| volcanoPlot | 3.122 | 0.069 | 3.192 | |