Back to Mac ARM64 build report for BioC 3.18 |
|
This page was generated on 2024-04-18 11:32:19 -0400 (Thu, 18 Apr 2024).
Hostname | OS | Arch (*) | R version | Installed pkgs |
---|---|---|---|---|
kjohnson1 | macOS 13.6.1 Ventura | arm64 | 4.3.3 (2024-02-29) -- "Angel Food Cake" | 4388 |
Click on any hostname to see more info about the system (e.g. compilers) (*) as reported by 'uname -p', except on Windows and Mac OS X |
Package 2010/2266 | Hostname | OS / Arch | INSTALL | BUILD | CHECK | BUILD BIN | ||||||||
SpatialDecon 1.12.3 (landing page) Maddy Griswold
| kjohnson1 | macOS 13.6.1 Ventura / arm64 | OK | OK | OK | OK | ||||||||
To the developers/maintainers of the SpatialDecon package: - Use the following Renviron settings to reproduce errors and warnings. - If 'R CMD check' started to fail recently on the Linux builder(s) over a missing dependency, add the missing dependency to 'Suggests:' in your DESCRIPTION file. See Renviron.bioc for more information. |
Package: SpatialDecon |
Version: 1.12.3 |
Command: /Library/Frameworks/R.framework/Resources/bin/R CMD check --install=check:SpatialDecon.install-out.txt --library=/Library/Frameworks/R.framework/Resources/library --no-vignettes --timings SpatialDecon_1.12.3.tar.gz |
StartedAt: 2024-04-18 04:45:48 -0400 (Thu, 18 Apr 2024) |
EndedAt: 2024-04-18 04:56:51 -0400 (Thu, 18 Apr 2024) |
EllapsedTime: 662.4 seconds |
RetCode: 0 |
Status: OK |
CheckDir: SpatialDecon.Rcheck |
Warnings: 0 |
############################################################################## ############################################################################## ### ### Running command: ### ### /Library/Frameworks/R.framework/Resources/bin/R CMD check --install=check:SpatialDecon.install-out.txt --library=/Library/Frameworks/R.framework/Resources/library --no-vignettes --timings SpatialDecon_1.12.3.tar.gz ### ############################################################################## ############################################################################## * using log directory ‘/Users/biocbuild/bbs-3.18-bioc-mac-arm64/meat/SpatialDecon.Rcheck’ * using R version 4.3.3 (2024-02-29) * using platform: aarch64-apple-darwin20 (64-bit) * R was compiled by Apple clang version 14.0.0 (clang-1400.0.29.202) GNU Fortran (GCC) 12.2.0 * running under: macOS Ventura 13.6.1 * using session charset: UTF-8 * using option ‘--no-vignettes’ * checking for file ‘SpatialDecon/DESCRIPTION’ ... OK * this is package ‘SpatialDecon’ version ‘1.12.3’ * package encoding: UTF-8 * checking package namespace information ... OK * checking package dependencies ... OK * checking if this is a source package ... OK * checking if there is a namespace ... OK * checking for hidden files and directories ... OK * checking for portable file names ... OK * checking for sufficient/correct file permissions ... OK * checking whether package ‘SpatialDecon’ can be installed ... OK * checking installed package size ... OK * checking package directory ... OK * checking ‘build’ directory ... OK * checking DESCRIPTION meta-information ... OK * checking top-level files ... OK * checking for left-over files ... OK * checking index information ... OK * checking package subdirectories ... OK * checking R files for non-ASCII characters ... OK * checking R files for syntax errors ... OK * checking whether the package can be loaded ... OK * checking whether the package can be loaded with stated dependencies ... OK * checking whether the package can be unloaded cleanly ... OK * checking whether the namespace can be loaded with stated dependencies ... OK * checking whether the namespace can be unloaded cleanly ... OK * checking dependencies in R code ... OK * checking S3 generic/method consistency ... OK * checking replacement functions ... OK * checking foreign function calls ... OK * checking R code for possible problems ... NOTE download_profile_matrix: no visible binding for global variable ‘profile_matrix’ Undefined global functions or variables: profile_matrix * checking Rd files ... OK * checking Rd metadata ... OK * checking Rd cross-references ... OK * checking for missing documentation entries ... OK * checking for code/documentation mismatches ... OK * checking Rd \usage sections ... OK * checking Rd contents ... OK * checking for unstated dependencies in examples ... OK * checking contents of ‘data’ directory ... OK * checking data for non-ASCII characters ... OK * checking LazyData ... OK * checking data for ASCII and uncompressed saves ... OK * checking files in ‘vignettes’ ... OK * checking examples ... OK Examples with CPU (user + system) or elapsed time > 5s user system elapsed runReverseDecon 78.569 2.945 82.837 runCollapseCellTypes 77.741 3.031 82.342 runspatialdecon 59.153 1.779 63.537 runMergeTumorIntoX 15.668 0.211 16.245 runErrorModel 14.872 0.222 15.550 reverseDecon 6.964 0.335 7.423 SpatialDecon-package 6.117 0.229 6.361 * checking for unstated dependencies in ‘tests’ ... OK * checking tests ... Running ‘testthat.R’ OK * checking for unstated dependencies in vignettes ... OK * checking package vignettes in ‘inst/doc’ ... OK * checking running R code from vignettes ... SKIPPED * checking re-building of vignette outputs ... SKIPPED * checking PDF version of manual ... OK * DONE Status: 1 NOTE See ‘/Users/biocbuild/bbs-3.18-bioc-mac-arm64/meat/SpatialDecon.Rcheck/00check.log’ for details.
SpatialDecon.Rcheck/00install.out
############################################################################## ############################################################################## ### ### Running command: ### ### /Library/Frameworks/R.framework/Resources/bin/R CMD INSTALL SpatialDecon ### ############################################################################## ############################################################################## * installing to library ‘/Library/Frameworks/R.framework/Versions/4.3-arm64/Resources/library’ * installing *source* package ‘SpatialDecon’ ... ** using staged installation ** R ** data *** moving datasets to lazyload DB ** byte-compile and prepare package for lazy loading ** help *** installing help indices ** building package indices ** installing vignettes ** testing if installed package can be loaded from temporary location ** testing if installed package can be loaded from final location ** testing if installed package keeps a record of temporary installation path * DONE (SpatialDecon)
SpatialDecon.Rcheck/tests/testthat.Rout
R version 4.3.3 (2024-02-29) -- "Angel Food Cake" Copyright (C) 2024 The R Foundation for Statistical Computing Platform: aarch64-apple-darwin20 (64-bit) R is free software and comes with ABSOLUTELY NO WARRANTY. You are welcome to redistribute it under certain conditions. Type 'license()' or 'licence()' for distribution details. R is a collaborative project with many contributors. Type 'contributors()' for more information and 'citation()' on how to cite R or R packages in publications. Type 'demo()' for some demos, 'help()' for on-line help, or 'help.start()' for an HTML browser interface to help. Type 'q()' to quit R. > library(testthat) > library(SpatialDecon) > > test_check("SpatialDecon") [1] "Creating Atlas" [1] "1 / 4 : B" [1] "2 / 4 : C" [1] "3 / 4 : A" [1] "4 / 4 : D" [ FAIL 0 | WARN 0 | SKIP 0 | PASS 96 ] > > proc.time() user system elapsed 171.948 7.371 184.860
SpatialDecon.Rcheck/SpatialDecon-Ex.timings
name | user | system | elapsed | |
SpatialDecon-package | 6.117 | 0.229 | 6.361 | |
TIL_barplot | 1.517 | 0.061 | 1.580 | |
collapseCellTypes | 1.523 | 0.033 | 1.557 | |
create_profile_matrix | 0.242 | 0.021 | 0.263 | |
derive_GeoMx_background | 0.005 | 0.002 | 0.006 | |
download_profile_matrix | 0.299 | 0.426 | 2.373 | |
florets | 1.115 | 0.091 | 1.210 | |
mergeTumorIntoX | 0.014 | 0.003 | 0.016 | |
reverseDecon | 6.964 | 0.335 | 7.423 | |
runCollapseCellTypes | 77.741 | 3.031 | 82.342 | |
runErrorModel | 14.872 | 0.222 | 15.550 | |
runMergeTumorIntoX | 15.668 | 0.211 | 16.245 | |
runReverseDecon | 78.569 | 2.945 | 82.837 | |
runspatialdecon | 59.153 | 1.779 | 63.537 | |
spatialdecon | 4.591 | 0.210 | 4.903 | |