| Back to Mac ARM64 build report for BioC 3.18 |
|
This page was generated on 2024-04-18 11:32:18 -0400 (Thu, 18 Apr 2024).
| Hostname | OS | Arch (*) | R version | Installed pkgs |
|---|---|---|---|---|
| kjohnson1 | macOS 13.6.1 Ventura | arm64 | 4.3.3 (2024-02-29) -- "Angel Food Cake" | 4388 |
| Click on any hostname to see more info about the system (e.g. compilers) (*) as reported by 'uname -p', except on Windows and Mac OS X | ||||
| Package 1886/2266 | Hostname | OS / Arch | INSTALL | BUILD | CHECK | BUILD BIN | ||||||||
| Sconify 1.22.0 (landing page) Tyler J Burns
| kjohnson1 | macOS 13.6.1 Ventura / arm64 | OK | OK | OK | OK | ||||||||
|
To the developers/maintainers of the Sconify package: - Use the following Renviron settings to reproduce errors and warnings. - If 'R CMD check' started to fail recently on the Linux builder(s) over a missing dependency, add the missing dependency to 'Suggests:' in your DESCRIPTION file. See Renviron.bioc for more information. |
| Package: Sconify |
| Version: 1.22.0 |
| Command: /Library/Frameworks/R.framework/Resources/bin/R CMD check --install=check:Sconify.install-out.txt --library=/Library/Frameworks/R.framework/Resources/library --no-vignettes --timings Sconify_1.22.0.tar.gz |
| StartedAt: 2024-04-18 03:04:25 -0400 (Thu, 18 Apr 2024) |
| EndedAt: 2024-04-18 03:06:22 -0400 (Thu, 18 Apr 2024) |
| EllapsedTime: 116.8 seconds |
| RetCode: 0 |
| Status: OK |
| CheckDir: Sconify.Rcheck |
| Warnings: 0 |
##############################################################################
##############################################################################
###
### Running command:
###
### /Library/Frameworks/R.framework/Resources/bin/R CMD check --install=check:Sconify.install-out.txt --library=/Library/Frameworks/R.framework/Resources/library --no-vignettes --timings Sconify_1.22.0.tar.gz
###
##############################################################################
##############################################################################
* using log directory ‘/Users/biocbuild/bbs-3.18-bioc-mac-arm64/meat/Sconify.Rcheck’
* using R version 4.3.3 (2024-02-29)
* using platform: aarch64-apple-darwin20 (64-bit)
* R was compiled by
Apple clang version 14.0.0 (clang-1400.0.29.202)
GNU Fortran (GCC) 12.2.0
* running under: macOS Ventura 13.6.1
* using session charset: UTF-8
* using option ‘--no-vignettes’
* checking for file ‘Sconify/DESCRIPTION’ ... OK
* checking extension type ... Package
* this is package ‘Sconify’ version ‘1.22.0’
* package encoding: UTF-8
* checking package namespace information ... OK
* checking package dependencies ... OK
* checking if this is a source package ... OK
* checking if there is a namespace ... OK
* checking for hidden files and directories ... OK
* checking for portable file names ... OK
* checking for sufficient/correct file permissions ... OK
* checking whether package ‘Sconify’ can be installed ... OK
* checking installed package size ... OK
* checking package directory ... OK
* checking ‘build’ directory ... OK
* checking DESCRIPTION meta-information ... OK
* checking top-level files ... OK
* checking for left-over files ... OK
* checking index information ... OK
* checking package subdirectories ... OK
* checking R files for non-ASCII characters ... OK
* checking R files for syntax errors ... OK
* checking whether the package can be loaded ... OK
* checking whether the package can be loaded with stated dependencies ... OK
* checking whether the package can be unloaded cleanly ... OK
* checking whether the namespace can be loaded with stated dependencies ... OK
* checking whether the namespace can be unloaded cleanly ... OK
* checking dependencies in R code ... OK
* checking S3 generic/method consistency ... OK
* checking replacement functions ... OK
* checking foreign function calls ... OK
* checking R code for possible problems ... OK
* checking Rd files ... OK
* checking Rd metadata ... OK
* checking Rd cross-references ... OK
* checking for missing documentation entries ... OK
* checking for code/documentation mismatches ... OK
* checking Rd \usage sections ... OK
* checking Rd contents ... OK
* checking for unstated dependencies in examples ... OK
* checking contents of ‘data’ directory ... OK
* checking data for non-ASCII characters ... OK
* checking LazyData ... OK
* checking data for ASCII and uncompressed saves ... OK
* checking files in ‘vignettes’ ... OK
* checking examples ... OK
Examples with CPU (user + system) or elapsed time > 5s
user system elapsed
SconeValues 12.289 0.307 12.771
* checking for unstated dependencies in ‘tests’ ... OK
* checking tests ...
Running ‘testthat.R’
OK
* checking for unstated dependencies in vignettes ... OK
* checking package vignettes in ‘inst/doc’ ... OK
* checking running R code from vignettes ... SKIPPED
* checking re-building of vignette outputs ... SKIPPED
* checking PDF version of manual ... OK
* DONE
Status: OK
Sconify.Rcheck/00install.out
############################################################################## ############################################################################## ### ### Running command: ### ### /Library/Frameworks/R.framework/Resources/bin/R CMD INSTALL Sconify ### ############################################################################## ############################################################################## * installing to library ‘/Library/Frameworks/R.framework/Versions/4.3-arm64/Resources/library’ * installing *source* package ‘Sconify’ ... ** using staged installation ** R ** data *** moving datasets to lazyload DB ** inst ** byte-compile and prepare package for lazy loading Note: wrong number of arguments to '/' Note: wrong number of arguments to 'asinh' ** help *** installing help indices ** building package indices ** installing vignettes ** testing if installed package can be loaded from temporary location ** testing if installed package can be loaded from final location ** testing if installed package keeps a record of temporary installation path * DONE (Sconify)
Sconify.Rcheck/tests/testthat.Rout
R version 4.3.3 (2024-02-29) -- "Angel Food Cake"
Copyright (C) 2024 The R Foundation for Statistical Computing
Platform: aarch64-apple-darwin20 (64-bit)
R is free software and comes with ABSOLUTELY NO WARRANTY.
You are welcome to redistribute it under certain conditions.
Type 'license()' or 'licence()' for distribution details.
R is a collaborative project with many contributors.
Type 'contributors()' for more information and
'citation()' on how to cite R or R packages in publications.
Type 'demo()' for some demos, 'help()' for on-line help, or
'help.start()' for an HTML browser interface to help.
Type 'q()' to quit R.
> library(testthat)
> library(Sconify)
>
> test_check("Sconify")
Read the 100 x 27 data matrix successfully!
Using no_dims = 2, perplexity = 30.000000, and theta = 0.500000
Computing input similarities...
Building tree...
Done in 0.01 seconds (sparsity = 0.966200)!
Learning embedding...
Iteration 50: error is 51.051537 (50 iterations in 0.01 seconds)
Iteration 100: error is 53.372324 (50 iterations in 0.02 seconds)
Iteration 150: error is 51.845525 (50 iterations in 0.02 seconds)
Iteration 200: error is 53.707683 (50 iterations in 0.02 seconds)
Iteration 250: error is 49.941738 (50 iterations in 0.01 seconds)
Iteration 300: error is 0.949664 (50 iterations in 0.01 seconds)
Iteration 350: error is 0.346627 (50 iterations in 0.01 seconds)
Iteration 400: error is 0.182655 (50 iterations in 0.01 seconds)
Iteration 450: error is 0.163401 (50 iterations in 0.01 seconds)
Iteration 500: error is 0.163751 (50 iterations in 0.01 seconds)
Iteration 550: error is 0.164394 (50 iterations in 0.01 seconds)
Iteration 600: error is 0.163957 (50 iterations in 0.01 seconds)
Iteration 650: error is 0.163746 (50 iterations in 0.01 seconds)
Iteration 700: error is 0.159603 (50 iterations in 0.01 seconds)
Iteration 750: error is 0.155161 (50 iterations in 0.01 seconds)
Iteration 800: error is 0.157246 (50 iterations in 0.01 seconds)
Iteration 850: error is 0.155261 (50 iterations in 0.01 seconds)
Iteration 900: error is 0.155843 (50 iterations in 0.01 seconds)
Iteration 950: error is 0.155191 (50 iterations in 0.01 seconds)
Iteration 1000: error is 0.156810 (50 iterations in 0.01 seconds)
Fitting performed in 0.25 seconds.
Read the 1000 x 27 data matrix successfully!
Using no_dims = 2, perplexity = 30.000000, and theta = 0.500000
Computing input similarities...
Building tree...
Done in 0.17 seconds (sparsity = 0.129120)!
Learning embedding...
Iteration 50: error is 63.619195 (50 iterations in 0.28 seconds)
Iteration 100: error is 60.647123 (50 iterations in 0.23 seconds)
Iteration 150: error is 60.334186 (50 iterations in 0.24 seconds)
Iteration 200: error is 60.222200 (50 iterations in 0.25 seconds)
Iteration 250: error is 60.157897 (50 iterations in 0.26 seconds)
Iteration 300: error is 1.344385 (50 iterations in 0.21 seconds)
Iteration 350: error is 1.226956 (50 iterations in 0.20 seconds)
Iteration 400: error is 1.195699 (50 iterations in 0.20 seconds)
Iteration 450: error is 1.183500 (50 iterations in 0.19 seconds)
Iteration 500: error is 1.174557 (50 iterations in 0.20 seconds)
Iteration 550: error is 1.170692 (50 iterations in 0.20 seconds)
Iteration 600: error is 1.167757 (50 iterations in 0.19 seconds)
Iteration 650: error is 1.164759 (50 iterations in 0.19 seconds)
Iteration 700: error is 1.161222 (50 iterations in 0.19 seconds)
Iteration 750: error is 1.158259 (50 iterations in 0.19 seconds)
Iteration 800: error is 1.156082 (50 iterations in 0.19 seconds)
Iteration 850: error is 1.153946 (50 iterations in 0.19 seconds)
Iteration 900: error is 1.152454 (50 iterations in 0.18 seconds)
Iteration 950: error is 1.151317 (50 iterations in 0.19 seconds)
Iteration 1000: error is 1.149877 (50 iterations in 0.18 seconds)
Fitting performed in 4.17 seconds.
[ FAIL 0 | WARN 4 | SKIP 0 | PASS 72 ]
[ FAIL 0 | WARN 4 | SKIP 0 | PASS 72 ]
>
> proc.time()
user system elapsed
21.407 0.737 22.587
Sconify.Rcheck/Sconify-Ex.timings
| name | user | system | elapsed | |
| FcsToTibble | 0.144 | 0.004 | 0.151 | |
| Fnn | 0.379 | 0.873 | 1.284 | |
| GetKnnDe | 0.114 | 0.006 | 0.120 | |
| GetMarkerNames | 0.028 | 0.003 | 0.032 | |
| ImputeTesting | 3.070 | 0.022 | 3.104 | |
| MakeHist | 0.355 | 0.011 | 0.365 | |
| MakeKnnList | 0.358 | 0.007 | 0.365 | |
| MeaningOfLife | 0 | 0 | 0 | |
| ParseMarkers | 0.273 | 0.028 | 0.305 | |
| PostProcessing | 0.136 | 0.008 | 0.144 | |
| ProcessMultipleFiles | 0.100 | 0.003 | 0.104 | |
| QuantNormalizeElements | 0.214 | 0.002 | 0.217 | |
| SconeValues | 12.289 | 0.307 | 12.771 | |
| SplitFile | 0.080 | 0.003 | 0.083 | |
| StringToNumbers | 0.000 | 0.000 | 0.001 | |
| SubsampleAndTsne | 2.048 | 0.062 | 2.131 | |
| TsneVis | 0.188 | 0.006 | 0.195 | |