| Back to Mac ARM64 build report for BioC 3.18 |
|
This page was generated on 2024-04-18 11:32:19 -0400 (Thu, 18 Apr 2024).
| Hostname | OS | Arch (*) | R version | Installed pkgs |
|---|---|---|---|---|
| kjohnson1 | macOS 13.6.1 Ventura | arm64 | 4.3.3 (2024-02-29) -- "Angel Food Cake" | 4388 |
| Click on any hostname to see more info about the system (e.g. compilers) (*) as reported by 'uname -p', except on Windows and Mac OS X | ||||
| Package 2023/2266 | Hostname | OS / Arch | INSTALL | BUILD | CHECK | BUILD BIN | ||||||||
| SPIAT 1.4.2 (landing page) Yuzhou Feng
| kjohnson1 | macOS 13.6.1 Ventura / arm64 | OK | OK | OK | OK | ||||||||
|
To the developers/maintainers of the SPIAT package: - Use the following Renviron settings to reproduce errors and warnings. - If 'R CMD check' started to fail recently on the Linux builder(s) over a missing dependency, add the missing dependency to 'Suggests:' in your DESCRIPTION file. See Renviron.bioc for more information. |
| Package: SPIAT |
| Version: 1.4.2 |
| Command: /Library/Frameworks/R.framework/Resources/bin/R CMD check --install=check:SPIAT.install-out.txt --library=/Library/Frameworks/R.framework/Resources/library --no-vignettes --timings SPIAT_1.4.2.tar.gz |
| StartedAt: 2024-04-18 04:59:01 -0400 (Thu, 18 Apr 2024) |
| EndedAt: 2024-04-18 05:06:01 -0400 (Thu, 18 Apr 2024) |
| EllapsedTime: 419.9 seconds |
| RetCode: 0 |
| Status: OK |
| CheckDir: SPIAT.Rcheck |
| Warnings: 0 |
##############################################################################
##############################################################################
###
### Running command:
###
### /Library/Frameworks/R.framework/Resources/bin/R CMD check --install=check:SPIAT.install-out.txt --library=/Library/Frameworks/R.framework/Resources/library --no-vignettes --timings SPIAT_1.4.2.tar.gz
###
##############################################################################
##############################################################################
* using log directory ‘/Users/biocbuild/bbs-3.18-bioc-mac-arm64/meat/SPIAT.Rcheck’
* using R version 4.3.3 (2024-02-29)
* using platform: aarch64-apple-darwin20 (64-bit)
* R was compiled by
Apple clang version 14.0.0 (clang-1400.0.29.202)
GNU Fortran (GCC) 12.2.0
* running under: macOS Ventura 13.6.1
* using session charset: UTF-8
* using option ‘--no-vignettes’
* checking for file ‘SPIAT/DESCRIPTION’ ... OK
* checking extension type ... Package
* this is package ‘SPIAT’ version ‘1.4.2’
* package encoding: UTF-8
* checking package namespace information ... OK
* checking package dependencies ... OK
* checking if this is a source package ... OK
* checking if there is a namespace ... OK
* checking for hidden files and directories ... OK
* checking for portable file names ... OK
* checking for sufficient/correct file permissions ... OK
* checking whether package ‘SPIAT’ can be installed ... OK
* checking installed package size ... OK
* checking package directory ... OK
* checking ‘build’ directory ... OK
* checking DESCRIPTION meta-information ... NOTE
License components with restrictions not permitted:
Artistic-2.0 + file LICENSE
* checking top-level files ... OK
* checking for left-over files ... OK
* checking index information ... OK
* checking package subdirectories ... OK
* checking R files for non-ASCII characters ... OK
* checking R files for syntax errors ... OK
* checking whether the package can be loaded ... OK
* checking whether the package can be loaded with stated dependencies ... OK
* checking whether the package can be unloaded cleanly ... OK
* checking whether the namespace can be loaded with stated dependencies ... OK
* checking whether the namespace can be unloaded cleanly ... OK
* checking dependencies in R code ... OK
* checking S3 generic/method consistency ... OK
* checking replacement functions ... OK
* checking foreign function calls ... OK
* checking R code for possible problems ... OK
* checking Rd files ... OK
* checking Rd metadata ... OK
* checking Rd cross-references ... OK
* checking for missing documentation entries ... OK
* checking for code/documentation mismatches ... OK
* checking Rd \usage sections ... OK
* checking Rd contents ... OK
* checking for unstated dependencies in examples ... OK
* checking contents of ‘data’ directory ... OK
* checking data for non-ASCII characters ... OK
* checking LazyData ... OK
* checking data for ASCII and uncompressed saves ... OK
* checking files in ‘vignettes’ ... OK
* checking examples ... OK
Examples with CPU (user + system) or elapsed time > 5s
user system elapsed
dimensionality_reduction_plot 24.828 1.330 27.107
calculate_percentage_of_grids 9.719 0.132 10.256
calculate_pairwise_distances_between_celltypes 6.027 0.723 6.902
calculate_spatial_autocorrelation 4.926 0.053 5.053
* checking for unstated dependencies in ‘tests’ ... OK
* checking tests ...
Running ‘testthat.R’
OK
* checking for unstated dependencies in vignettes ... OK
* checking package vignettes in ‘inst/doc’ ... OK
* checking running R code from vignettes ... SKIPPED
* checking re-building of vignette outputs ... SKIPPED
* checking PDF version of manual ... OK
* DONE
Status: 1 NOTE
See
‘/Users/biocbuild/bbs-3.18-bioc-mac-arm64/meat/SPIAT.Rcheck/00check.log’
for details.
SPIAT.Rcheck/00install.out
############################################################################## ############################################################################## ### ### Running command: ### ### /Library/Frameworks/R.framework/Resources/bin/R CMD INSTALL SPIAT ### ############################################################################## ############################################################################## * installing to library ‘/Library/Frameworks/R.framework/Versions/4.3-arm64/Resources/library’ * installing *source* package ‘SPIAT’ ... ** using staged installation ** R ** data *** moving datasets to lazyload DB ** inst ** byte-compile and prepare package for lazy loading ** help *** installing help indices ** building package indices ** installing vignettes ** testing if installed package can be loaded from temporary location ** testing if installed package can be loaded from final location ** testing if installed package keeps a record of temporary installation path * DONE (SPIAT)
SPIAT.Rcheck/tests/testthat.Rout
R version 4.3.3 (2024-02-29) -- "Angel Food Cake"
Copyright (C) 2024 The R Foundation for Statistical Computing
Platform: aarch64-apple-darwin20 (64-bit)
R is free software and comes with ABSOLUTELY NO WARRANTY.
You are welcome to redistribute it under certain conditions.
Type 'license()' or 'licence()' for distribution details.
R is a collaborative project with many contributors.
Type 'contributors()' for more information and
'citation()' on how to cite R or R packages in publications.
Type 'demo()' for some demos, 'help()' for on-line help, or
'help.start()' for an HTML browser interface to help.
Type 'q()' to quit R.
> library(testthat)
> library(SPIAT)
Loading required package: SpatialExperiment
Loading required package: SingleCellExperiment
Loading required package: SummarizedExperiment
Loading required package: MatrixGenerics
Loading required package: matrixStats
Attaching package: 'MatrixGenerics'
The following objects are masked from 'package:matrixStats':
colAlls, colAnyNAs, colAnys, colAvgsPerRowSet, colCollapse,
colCounts, colCummaxs, colCummins, colCumprods, colCumsums,
colDiffs, colIQRDiffs, colIQRs, colLogSumExps, colMadDiffs,
colMads, colMaxs, colMeans2, colMedians, colMins, colOrderStats,
colProds, colQuantiles, colRanges, colRanks, colSdDiffs, colSds,
colSums2, colTabulates, colVarDiffs, colVars, colWeightedMads,
colWeightedMeans, colWeightedMedians, colWeightedSds,
colWeightedVars, rowAlls, rowAnyNAs, rowAnys, rowAvgsPerColSet,
rowCollapse, rowCounts, rowCummaxs, rowCummins, rowCumprods,
rowCumsums, rowDiffs, rowIQRDiffs, rowIQRs, rowLogSumExps,
rowMadDiffs, rowMads, rowMaxs, rowMeans2, rowMedians, rowMins,
rowOrderStats, rowProds, rowQuantiles, rowRanges, rowRanks,
rowSdDiffs, rowSds, rowSums2, rowTabulates, rowVarDiffs, rowVars,
rowWeightedMads, rowWeightedMeans, rowWeightedMedians,
rowWeightedSds, rowWeightedVars
Loading required package: GenomicRanges
Loading required package: stats4
Loading required package: BiocGenerics
Attaching package: 'BiocGenerics'
The following objects are masked from 'package:stats':
IQR, mad, sd, var, xtabs
The following objects are masked from 'package:base':
Filter, Find, Map, Position, Reduce, anyDuplicated, aperm, append,
as.data.frame, basename, cbind, colnames, dirname, do.call,
duplicated, eval, evalq, get, grep, grepl, intersect, is.unsorted,
lapply, mapply, match, mget, order, paste, pmax, pmax.int, pmin,
pmin.int, rank, rbind, rownames, sapply, setdiff, sort, table,
tapply, union, unique, unsplit, which.max, which.min
Loading required package: S4Vectors
Attaching package: 'S4Vectors'
The following object is masked from 'package:utils':
findMatches
The following objects are masked from 'package:base':
I, expand.grid, unname
Loading required package: IRanges
Loading required package: GenomeInfoDb
Loading required package: Biobase
Welcome to Bioconductor
Vignettes contain introductory material; view with
'browseVignettes()'. To cite Bioconductor, see
'citation("Biobase")', and for packages 'citation("pkgname")'.
Attaching package: 'Biobase'
The following object is masked from 'package:MatrixGenerics':
rowMedians
The following objects are masked from 'package:matrixStats':
anyMissing, rowMedians
>
> test_check("SPIAT")
[1] "Markers had been selected in minimum distance calculation: "
[1] "Immune1" "Tumour"
[1] "Crossing of cross K function is detected for this image, indicating a potential immune ring."
[1] "The crossing happens at the 50% of the specified distance."
[1] "The alpha of Polygon is: 63.24375"
[1] "Markers had been selected in minimum distance calculation: "
[1] "Non-border" "Border"
[1] "Tumour_marker"
[1] "Immune_marker1"
[1] "Immune_marker2"
[1] "Immune_marker3"
[1] "Immune_marker4"
[1] "Tumour_marker"
[1] "Immune_marker1"
[1] "Immune_marker2"
[1] "Immune_marker3"
[1] "Immune_marker4"
[1] "Tumour_marker threshold intensity: 0.445450443784465"
[1] "Immune_marker1 threshold intensity: 0.116980867970434"
[1] "Immune_marker2 threshold intensity: 0.124283809517202"
[1] "Immune_marker3 threshold intensity: 0.0166413130263845"
[1] "Immune_marker4 threshold intensity: 0.00989731350898589"
[ FAIL 0 | WARN 0 | SKIP 0 | PASS 80 ]
>
> proc.time()
user system elapsed
74.621 3.887 79.839
SPIAT.Rcheck/SPIAT-Ex.timings
| name | user | system | elapsed | |
| AUC_of_cross_function | 0.261 | 0.017 | 0.284 | |
| R_BC | 2.108 | 0.055 | 2.203 | |
| average_marker_intensity_within_radius | 0.063 | 0.006 | 0.071 | |
| average_minimum_distance | 0.020 | 0.003 | 0.024 | |
| average_nearest_neighbor_index | 0.330 | 0.011 | 0.343 | |
| average_percentage_of_cells_within_radius | 1.417 | 0.028 | 1.475 | |
| calculate_cell_proportions | 0.016 | 0.001 | 0.016 | |
| calculate_cross_functions | 0.158 | 0.005 | 0.181 | |
| calculate_distance_to_margin | 1.294 | 0.025 | 1.351 | |
| calculate_entropy | 0.010 | 0.001 | 0.011 | |
| calculate_minimum_distances_between_celltypes | 0.017 | 0.001 | 0.018 | |
| calculate_pairwise_distances_between_celltypes | 6.027 | 0.723 | 6.902 | |
| calculate_percentage_of_grids | 9.719 | 0.132 | 10.256 | |
| calculate_proportions_of_cells_in_structure | 1.407 | 0.021 | 1.452 | |
| calculate_spatial_autocorrelation | 4.926 | 0.053 | 5.053 | |
| calculate_summary_distances_between_celltypes | 3.329 | 0.277 | 3.641 | |
| calculate_summary_distances_of_cells_to_borders | 1.290 | 0.107 | 1.414 | |
| composition_of_neighborhoods | 1.046 | 0.248 | 1.304 | |
| compute_gradient | 0.080 | 0.009 | 0.091 | |
| crossing_of_crossK | 0.143 | 0.004 | 0.148 | |
| define_celltypes | 0.822 | 0.011 | 0.852 | |
| define_structure | 1.697 | 0.045 | 1.772 | |
| dimensionality_reduction_plot | 24.828 | 1.330 | 27.107 | |
| entropy_gradient_aggregated | 0.623 | 0.031 | 0.678 | |
| format_cellprofiler_to_spe | 0.152 | 0.004 | 0.175 | |
| format_codex_to_spe | 0.118 | 0.004 | 0.136 | |
| format_colData_to_spe | 0.146 | 0.002 | 0.160 | |
| format_halo_to_spe | 0.396 | 0.034 | 0.479 | |
| format_image_to_spe | 0.181 | 0.002 | 0.192 | |
| format_inform_to_spe | 0.265 | 0.015 | 0.293 | |
| format_spe_to_ppp | 0.02 | 0.00 | 0.02 | |
| grid_metrics | 4.606 | 0.057 | 4.893 | |
| identify_bordering_cells | 0.644 | 0.017 | 0.691 | |
| identify_neighborhoods | 2.006 | 0.298 | 2.477 | |
| image_splitter | 1.567 | 0.049 | 1.683 | |
| marker_intensity_boxplot | 0.321 | 0.007 | 0.344 | |
| marker_prediction_plot | 0.653 | 0.029 | 0.709 | |
| marker_surface_plot | 0.281 | 0.046 | 0.342 | |
| marker_surface_plot_stack | 0.206 | 0.023 | 0.251 | |
| measure_association_to_cell_properties | 0.673 | 0.014 | 0.724 | |
| mixing_score_summary | 0.020 | 0.002 | 0.021 | |
| number_of_cells_within_radius | 0.013 | 0.002 | 0.014 | |
| plot_average_intensity | 0.312 | 0.011 | 0.343 | |
| plot_cell_categories | 0.290 | 0.012 | 0.311 | |
| plot_cell_distances_violin | 2.406 | 0.225 | 2.780 | |
| plot_cell_marker_levels | 0.210 | 0.028 | 0.248 | |
| plot_cell_percentages | 0.391 | 0.005 | 0.403 | |
| plot_composition_heatmap | 3.098 | 0.239 | 3.381 | |
| plot_distance_heatmap | 2.610 | 0.260 | 2.893 | |
| plot_marker_level_heatmap | 1.572 | 0.085 | 1.677 | |
| predict_phenotypes | 1.109 | 0.042 | 1.157 | |
| select_celltypes | 0.077 | 0.033 | 0.111 | |