Back to Mac ARM64 build report for BioC 3.18 |
|
This page was generated on 2024-04-18 11:32:17 -0400 (Thu, 18 Apr 2024).
Hostname | OS | Arch (*) | R version | Installed pkgs |
---|---|---|---|---|
kjohnson1 | macOS 13.6.1 Ventura | arm64 | 4.3.3 (2024-02-29) -- "Angel Food Cake" | 4388 |
Click on any hostname to see more info about the system (e.g. compilers) (*) as reported by 'uname -p', except on Windows and Mac OS X |
Package 1704/2266 | Hostname | OS / Arch | INSTALL | BUILD | CHECK | BUILD BIN | ||||||||
RedeR 2.6.1 (landing page) Mauro Castro
| kjohnson1 | macOS 13.6.1 Ventura / arm64 | OK | OK | OK | OK | ||||||||
To the developers/maintainers of the RedeR package: - Use the following Renviron settings to reproduce errors and warnings. - If 'R CMD check' started to fail recently on the Linux builder(s) over a missing dependency, add the missing dependency to 'Suggests:' in your DESCRIPTION file. See Renviron.bioc for more information. |
Package: RedeR |
Version: 2.6.1 |
Command: /Library/Frameworks/R.framework/Resources/bin/R CMD check --install=check:RedeR.install-out.txt --library=/Library/Frameworks/R.framework/Resources/library --no-vignettes --timings RedeR_2.6.1.tar.gz |
StartedAt: 2024-04-18 00:43:26 -0400 (Thu, 18 Apr 2024) |
EndedAt: 2024-04-18 00:44:09 -0400 (Thu, 18 Apr 2024) |
EllapsedTime: 43.3 seconds |
RetCode: 0 |
Status: OK |
CheckDir: RedeR.Rcheck |
Warnings: 0 |
############################################################################## ############################################################################## ### ### Running command: ### ### /Library/Frameworks/R.framework/Resources/bin/R CMD check --install=check:RedeR.install-out.txt --library=/Library/Frameworks/R.framework/Resources/library --no-vignettes --timings RedeR_2.6.1.tar.gz ### ############################################################################## ############################################################################## * using log directory ‘/Users/biocbuild/bbs-3.18-bioc-mac-arm64/meat/RedeR.Rcheck’ * using R version 4.3.3 (2024-02-29) * using platform: aarch64-apple-darwin20 (64-bit) * R was compiled by Apple clang version 14.0.0 (clang-1400.0.29.202) GNU Fortran (GCC) 12.2.0 * running under: macOS Ventura 13.6.1 * using session charset: UTF-8 * using option ‘--no-vignettes’ * checking for file ‘RedeR/DESCRIPTION’ ... OK * checking extension type ... Package * this is package ‘RedeR’ version ‘2.6.1’ * checking package namespace information ... OK * checking package dependencies ... OK * checking if this is a source package ... OK * checking if there is a namespace ... OK * checking for hidden files and directories ... OK * checking for portable file names ... OK * checking for sufficient/correct file permissions ... OK * checking whether package ‘RedeR’ can be installed ... OK * checking installed package size ... NOTE installed size is 5.6Mb sub-directories of 1Mb or more: data 3.2Mb java 1.8Mb * checking package directory ... OK * checking ‘build’ directory ... OK * checking DESCRIPTION meta-information ... OK * checking top-level files ... OK * checking for left-over files ... OK * checking index information ... OK * checking package subdirectories ... OK * checking R files for non-ASCII characters ... OK * checking R files for syntax errors ... OK * checking whether the package can be loaded ... OK * checking whether the package can be loaded with stated dependencies ... OK * checking whether the package can be unloaded cleanly ... OK * checking whether the namespace can be loaded with stated dependencies ... OK * checking whether the namespace can be unloaded cleanly ... OK * checking startup messages can be suppressed ... OK * checking dependencies in R code ... OK * checking S3 generic/method consistency ... OK * checking replacement functions ... OK * checking foreign function calls ... OK * checking R code for possible problems ... OK * checking Rd files ... OK * checking Rd metadata ... OK * checking Rd cross-references ... OK * checking for missing documentation entries ... OK * checking for code/documentation mismatches ... OK * checking Rd \usage sections ... OK * checking Rd contents ... OK * checking for unstated dependencies in examples ... OK * checking contents of ‘data’ directory ... OK * checking data for non-ASCII characters ... OK * checking data for ASCII and uncompressed saves ... OK * checking files in ‘vignettes’ ... OK * checking examples ... OK * checking for unstated dependencies in vignettes ... OK * checking package vignettes in ‘inst/doc’ ... OK * checking running R code from vignettes ... SKIPPED * checking re-building of vignette outputs ... SKIPPED * checking PDF version of manual ... OK * DONE Status: 1 NOTE See ‘/Users/biocbuild/bbs-3.18-bioc-mac-arm64/meat/RedeR.Rcheck/00check.log’ for details.
RedeR.Rcheck/00install.out
############################################################################## ############################################################################## ### ### Running command: ### ### /Library/Frameworks/R.framework/Resources/bin/R CMD INSTALL RedeR ### ############################################################################## ############################################################################## * installing to library ‘/Library/Frameworks/R.framework/Versions/4.3-arm64/Resources/library’ * installing *source* package ‘RedeR’ ... ** using staged installation ** R ** data ** inst ** byte-compile and prepare package for lazy loading ** help *** installing help indices ** building package indices ** installing vignettes ** testing if installed package can be loaded from temporary location ** testing if installed package can be loaded from final location ** testing if installed package keeps a record of temporary installation path * DONE (RedeR)
RedeR.Rcheck/RedeR-Ex.timings
name | user | system | elapsed | |
RedPort-class | 0.007 | 0.001 | 0.007 | |
RedPort | 0.001 | 0.001 | 0.001 | |
RedeR.data | 0.716 | 0.015 | 0.730 | |
addEdgeBetweenContainers | 0.240 | 0.014 | 0.253 | |
addEdges | 0.010 | 0.001 | 0.010 | |
addGraph | 0.012 | 0.001 | 0.013 | |
addLegend | 0.009 | 0.001 | 0.011 | |
addNodes | 0.011 | 0.001 | 0.012 | |
att | 0.090 | 0.005 | 0.097 | |
calld | 0.001 | 0.001 | 0.002 | |
cea | 0.069 | 0.003 | 0.071 | |
deSelectEdges | 0.014 | 0.001 | 0.015 | |
deSelectGraph | 0.010 | 0.001 | 0.011 | |
deSelectNodes | 0.011 | 0.001 | 0.011 | |
deleteEdges | 0.014 | 0.001 | 0.015 | |
deleteNodes | 0.010 | 0.001 | 0.011 | |
deleteSelectedEdges | 0.010 | 0.001 | 0.011 | |
deleteSelectedNodes | 0.012 | 0.001 | 0.012 | |
exitd | 0.001 | 0.001 | 0.002 | |
getContainerComponets | 0.018 | 0.001 | 0.019 | |
getEdgeIDs | 0.011 | 0.001 | 0.012 | |
getEdges | 0.010 | 0.001 | 0.011 | |
getGraph | 0.011 | 0.001 | 0.012 | |
getNodeIDs | 0.010 | 0.001 | 0.011 | |
getNodes | 0.011 | 0.001 | 0.012 | |
getSourceEdgeIDs | 0.011 | 0.001 | 0.013 | |
getTargetEdgeIDs | 0.010 | 0.001 | 0.012 | |
gtoy.rm | 0 | 0 | 0 | |
isRelaxActive | 0.001 | 0.000 | 0.001 | |
mergeNodes | 0.010 | 0.001 | 0.012 | |
mergeOutEdges | 0.013 | 0.002 | 0.015 | |
nestNodes | 0.013 | 0.001 | 0.014 | |
nesthc | 1.206 | 0.044 | 1.258 | |
new_launch_pipeline | 0 | 0 | 0 | |
ping | 0.002 | 0.000 | 0.002 | |
relax | 0.013 | 0.002 | 0.014 | |
resetd | 0.001 | 0.000 | 0.002 | |
selectAllEdges | 0.011 | 0.000 | 0.011 | |
selectAllNodes | 0.010 | 0.001 | 0.011 | |
selectEdges | 0.011 | 0.001 | 0.011 | |
selectGraph | 0.010 | 0.001 | 0.011 | |
selectNodes | 0.011 | 0.001 | 0.012 | |
setArrowDirection | 0.012 | 0.001 | 0.012 | |
subg | 0.127 | 0.004 | 0.132 | |
updateContainerSize | 0.015 | 0.001 | 0.016 | |
updateCoordXY | 0.014 | 0.001 | 0.015 | |
updateGraph | 0.013 | 0.001 | 0.014 | |
version | 0.002 | 0.000 | 0.002 | |