| Back to Mac ARM64 build report for BioC 3.18 |
|
This page was generated on 2024-04-18 11:32:15 -0400 (Thu, 18 Apr 2024).
| Hostname | OS | Arch (*) | R version | Installed pkgs |
|---|---|---|---|---|
| kjohnson1 | macOS 13.6.1 Ventura | arm64 | 4.3.3 (2024-02-29) -- "Angel Food Cake" | 4388 |
| Click on any hostname to see more info about the system (e.g. compilers) (*) as reported by 'uname -p', except on Windows and Mac OS X | ||||
| Package 1514/2266 | Hostname | OS / Arch | INSTALL | BUILD | CHECK | BUILD BIN | ||||||||
| PCAN 1.30.0 (landing page) Matthew Page
| kjohnson1 | macOS 13.6.1 Ventura / arm64 | OK | OK | OK | OK | ||||||||
|
To the developers/maintainers of the PCAN package: - Use the following Renviron settings to reproduce errors and warnings. - If 'R CMD check' started to fail recently on the Linux builder(s) over a missing dependency, add the missing dependency to 'Suggests:' in your DESCRIPTION file. See Renviron.bioc for more information. |
| Package: PCAN |
| Version: 1.30.0 |
| Command: /Library/Frameworks/R.framework/Resources/bin/R CMD check --install=check:PCAN.install-out.txt --library=/Library/Frameworks/R.framework/Resources/library --no-vignettes --timings PCAN_1.30.0.tar.gz |
| StartedAt: 2024-04-17 22:39:28 -0400 (Wed, 17 Apr 2024) |
| EndedAt: 2024-04-17 22:43:49 -0400 (Wed, 17 Apr 2024) |
| EllapsedTime: 261.5 seconds |
| RetCode: 0 |
| Status: OK |
| CheckDir: PCAN.Rcheck |
| Warnings: 0 |
##############################################################################
##############################################################################
###
### Running command:
###
### /Library/Frameworks/R.framework/Resources/bin/R CMD check --install=check:PCAN.install-out.txt --library=/Library/Frameworks/R.framework/Resources/library --no-vignettes --timings PCAN_1.30.0.tar.gz
###
##############################################################################
##############################################################################
* using log directory ‘/Users/biocbuild/bbs-3.18-bioc-mac-arm64/meat/PCAN.Rcheck’
* using R version 4.3.3 (2024-02-29)
* using platform: aarch64-apple-darwin20 (64-bit)
* R was compiled by
Apple clang version 14.0.0 (clang-1400.0.29.202)
GNU Fortran (GCC) 12.2.0
* running under: macOS Ventura 13.6.1
* using session charset: UTF-8
* using option ‘--no-vignettes’
* checking for file ‘PCAN/DESCRIPTION’ ... OK
* this is package ‘PCAN’ version ‘1.30.0’
* checking package namespace information ... OK
* checking package dependencies ... OK
* checking if this is a source package ... OK
* checking if there is a namespace ... OK
* checking for hidden files and directories ... OK
* checking for portable file names ... OK
* checking for sufficient/correct file permissions ... OK
* checking whether package ‘PCAN’ can be installed ... OK
* checking installed package size ... OK
* checking package directory ... OK
* checking ‘build’ directory ... OK
* checking DESCRIPTION meta-information ... OK
* checking top-level files ... OK
* checking for left-over files ... OK
* checking index information ... OK
* checking package subdirectories ... OK
* checking R files for non-ASCII characters ... OK
* checking R files for syntax errors ... OK
* checking whether the package can be loaded ... OK
* checking whether the package can be loaded with stated dependencies ... OK
* checking whether the package can be unloaded cleanly ... OK
* checking whether the namespace can be loaded with stated dependencies ... OK
* checking whether the namespace can be unloaded cleanly ... OK
* checking dependencies in R code ... OK
* checking S3 generic/method consistency ... OK
* checking replacement functions ... OK
* checking foreign function calls ... OK
* checking R code for possible problems ... OK
* checking Rd files ... OK
* checking Rd metadata ... OK
* checking Rd cross-references ... OK
* checking for missing documentation entries ... OK
* checking for code/documentation mismatches ... OK
* checking Rd \usage sections ... OK
* checking Rd contents ... OK
* checking for unstated dependencies in examples ... OK
* checking contents of ‘data’ directory ... OK
* checking data for non-ASCII characters ... OK
* checking data for ASCII and uncompressed saves ... OK
* checking files in ‘vignettes’ ... OK
* checking examples ... OK
Examples with CPU (user + system) or elapsed time > 5s
user system elapsed
hpGeneListComp 55.021 8.761 64.051
compareHPSets 55.112 8.335 64.794
hpGeneHeatmap 54.312 8.908 63.413
* checking for unstated dependencies in vignettes ... OK
* checking package vignettes in ‘inst/doc’ ... OK
* checking running R code from vignettes ... SKIPPED
* checking re-building of vignette outputs ... SKIPPED
* checking PDF version of manual ... OK
* DONE
Status: OK
PCAN.Rcheck/00install.out
############################################################################## ############################################################################## ### ### Running command: ### ### /Library/Frameworks/R.framework/Resources/bin/R CMD INSTALL PCAN ### ############################################################################## ############################################################################## * installing to library ‘/Library/Frameworks/R.framework/Versions/4.3-arm64/Resources/library’ * installing *source* package ‘PCAN’ ... ** using staged installation ** R ** data ** inst ** byte-compile and prepare package for lazy loading ** help *** installing help indices ** building package indices ** installing vignettes ** testing if installed package can be loaded from temporary location ** testing if installed package can be loaded from final location ** testing if installed package keeps a record of temporary installation path * DONE (PCAN)
PCAN.Rcheck/PCAN-Ex.timings
| name | user | system | elapsed | |
| calcHpSim | 2.053 | 0.500 | 2.807 | |
| compareHPSets | 55.112 | 8.335 | 64.794 | |
| computeHpIC | 1.775 | 0.244 | 2.020 | |
| geneByHp | 1.843 | 0.330 | 2.177 | |
| geneByTrait | 0.027 | 0.001 | 0.029 | |
| geneDef | 2.680 | 0.443 | 3.136 | |
| hpByTrait | 2.719 | 0.473 | 3.196 | |
| hpDef | 1.924 | 0.281 | 2.210 | |
| hpGeneHeatmap | 54.312 | 8.908 | 63.413 | |
| hpGeneListComp | 55.021 | 8.761 | 64.051 | |
| hpSetCompBestMatch | 2.668 | 0.437 | 3.127 | |
| hpSetCompSummary | 2.600 | 0.501 | 3.110 | |
| hp_ancestors | 1.896 | 0.349 | 2.247 | |
| hp_class | 0.064 | 0.001 | 0.066 | |
| hp_descendants | 1.763 | 0.309 | 2.089 | |
| hqStrNw | 0 | 0 | 0 | |
| hsEntrezByRPath | 0 | 0 | 0 | |
| rPath | 0.000 | 0.000 | 0.001 | |
| traitDef | 2.688 | 0.382 | 3.084 | |