Back to Mac ARM64 build report for BioC 3.18 |
|
This page was generated on 2024-04-18 11:32:15 -0400 (Thu, 18 Apr 2024).
Hostname | OS | Arch (*) | R version | Installed pkgs |
---|---|---|---|---|
kjohnson1 | macOS 13.6.1 Ventura | arm64 | 4.3.3 (2024-02-29) -- "Angel Food Cake" | 4388 |
Click on any hostname to see more info about the system (e.g. compilers) (*) as reported by 'uname -p', except on Windows and Mac OS X |
Package 1447/2266 | Hostname | OS / Arch | INSTALL | BUILD | CHECK | BUILD BIN | ||||||||
Ahmed A. Metwally
| kjohnson1 | macOS 13.6.1 Ventura / arm64 | ERROR | ERROR | skipped | skipped | ||||||||
To the developers/maintainers of the OmicsLonDA package: - Use the following Renviron settings to reproduce errors and warnings. - If 'R CMD check' started to fail recently on the Linux builder(s) over a missing dependency, add the missing dependency to 'Suggests:' in your DESCRIPTION file. See Renviron.bioc for more information. |
Package: OmicsLonDA |
Version: 1.18.0 |
Command: /Library/Frameworks/R.framework/Resources/bin/R CMD build --keep-empty-dirs --no-resave-data OmicsLonDA |
StartedAt: 2024-04-16 23:07:35 -0400 (Tue, 16 Apr 2024) |
EndedAt: 2024-04-16 23:07:57 -0400 (Tue, 16 Apr 2024) |
EllapsedTime: 21.6 seconds |
RetCode: 1 |
Status: ERROR |
PackageFile: None |
PackageFileSize: NA |
############################################################################## ############################################################################## ### ### Running command: ### ### /Library/Frameworks/R.framework/Resources/bin/R CMD build --keep-empty-dirs --no-resave-data OmicsLonDA ### ############################################################################## ############################################################################## * checking for file ‘OmicsLonDA/DESCRIPTION’ ... OK * preparing ‘OmicsLonDA’: * checking DESCRIPTION meta-information ... OK * installing the package to build vignettes ----------------------------------- * installing *source* package ‘OmicsLonDA’ ... ** using staged installation ** R ** data *** moving datasets to lazyload DB Warning: namespace ‘OmicsLonDA’ is not available and has been replaced by .GlobalEnv when processing object ‘omicslonda_data_example’ Warning: namespace ‘OmicsLonDA’ is not available and has been replaced by .GlobalEnv when processing object ‘omicslonda_data_example’ ** byte-compile and prepare package for lazy loading Error: object ‘colMeans’ is not exported by 'namespace:BiocGenerics' Execution halted ERROR: lazy loading failed for package ‘OmicsLonDA’ * removing ‘/private/tmp/RtmpjmbpHF/Rinst89d3486d4644/OmicsLonDA’ ----------------------------------- ERROR: package installation failed