| Back to Mac ARM64 build report for BioC 3.18 |
|
This page was generated on 2024-04-18 11:32:14 -0400 (Thu, 18 Apr 2024).
| Hostname | OS | Arch (*) | R version | Installed pkgs |
|---|---|---|---|---|
| kjohnson1 | macOS 13.6.1 Ventura | arm64 | 4.3.3 (2024-02-29) -- "Angel Food Cake" | 4388 |
| Click on any hostname to see more info about the system (e.g. compilers) (*) as reported by 'uname -p', except on Windows and Mac OS X | ||||
| Package 1405/2266 | Hostname | OS / Arch | INSTALL | BUILD | CHECK | BUILD BIN | ||||||||
| NetPathMiner 1.38.0 (landing page) Ahmed Mohamed
| kjohnson1 | macOS 13.6.1 Ventura / arm64 | ERROR | ERROR | skipped | skipped | ||||||||
|
To the developers/maintainers of the NetPathMiner package: - Use the following Renviron settings to reproduce errors and warnings. - If 'R CMD check' started to fail recently on the Linux builder(s) over a missing dependency, add the missing dependency to 'Suggests:' in your DESCRIPTION file. See Renviron.bioc for more information. |
| Package: NetPathMiner |
| Version: 1.38.0 |
| Command: /Library/Frameworks/R.framework/Resources/bin/R CMD build --keep-empty-dirs --no-resave-data NetPathMiner |
| StartedAt: 2024-04-16 22:49:06 -0400 (Tue, 16 Apr 2024) |
| EndedAt: 2024-04-16 22:49:16 -0400 (Tue, 16 Apr 2024) |
| EllapsedTime: 9.1 seconds |
| RetCode: 1 |
| Status: ERROR |
| PackageFile: None |
| PackageFileSize: NA |
##############################################################################
##############################################################################
###
### Running command:
###
### /Library/Frameworks/R.framework/Resources/bin/R CMD build --keep-empty-dirs --no-resave-data NetPathMiner
###
##############################################################################
##############################################################################
* checking for file ‘NetPathMiner/DESCRIPTION’ ... OK
* preparing ‘NetPathMiner’:
* checking DESCRIPTION meta-information ... OK
* cleaning src
* running ‘cleanup’
* installing the package to build vignettes
-----------------------------------
* installing *source* package ‘NetPathMiner’ ...
** using staged installation
'config' variable 'CPP' is defunct
checking for gcc... clang -arch arm64
checking whether the C compiler works... yes
checking for C compiler default output file name... a.out
checking for suffix of executables...
checking whether we are cross compiling... no
checking for suffix of object files... o
checking whether we are using the GNU C compiler... yes
checking whether clang -arch arm64 accepts -g... yes
checking for clang -arch arm64 option to accept ISO C89... none needed
checking how to run the C preprocessor... clang -arch arm64 -E
checking for xmlParseFile in -lxml2... yes
checking for readSBML in -lsbml... no
Non x86_64 architecture. Using system-wide boost installation!
SBML not found.
libXML2 found
checking for xml2-config... /usr/bin/xml2-config
configure: creating ./config.status
config.status: creating src/Makevars
** libs
using C compiler: ‘Apple clang version 15.0.0 (clang-1500.0.40.1)’
using C++ compiler: ‘Apple clang version 15.0.0 (clang-1500.0.40.1)’
using SDK: ‘MacOSX11.3.sdk’
clang++ -arch arm64 -std=gnu++17 -I"/Library/Frameworks/R.framework/Resources/include" -DNDEBUG -I/opt/R/arm64/include -DHAVE_XML -I/Library/Developer/CommandLineTools/SDKs/MacOSX11.sdk/usr/include -I/opt/R/arm64/include -fPIC -falign-functions=64 -Wall -g -O2 -c PathRanker.cpp -o PathRanker.o
PathRanker.cpp:27:10: fatal error: 'boost/graph/graph_utility.hpp' file not found
#include <boost/graph/graph_utility.hpp>
^~~~~~~~~~~~~~~~~~~~~~~~~~~~~~~
1 error generated.
make: *** [PathRanker.o] Error 1
ERROR: compilation failed for package ‘NetPathMiner’
* removing ‘/private/tmp/RtmpS1yPL0/Rinst55b2623781c4/NetPathMiner’
-----------------------------------
ERROR: package installation failed