| Back to Mac ARM64 build report for BioC 3.18 |
|
This page was generated on 2024-04-18 11:32:13 -0400 (Thu, 18 Apr 2024).
| Hostname | OS | Arch (*) | R version | Installed pkgs |
|---|---|---|---|---|
| kjohnson1 | macOS 13.6.1 Ventura | arm64 | 4.3.3 (2024-02-29) -- "Angel Food Cake" | 4388 |
| Click on any hostname to see more info about the system (e.g. compilers) (*) as reported by 'uname -p', except on Windows and Mac OS X | ||||
| Package 1222/2266 | Hostname | OS / Arch | INSTALL | BUILD | CHECK | BUILD BIN | ||||||||
| MethTargetedNGS 1.34.0 (landing page) Muhammad Ahmer Jamil
| kjohnson1 | macOS 13.6.1 Ventura / arm64 | OK | OK | OK | OK | ||||||||
|
To the developers/maintainers of the MethTargetedNGS package: - Use the following Renviron settings to reproduce errors and warnings. - If 'R CMD check' started to fail recently on the Linux builder(s) over a missing dependency, add the missing dependency to 'Suggests:' in your DESCRIPTION file. See Renviron.bioc for more information. |
| Package: MethTargetedNGS |
| Version: 1.34.0 |
| Command: /Library/Frameworks/R.framework/Resources/bin/R CMD check --install=check:MethTargetedNGS.install-out.txt --library=/Library/Frameworks/R.framework/Resources/library --no-vignettes --timings MethTargetedNGS_1.34.0.tar.gz |
| StartedAt: 2024-04-17 18:58:57 -0400 (Wed, 17 Apr 2024) |
| EndedAt: 2024-04-17 19:00:42 -0400 (Wed, 17 Apr 2024) |
| EllapsedTime: 105.1 seconds |
| RetCode: 0 |
| Status: OK |
| CheckDir: MethTargetedNGS.Rcheck |
| Warnings: 0 |
##############################################################################
##############################################################################
###
### Running command:
###
### /Library/Frameworks/R.framework/Resources/bin/R CMD check --install=check:MethTargetedNGS.install-out.txt --library=/Library/Frameworks/R.framework/Resources/library --no-vignettes --timings MethTargetedNGS_1.34.0.tar.gz
###
##############################################################################
##############################################################################
* using log directory ‘/Users/biocbuild/bbs-3.18-bioc-mac-arm64/meat/MethTargetedNGS.Rcheck’
* using R version 4.3.3 (2024-02-29)
* using platform: aarch64-apple-darwin20 (64-bit)
* R was compiled by
Apple clang version 14.0.0 (clang-1400.0.29.202)
GNU Fortran (GCC) 12.2.0
* running under: macOS Ventura 13.6.1
* using session charset: UTF-8
* using option ‘--no-vignettes’
* checking for file ‘MethTargetedNGS/DESCRIPTION’ ... OK
* checking extension type ... Package
* this is package ‘MethTargetedNGS’ version ‘1.34.0’
* checking package namespace information ... OK
* checking package dependencies ... OK
* checking if this is a source package ... OK
* checking if there is a namespace ... OK
* checking for hidden files and directories ... OK
* checking for portable file names ... OK
* checking for sufficient/correct file permissions ... OK
* checking whether package ‘MethTargetedNGS’ can be installed ... OK
* checking installed package size ... OK
* checking package directory ... OK
* checking ‘build’ directory ... OK
* checking DESCRIPTION meta-information ... OK
* checking top-level files ... OK
* checking for left-over files ... OK
* checking index information ... OK
* checking package subdirectories ... OK
* checking R files for non-ASCII characters ... OK
* checking R files for syntax errors ... OK
* checking whether the package can be loaded ... OK
* checking whether the package can be loaded with stated dependencies ... OK
* checking whether the package can be unloaded cleanly ... OK
* checking whether the namespace can be loaded with stated dependencies ... OK
* checking whether the namespace can be unloaded cleanly ... OK
* checking dependencies in R code ... OK
* checking S3 generic/method consistency ... OK
* checking replacement functions ... OK
* checking foreign function calls ... OK
* checking R code for possible problems ... NOTE
compare_samples: no visible global function definition for ‘par’
compare_samples: no visible global function definition for ‘lines’
fishertest_cpg: no visible global function definition for ‘fisher.test’
fishertest_cpg: no visible global function definition for ‘p.adjust’
fishertest_cpg: no visible global function definition for ‘barplot’
fishertest_cpg: no visible global function definition for ‘abline’
methAlign: no visible global function definition for ‘subject’
methAlign: no visible global function definition for ‘pattern’
nhmmer: no visible global function definition for ‘read.table’
nhmmer: no visible global function definition for ‘setNames’
Undefined global functions or variables:
abline barplot fisher.test lines p.adjust par pattern read.table
setNames subject
Consider adding
importFrom("graphics", "abline", "barplot", "lines", "par")
importFrom("stats", "fisher.test", "p.adjust", "setNames")
importFrom("utils", "read.table")
to your NAMESPACE file.
* checking Rd files ... OK
* checking Rd metadata ... OK
* checking Rd cross-references ... OK
* checking for missing documentation entries ... OK
* checking for code/documentation mismatches ... OK
* checking Rd \usage sections ... OK
* checking Rd contents ... OK
* checking for unstated dependencies in examples ... OK
* checking sizes of PDF files under ‘inst/doc’ ... OK
* checking files in ‘vignettes’ ... OK
* checking examples ... OK
* checking for unstated dependencies in vignettes ... OK
* checking package vignettes in ‘inst/doc’ ... OK
* checking running R code from vignettes ... SKIPPED
* checking re-building of vignette outputs ... SKIPPED
* checking PDF version of manual ... OK
* DONE
Status: 1 NOTE
See
‘/Users/biocbuild/bbs-3.18-bioc-mac-arm64/meat/MethTargetedNGS.Rcheck/00check.log’
for details.
MethTargetedNGS.Rcheck/00install.out
############################################################################## ############################################################################## ### ### Running command: ### ### /Library/Frameworks/R.framework/Resources/bin/R CMD INSTALL MethTargetedNGS ### ############################################################################## ############################################################################## * installing to library ‘/Library/Frameworks/R.framework/Versions/4.3-arm64/Resources/library’ * installing *source* package ‘MethTargetedNGS’ ... ** using staged installation ** R ** inst ** byte-compile and prepare package for lazy loading ** help *** installing help indices ** building package indices ** installing vignettes ** testing if installed package can be loaded from temporary location ** testing if installed package can be loaded from final location ** testing if installed package keeps a record of temporary installation path * DONE (MethTargetedNGS)
MethTargetedNGS.Rcheck/MethTargetedNGS-Ex.timings
| name | user | system | elapsed | |
| bconv | 0.003 | 0.001 | 0.004 | |
| compare_samples | 3.473 | 0.052 | 3.528 | |
| fishertest_cpg | 3.402 | 0.025 | 3.429 | |
| hmmbuild | 0.001 | 0.001 | 0.002 | |
| methAlign | 1.700 | 0.014 | 1.714 | |
| methAvg | 1.691 | 0.013 | 1.719 | |
| methEntropy | 1.748 | 0.025 | 1.777 | |
| methHeatmap | 1.704 | 0.013 | 1.722 | |
| nhmmer | 0.001 | 0.001 | 0.002 | |
| odd_ratio | 3.392 | 0.019 | 3.427 | |