| Back to Mac ARM64 build report for BioC 3.18 |
|
This page was generated on 2024-04-18 11:32:13 -0400 (Thu, 18 Apr 2024).
| Hostname | OS | Arch (*) | R version | Installed pkgs |
|---|---|---|---|---|
| kjohnson1 | macOS 13.6.1 Ventura | arm64 | 4.3.3 (2024-02-29) -- "Angel Food Cake" | 4388 |
| Click on any hostname to see more info about the system (e.g. compilers) (*) as reported by 'uname -p', except on Windows and Mac OS X | ||||
| Package 1209/2266 | Hostname | OS / Arch | INSTALL | BUILD | CHECK | BUILD BIN | ||||||||
| MetaNeighbor 1.22.0 (landing page) Stephan Fischer
| kjohnson1 | macOS 13.6.1 Ventura / arm64 | OK | OK | OK | OK | ||||||||
|
To the developers/maintainers of the MetaNeighbor package: - Use the following Renviron settings to reproduce errors and warnings. - If 'R CMD check' started to fail recently on the Linux builder(s) over a missing dependency, add the missing dependency to 'Suggests:' in your DESCRIPTION file. See Renviron.bioc for more information. |
| Package: MetaNeighbor |
| Version: 1.22.0 |
| Command: /Library/Frameworks/R.framework/Resources/bin/R CMD check --install=check:MetaNeighbor.install-out.txt --library=/Library/Frameworks/R.framework/Resources/library --no-vignettes --timings MetaNeighbor_1.22.0.tar.gz |
| StartedAt: 2024-04-17 18:51:48 -0400 (Wed, 17 Apr 2024) |
| EndedAt: 2024-04-17 18:54:06 -0400 (Wed, 17 Apr 2024) |
| EllapsedTime: 138.1 seconds |
| RetCode: 0 |
| Status: OK |
| CheckDir: MetaNeighbor.Rcheck |
| Warnings: 0 |
##############################################################################
##############################################################################
###
### Running command:
###
### /Library/Frameworks/R.framework/Resources/bin/R CMD check --install=check:MetaNeighbor.install-out.txt --library=/Library/Frameworks/R.framework/Resources/library --no-vignettes --timings MetaNeighbor_1.22.0.tar.gz
###
##############################################################################
##############################################################################
* using log directory ‘/Users/biocbuild/bbs-3.18-bioc-mac-arm64/meat/MetaNeighbor.Rcheck’
* using R version 4.3.3 (2024-02-29)
* using platform: aarch64-apple-darwin20 (64-bit)
* R was compiled by
Apple clang version 14.0.0 (clang-1400.0.29.202)
GNU Fortran (GCC) 12.2.0
* running under: macOS Ventura 13.6.1
* using session charset: UTF-8
* using option ‘--no-vignettes’
* checking for file ‘MetaNeighbor/DESCRIPTION’ ... OK
* checking extension type ... Package
* this is package ‘MetaNeighbor’ version ‘1.22.0’
* checking package namespace information ... OK
* checking package dependencies ... OK
* checking if this is a source package ... OK
* checking if there is a namespace ... OK
* checking for hidden files and directories ... OK
* checking for portable file names ... OK
* checking for sufficient/correct file permissions ... OK
* checking whether package ‘MetaNeighbor’ can be installed ... OK
* checking installed package size ... OK
* checking package directory ... OK
* checking ‘build’ directory ... OK
* checking DESCRIPTION meta-information ... OK
* checking top-level files ... OK
* checking for left-over files ... OK
* checking index information ... OK
* checking package subdirectories ... OK
* checking R files for non-ASCII characters ... OK
* checking R files for syntax errors ... OK
* checking whether the package can be loaded ... OK
* checking whether the package can be loaded with stated dependencies ... OK
* checking whether the package can be unloaded cleanly ... OK
* checking whether the namespace can be loaded with stated dependencies ... OK
* checking whether the namespace can be unloaded cleanly ... OK
* checking dependencies in R code ... OK
* checking S3 generic/method consistency ... OK
* checking replacement functions ... OK
* checking foreign function calls ... OK
* checking R code for possible problems ... NOTE
MetaNeighbor : <anonymous>: no visible binding for global variable
‘cell_type’
ggPlotHeatmap: no visible binding for global variable ‘target_ct’
ggPlotHeatmap: no visible binding for global variable ‘ref_ct’
ggPlotHeatmap: no visible binding for global variable ‘auroc’
is_reciprocal_top_hit: no visible binding for global variable ‘auroc’
is_reciprocal_top_hit: no visible binding for global variable
‘ref_cell_type’
is_reciprocal_top_hit: no visible binding for global variable
‘target_cell_type’
is_reciprocal_top_hit: no visible binding for global variable
‘reciprocal_cell_type’
is_reciprocal_top_hit: no visible binding for global variable
‘is_reciprocal’
plotDotPlot: no visible binding for global variable ‘cluster’
plotDotPlot: no visible binding for global variable ‘gene’
plotDotPlot: no visible binding for global variable ‘cell_type’
plotDotPlot: no visible binding for global variable
‘average_expression’
plotDotPlot: no visible binding for global variable
‘percent_expressing’
plotMetaClusters: no visible global function definition for
‘order_sym_matrix’
topHitsByStudy: no visible binding for global variable ‘ref_cell_type’
topHitsByStudy: no visible binding for global variable
‘target_cell_type’
topHitsByStudy: no visible binding for global variable ‘ref_study’
topHitsByStudy: no visible binding for global variable ‘target_study’
topHitsByStudy: no visible binding for global variable ‘.’
topHitsByStudy: no visible binding for global variable ‘pair_id’
topHitsByStudy: no visible binding for global variable ‘is_reciprocal’
topHitsByStudy: no visible global function definition for ‘desc’
topHitsByStudy: no visible binding for global variable ‘Match_type’
variableGenes: no visible binding for global variable ‘gene’
variableGenes: no visible binding for global variable ‘is_hvg’
variableGenes: no visible binding for global variable ‘var_quant’
variableGenes: no visible binding for global variable ‘recurrence’
variableGenes: no visible global function definition for ‘desc’
variableGenes: no visible binding for global variable ‘score’
variable_genes_single_exp: no visible binding for global variable
‘bin_med’
variable_genes_single_exp: no visible binding for global variable
‘variance’
variable_genes_single_exp: no visible binding for global variable
‘var_quant’
Undefined global functions or variables:
. Match_type auroc average_expression bin_med cell_type cluster desc
gene is_hvg is_reciprocal order_sym_matrix pair_id percent_expressing
reciprocal_cell_type recurrence ref_cell_type ref_ct ref_study score
target_cell_type target_ct target_study var_quant variance
* checking Rd files ... OK
* checking Rd metadata ... OK
* checking Rd cross-references ... OK
* checking for missing documentation entries ... OK
* checking for code/documentation mismatches ... OK
* checking Rd \usage sections ... OK
* checking Rd contents ... OK
* checking for unstated dependencies in examples ... OK
* checking contents of ‘data’ directory ... OK
* checking data for non-ASCII characters ... OK
* checking LazyData ... OK
* checking data for ASCII and uncompressed saves ... OK
* checking sizes of PDF files under ‘inst/doc’ ... OK
* checking files in ‘vignettes’ ... OK
* checking examples ... OK
Examples with CPU (user + system) or elapsed time > 5s
user system elapsed
MetaNeighbor 27.104 0.631 28.058
neighborVoting 17.982 0.627 18.939
plotBPlot 17.837 0.620 18.498
* checking for unstated dependencies in ‘tests’ ... OK
* checking tests ...
Running ‘testthat.R’
OK
* checking for unstated dependencies in vignettes ... OK
* checking package vignettes in ‘inst/doc’ ... OK
* checking running R code from vignettes ... SKIPPED
* checking re-building of vignette outputs ... SKIPPED
* checking PDF version of manual ... OK
* DONE
Status: 1 NOTE
See
‘/Users/biocbuild/bbs-3.18-bioc-mac-arm64/meat/MetaNeighbor.Rcheck/00check.log’
for details.
MetaNeighbor.Rcheck/00install.out
############################################################################## ############################################################################## ### ### Running command: ### ### /Library/Frameworks/R.framework/Resources/bin/R CMD INSTALL MetaNeighbor ### ############################################################################## ############################################################################## * installing to library ‘/Library/Frameworks/R.framework/Versions/4.3-arm64/Resources/library’ * installing *source* package ‘MetaNeighbor’ ... ** using staged installation ** R ** data *** moving datasets to lazyload DB ** inst ** byte-compile and prepare package for lazy loading ** help *** installing help indices ** building package indices ** installing vignettes ** testing if installed package can be loaded from temporary location ** testing if installed package can be loaded from final location ** testing if installed package keeps a record of temporary installation path * DONE (MetaNeighbor)
MetaNeighbor.Rcheck/tests/testthat.Rout
R version 4.3.3 (2024-02-29) -- "Angel Food Cake"
Copyright (C) 2024 The R Foundation for Statistical Computing
Platform: aarch64-apple-darwin20 (64-bit)
R is free software and comes with ABSOLUTELY NO WARRANTY.
You are welcome to redistribute it under certain conditions.
Type 'license()' or 'licence()' for distribution details.
R is a collaborative project with many contributors.
Type 'contributors()' for more information and
'citation()' on how to cite R or R packages in publications.
Type 'demo()' for some demos, 'help()' for on-line help, or
'help.start()' for an HTML browser interface to help.
Type 'q()' to quit R.
> library(testthat)
> library(MetaNeighbor)
>
> test_check("MetaNeighbor")
[ FAIL 0 | WARN 0 | SKIP 0 | PASS 0 ]
>
> proc.time()
user system elapsed
0.538 0.084 0.608
MetaNeighbor.Rcheck/MetaNeighbor-Ex.timings
| name | user | system | elapsed | |
| MetaNeighbor | 27.104 | 0.631 | 28.058 | |
| MetaNeighborUS | 3.058 | 0.202 | 3.332 | |
| neighborVoting | 17.982 | 0.627 | 18.939 | |
| plotBPlot | 17.837 | 0.620 | 18.498 | |
| plotHeatmap | 2.819 | 0.166 | 2.988 | |
| plotHeatmapPretrained | 3.254 | 0.145 | 3.401 | |
| plotUpset | 1.410 | 0.079 | 1.489 | |
| topHits | 3.310 | 0.129 | 3.441 | |
| topHitsByStudy | 2.852 | 0.156 | 3.010 | |
| trainModel | 0.527 | 0.047 | 0.573 | |
| variableGenes | 0.392 | 0.044 | 0.436 | |