| Back to Mac ARM64 build report for BioC 3.18 |
|
This page was generated on 2024-03-07 14:39:59 -0500 (Thu, 07 Mar 2024).
| Hostname | OS | Arch (*) | R version | Installed pkgs |
|---|---|---|---|---|
| kjohnson1 | macOS 13.6.1 Ventura | arm64 | 4.3.2 (2023-10-31) -- "Eye Holes" | 4346 |
| Click on any hostname to see more info about the system (e.g. compilers) (*) as reported by 'uname -p', except on Windows and Mac OS X | ||||
| Package 1319/2266 | Hostname | OS / Arch | INSTALL | BUILD | CHECK | BUILD BIN | ||||||||
| MQmetrics 1.10.0 (landing page) Alvaro Sanchez-Villalba
| kjohnson1 | macOS 13.6.1 Ventura / arm64 | OK | OK | OK | OK | ||||||||
|
To the developers/maintainers of the MQmetrics package: - Use the following Renviron settings to reproduce errors and warnings. - If 'R CMD check' started to fail recently on the Linux builder(s) over a missing dependency, add the missing dependency to 'Suggests:' in your DESCRIPTION file. See Renviron.bioc for more information. |
| Package: MQmetrics |
| Version: 1.10.0 |
| Command: /Library/Frameworks/R.framework/Resources/bin/R CMD check --install=check:MQmetrics.install-out.txt --library=/Library/Frameworks/R.framework/Resources/library --no-vignettes --timings MQmetrics_1.10.0.tar.gz |
| StartedAt: 2024-03-06 20:12:50 -0500 (Wed, 06 Mar 2024) |
| EndedAt: 2024-03-06 20:14:46 -0500 (Wed, 06 Mar 2024) |
| EllapsedTime: 115.5 seconds |
| RetCode: 0 |
| Status: OK |
| CheckDir: MQmetrics.Rcheck |
| Warnings: 0 |
##############################################################################
##############################################################################
###
### Running command:
###
### /Library/Frameworks/R.framework/Resources/bin/R CMD check --install=check:MQmetrics.install-out.txt --library=/Library/Frameworks/R.framework/Resources/library --no-vignettes --timings MQmetrics_1.10.0.tar.gz
###
##############################################################################
##############################################################################
* using log directory ‘/Users/biocbuild/bbs-3.18-bioc-mac-arm64/meat/MQmetrics.Rcheck’
* using R version 4.3.2 (2023-10-31)
* using platform: aarch64-apple-darwin20 (64-bit)
* R was compiled by
Apple clang version 14.0.0 (clang-1400.0.29.202)
GNU Fortran (GCC) 12.2.0
* running under: macOS Ventura 13.6.1
* using session charset: UTF-8
* using option ‘--no-vignettes’
* checking for file ‘MQmetrics/DESCRIPTION’ ... OK
* checking extension type ... Package
* this is package ‘MQmetrics’ version ‘1.10.0’
* package encoding: UTF-8
* checking package namespace information ... OK
* checking package dependencies ... OK
* checking if this is a source package ... OK
* checking if there is a namespace ... OK
* checking for hidden files and directories ... OK
* checking for portable file names ... OK
* checking for sufficient/correct file permissions ... OK
* checking whether package ‘MQmetrics’ can be installed ... OK
* checking installed package size ... NOTE
installed size is 5.2Mb
sub-directories of 1Mb or more:
extdata 4.9Mb
* checking package directory ... OK
* checking ‘build’ directory ... OK
* checking DESCRIPTION meta-information ... OK
* checking top-level files ... OK
* checking for left-over files ... OK
* checking index information ... OK
* checking package subdirectories ... OK
* checking R files for non-ASCII characters ... OK
* checking R files for syntax errors ... OK
* checking whether the package can be loaded ... OK
* checking whether the package can be loaded with stated dependencies ... OK
* checking whether the package can be unloaded cleanly ... OK
* checking whether the namespace can be loaded with stated dependencies ... OK
* checking whether the namespace can be unloaded cleanly ... OK
* checking dependencies in R code ... OK
* checking S3 generic/method consistency ... OK
* checking replacement functions ... OK
* checking foreign function calls ... OK
* checking R code for possible problems ... NOTE
PlotAndromedaScore: no visible binding for global variable
‘median(Score)’
Undefined global functions or variables:
median(Score)
* checking Rd files ... OK
* checking Rd metadata ... OK
* checking Rd cross-references ... OK
* checking for missing documentation entries ... OK
* checking for code/documentation mismatches ... OK
* checking Rd \usage sections ... OK
* checking Rd contents ... OK
* checking for unstated dependencies in examples ... OK
* checking files in ‘vignettes’ ... OK
* checking examples ... OK
Examples with CPU (user + system) or elapsed time > 5s
user system elapsed
PlotAcquisitionCycle 6.039 0.363 6.266
* checking for unstated dependencies in ‘tests’ ... OK
* checking tests ...
Running ‘testthat.R’
OK
* checking for unstated dependencies in vignettes ... OK
* checking package vignettes in ‘inst/doc’ ... OK
* checking running R code from vignettes ... SKIPPED
* checking re-building of vignette outputs ... SKIPPED
* checking PDF version of manual ... OK
* DONE
Status: 2 NOTEs
See
‘/Users/biocbuild/bbs-3.18-bioc-mac-arm64/meat/MQmetrics.Rcheck/00check.log’
for details.
MQmetrics.Rcheck/00install.out
############################################################################## ############################################################################## ### ### Running command: ### ### /Library/Frameworks/R.framework/Resources/bin/R CMD INSTALL MQmetrics ### ############################################################################## ############################################################################## * installing to library ‘/Library/Frameworks/R.framework/Versions/4.3-arm64/Resources/library’ * installing *source* package ‘MQmetrics’ ... ** using staged installation ** R ** inst ** byte-compile and prepare package for lazy loading ** help *** installing help indices *** copying figures ** building package indices ** installing vignettes ** testing if installed package can be loaded from temporary location ** testing if installed package can be loaded from final location ** testing if installed package keeps a record of temporary installation path * DONE (MQmetrics)
MQmetrics.Rcheck/tests/testthat.Rout
R version 4.3.2 (2023-10-31) -- "Eye Holes"
Copyright (C) 2023 The R Foundation for Statistical Computing
Platform: aarch64-apple-darwin20 (64-bit)
R is free software and comes with ABSOLUTELY NO WARRANTY.
You are welcome to redistribute it under certain conditions.
Type 'license()' or 'licence()' for distribution details.
R is a collaborative project with many contributors.
Type 'contributors()' for more information and
'citation()' on how to cite R or R packages in publications.
Type 'demo()' for some demos, 'help()' for on-line help, or
'help.start()' for an HTML browser interface to help.
Type 'q()' to quit R.
> library(testthat)
> library(MQmetrics)
>
> test_check("MQmetrics")
Rows: 7 Columns: 52
-- Column specification --------------------------------------------------------
Delimiter: "\t"
chr (8): Raw file, Experiment, Enzyme, Enzyme mode, Variable modifications,...
dbl (34): Multiplicity, Max. missed cleavages, MS, MS/MS, MS3, MS/MS Submitt...
lgl (10): Enzyme first search, Enzyme mode first search, Use enzyme first se...
i Use `spec()` to retrieve the full column specification for this data.
i Specify the column types or set `show_col_types = FALSE` to quiet this message.
Rows: 2638 Columns: 65
-- Column specification --------------------------------------------------------
Delimiter: "\t"
chr (16): Sequence, Identification type QC02_210326, Identification type QC0...
dbl (48): Missed cleavages, Experiment QC02_210326, Experiment QC02_210331, ...
lgl (1): Reverse
i Use `spec()` to retrieve the full column specification for this data.
i Specify the column types or set `show_col_types = FALSE` to quiet this message.
Rows: 13161 Columns: 9
-- Column specification --------------------------------------------------------
Delimiter: "\t"
chr (3): Experiment, Potential contaminant, Sequence
dbl (5): Charge, m/z, Retention time, Calibrated retention time, Intensity
lgl (1): Reverse
i Use `spec()` to retrieve the full column specification for this data.
i Specify the column types or set `show_col_types = FALSE` to quiet this message.
Rows: 32418 Columns: 4
-- Column specification --------------------------------------------------------
Delimiter: "\t"
chr (1): Experiment
dbl (3): Retention time, Cycle time, MS/MS count
i Use `spec()` to retrieve the full column specification for this data.
i Specify the column types or set `show_col_types = FALSE` to quiet this message.
Rows: 29621 Columns: 4
-- Column specification --------------------------------------------------------
Delimiter: "\t"
chr (2): Experiment, Reverse
dbl (2): Retention time, Total ion current
i Use `spec()` to retrieve the full column specification for this data.
i Specify the column types or set `show_col_types = FALSE` to quiet this message.
Rows: 4751 Columns: 32
-- Column specification --------------------------------------------------------
Delimiter: "\t"
chr (10): Identification type QC02_210326, Identification type QC02_210331, ...
dbl (22): Intensity, Intensity QC02_210326, Intensity QC02_210331, Intensity...
i Use `spec()` to retrieve the full column specification for this data.
i Specify the column types or set `show_col_types = FALSE` to quiet this message.
Rows: 2803 Columns: 16
-- Column specification --------------------------------------------------------
Delimiter: "\t"
chr (4): Modifications, Proteins, Potential contaminant, Reverse
dbl (12): Intensity QC02_210326, Intensity QC02_210331, Intensity QC02_21040...
i Use `spec()` to retrieve the full column specification for this data.
i Specify the column types or set `show_col_types = FALSE` to quiet this message.
Rows: 108 Columns: 2
-- Column specification --------------------------------------------------------
Delimiter: "\t"
chr (2): Parameter, Value
i Use `spec()` to retrieve the full column specification for this data.
i Specify the column types or set `show_col_types = FALSE` to quiet this message.
Rows: 53 Columns: 6
-- Column specification --------------------------------------------------------
Delimiter: "\t"
chr (3): Job, Start date, End date
dbl (1): Running time [min]
time (2): Start time, End time
i Use `spec()` to retrieve the full column specification for this data.
i Specify the column types or set `show_col_types = FALSE` to quiet this message.
Rows: 7 Columns: 52
-- Column specification --------------------------------------------------------
Delimiter: "\t"
chr (8): Raw file, Experiment, Enzyme, Enzyme mode, Variable modifications,...
dbl (34): Multiplicity, Max. missed cleavages, MS, MS/MS, MS3, MS/MS Submitt...
lgl (10): Enzyme first search, Enzyme mode first search, Use enzyme first se...
i Use `spec()` to retrieve the full column specification for this data.
i Specify the column types or set `show_col_types = FALSE` to quiet this message.
Rows: 2638 Columns: 65
-- Column specification --------------------------------------------------------
Delimiter: "\t"
chr (16): Sequence, Identification type QC02_210326, Identification type QC0...
dbl (48): Missed cleavages, Experiment QC02_210326, Experiment QC02_210331, ...
lgl (1): Reverse
i Use `spec()` to retrieve the full column specification for this data.
i Specify the column types or set `show_col_types = FALSE` to quiet this message.
Rows: 13161 Columns: 9
-- Column specification --------------------------------------------------------
Delimiter: "\t"
chr (3): Experiment, Potential contaminant, Sequence
dbl (5): Charge, m/z, Retention time, Calibrated retention time, Intensity
lgl (1): Reverse
i Use `spec()` to retrieve the full column specification for this data.
i Specify the column types or set `show_col_types = FALSE` to quiet this message.
Rows: 32418 Columns: 4
-- Column specification --------------------------------------------------------
Delimiter: "\t"
chr (1): Experiment
dbl (3): Retention time, Cycle time, MS/MS count
i Use `spec()` to retrieve the full column specification for this data.
i Specify the column types or set `show_col_types = FALSE` to quiet this message.
Rows: 29621 Columns: 4
-- Column specification --------------------------------------------------------
Delimiter: "\t"
chr (2): Experiment, Reverse
dbl (2): Retention time, Total ion current
i Use `spec()` to retrieve the full column specification for this data.
i Specify the column types or set `show_col_types = FALSE` to quiet this message.
Rows: 4751 Columns: 32
-- Column specification --------------------------------------------------------
Delimiter: "\t"
chr (10): Identification type QC02_210326, Identification type QC02_210331, ...
dbl (22): Intensity, Intensity QC02_210326, Intensity QC02_210331, Intensity...
i Use `spec()` to retrieve the full column specification for this data.
i Specify the column types or set `show_col_types = FALSE` to quiet this message.
Rows: 2803 Columns: 16
-- Column specification --------------------------------------------------------
Delimiter: "\t"
chr (4): Modifications, Proteins, Potential contaminant, Reverse
dbl (12): Intensity QC02_210326, Intensity QC02_210331, Intensity QC02_21040...
i Use `spec()` to retrieve the full column specification for this data.
i Specify the column types or set `show_col_types = FALSE` to quiet this message.
Rows: 108 Columns: 2
-- Column specification --------------------------------------------------------
Delimiter: "\t"
chr (2): Parameter, Value
i Use `spec()` to retrieve the full column specification for this data.
i Specify the column types or set `show_col_types = FALSE` to quiet this message.
Rows: 53 Columns: 6
-- Column specification --------------------------------------------------------
Delimiter: "\t"
chr (3): Job, Start date, End date
dbl (1): Running time [min]
time (2): Start time, End time
i Use `spec()` to retrieve the full column specification for this data.
i Specify the column types or set `show_col_types = FALSE` to quiet this message.
Rows: 4751 Columns: 32
-- Column specification --------------------------------------------------------
Delimiter: "\t"
chr (10): Identification type QC02_210326, Identification type QC02_210331, ...
dbl (22): Intensity, Intensity QC02_210326, Intensity QC02_210331, Intensity...
i Use `spec()` to retrieve the full column specification for this data.
i Specify the column types or set `show_col_types = FALSE` to quiet this message.
Rows: 7 Columns: 52
-- Column specification --------------------------------------------------------
Delimiter: "\t"
chr (8): Raw file, Experiment, Enzyme, Enzyme mode, Variable modifications,...
dbl (34): Multiplicity, Max. missed cleavages, MS, MS/MS, MS3, MS/MS Submitt...
lgl (10): Enzyme first search, Enzyme mode first search, Use enzyme first se...
i Use `spec()` to retrieve the full column specification for this data.
i Specify the column types or set `show_col_types = FALSE` to quiet this message.
Using Charge as value column: use value.var to override.
Aggregation function missing: defaulting to length
Rows: 7 Columns: 52
-- Column specification --------------------------------------------------------
Delimiter: "\t"
chr (8): Raw file, Experiment, Enzyme, Enzyme mode, Variable modifications,...
dbl (34): Multiplicity, Max. missed cleavages, MS, MS/MS, MS3, MS/MS Submitt...
lgl (10): Enzyme first search, Enzyme mode first search, Use enzyme first se...
i Use `spec()` to retrieve the full column specification for this data.
i Specify the column types or set `show_col_types = FALSE` to quiet this message.
Rows: 2638 Columns: 65
-- Column specification --------------------------------------------------------
Delimiter: "\t"
chr (16): Sequence, Identification type QC02_210326, Identification type QC0...
dbl (48): Missed cleavages, Experiment QC02_210326, Experiment QC02_210331, ...
lgl (1): Reverse
i Use `spec()` to retrieve the full column specification for this data.
i Specify the column types or set `show_col_types = FALSE` to quiet this message.
Rows: 13161 Columns: 9
-- Column specification --------------------------------------------------------
Delimiter: "\t"
chr (3): Experiment, Potential contaminant, Sequence
dbl (5): Charge, m/z, Retention time, Calibrated retention time, Intensity
lgl (1): Reverse
i Use `spec()` to retrieve the full column specification for this data.
i Specify the column types or set `show_col_types = FALSE` to quiet this message.
Rows: 32418 Columns: 4
-- Column specification --------------------------------------------------------
Delimiter: "\t"
chr (1): Experiment
dbl (3): Retention time, Cycle time, MS/MS count
i Use `spec()` to retrieve the full column specification for this data.
i Specify the column types or set `show_col_types = FALSE` to quiet this message.
Rows: 29621 Columns: 4
-- Column specification --------------------------------------------------------
Delimiter: "\t"
chr (2): Experiment, Reverse
dbl (2): Retention time, Total ion current
i Use `spec()` to retrieve the full column specification for this data.
i Specify the column types or set `show_col_types = FALSE` to quiet this message.
Rows: 4751 Columns: 32
-- Column specification --------------------------------------------------------
Delimiter: "\t"
chr (10): Identification type QC02_210326, Identification type QC02_210331, ...
dbl (22): Intensity, Intensity QC02_210326, Intensity QC02_210331, Intensity...
i Use `spec()` to retrieve the full column specification for this data.
i Specify the column types or set `show_col_types = FALSE` to quiet this message.
Rows: 2803 Columns: 16
-- Column specification --------------------------------------------------------
Delimiter: "\t"
chr (4): Modifications, Proteins, Potential contaminant, Reverse
dbl (12): Intensity QC02_210326, Intensity QC02_210331, Intensity QC02_21040...
i Use `spec()` to retrieve the full column specification for this data.
i Specify the column types or set `show_col_types = FALSE` to quiet this message.
Rows: 108 Columns: 2
-- Column specification --------------------------------------------------------
Delimiter: "\t"
chr (2): Parameter, Value
i Use `spec()` to retrieve the full column specification for this data.
i Specify the column types or set `show_col_types = FALSE` to quiet this message.
Rows: 53 Columns: 6
-- Column specification --------------------------------------------------------
Delimiter: "\t"
chr (3): Job, Start date, End date
dbl (1): Running time [min]
time (2): Start time, End time
i Use `spec()` to retrieve the full column specification for this data.
i Specify the column types or set `show_col_types = FALSE` to quiet this message.
[ FAIL 0 | WARN 0 | SKIP 0 | PASS 3 ]
>
> proc.time()
user system elapsed
6.166 0.937 6.499
MQmetrics.Rcheck/MQmetrics-Ex.timings
| name | user | system | elapsed | |
| MaxQuantAnalysisInfo | 1.031 | 0.141 | 1.158 | |
| PlotAcquisitionCycle | 6.039 | 0.363 | 6.266 | |
| PlotAllDynamicRange | 2.292 | 0.168 | 2.557 | |
| PlotAndromedaScore | 3.685 | 0.241 | 3.735 | |
| PlotCharge | 2.216 | 0.212 | 2.335 | |
| PlotCombinedDynamicRange | 1.170 | 0.158 | 1.293 | |
| PlotHydrophobicity | 1.900 | 0.199 | 2.036 | |
| PlotIntensity | 1.682 | 0.154 | 1.814 | |
| PlotIsotopePattern | 1.581 | 0.216 | 1.652 | |
| PlotMsMs | 1.703 | 0.233 | 1.749 | |
| PlotPCA | 1.442 | 0.223 | 1.475 | |
| PlotPTM | 4.706 | 0.270 | 4.798 | |
| PlotPTMAcrossSamples | 1.682 | 0.231 | 1.725 | |
| PlotPeaks | 1.753 | 0.238 | 1.805 | |
| PlotPeptidesIdentified | 1.660 | 0.228 | 1.707 | |
| PlotProteaseSpecificity | 3.192 | 0.236 | 3.179 | |
| PlotProteinCoverage | 3.140 | 0.241 | 3.190 | |
| PlotProteinOverlap | 1.512 | 0.220 | 1.590 | |
| PlotProteinPeptideRatio | 1.578 | 0.210 | 1.715 | |
| PlotProteinsIdentified | 1.731 | 0.205 | 1.776 | |
| PlotTotalIonCurrent | 2.412 | 0.261 | 2.491 | |
| PlotiRT | 2.292 | 0.205 | 2.353 | |
| PlotiRTScore | 2.439 | 0.228 | 2.476 | |
| ReportTables | 1.808 | 0.308 | 1.857 | |
| generateReport | 0.000 | 0.000 | 0.001 | |
| make_MQCombined | 1.583 | 0.220 | 1.581 | |