| Back to Mac ARM64 build report for BioC 3.18 |
|
This page was generated on 2024-04-18 11:32:13 -0400 (Thu, 18 Apr 2024).
| Hostname | OS | Arch (*) | R version | Installed pkgs |
|---|---|---|---|---|
| kjohnson1 | macOS 13.6.1 Ventura | arm64 | 4.3.3 (2024-02-29) -- "Angel Food Cake" | 4388 |
| Click on any hostname to see more info about the system (e.g. compilers) (*) as reported by 'uname -p', except on Windows and Mac OS X | ||||
| Package 1166/2266 | Hostname | OS / Arch | INSTALL | BUILD | CHECK | BUILD BIN | ||||||||
| MBECS 1.6.0 (landing page) Michael Olbrich
| kjohnson1 | macOS 13.6.1 Ventura / arm64 | OK | OK | OK | OK | ||||||||
|
To the developers/maintainers of the MBECS package: - Use the following Renviron settings to reproduce errors and warnings. - If 'R CMD check' started to fail recently on the Linux builder(s) over a missing dependency, add the missing dependency to 'Suggests:' in your DESCRIPTION file. See Renviron.bioc for more information. |
| Package: MBECS |
| Version: 1.6.0 |
| Command: /Library/Frameworks/R.framework/Resources/bin/R CMD check --install=check:MBECS.install-out.txt --library=/Library/Frameworks/R.framework/Resources/library --no-vignettes --timings MBECS_1.6.0.tar.gz |
| StartedAt: 2024-04-17 18:25:33 -0400 (Wed, 17 Apr 2024) |
| EndedAt: 2024-04-17 18:30:04 -0400 (Wed, 17 Apr 2024) |
| EllapsedTime: 270.1 seconds |
| RetCode: 0 |
| Status: OK |
| CheckDir: MBECS.Rcheck |
| Warnings: 0 |
##############################################################################
##############################################################################
###
### Running command:
###
### /Library/Frameworks/R.framework/Resources/bin/R CMD check --install=check:MBECS.install-out.txt --library=/Library/Frameworks/R.framework/Resources/library --no-vignettes --timings MBECS_1.6.0.tar.gz
###
##############################################################################
##############################################################################
* using log directory ‘/Users/biocbuild/bbs-3.18-bioc-mac-arm64/meat/MBECS.Rcheck’
* using R version 4.3.3 (2024-02-29)
* using platform: aarch64-apple-darwin20 (64-bit)
* R was compiled by
Apple clang version 14.0.0 (clang-1400.0.29.202)
GNU Fortran (GCC) 12.2.0
* running under: macOS Ventura 13.6.1
* using session charset: UTF-8
* using option ‘--no-vignettes’
* checking for file ‘MBECS/DESCRIPTION’ ... OK
* this is package ‘MBECS’ version ‘1.6.0’
* package encoding: UTF-8
* checking package namespace information ... OK
* checking package dependencies ... OK
* checking if this is a source package ... OK
* checking if there is a namespace ... OK
* checking for hidden files and directories ... OK
* checking for portable file names ... OK
* checking for sufficient/correct file permissions ... OK
* checking whether package ‘MBECS’ can be installed ... OK
* checking installed package size ... OK
* checking package directory ... OK
* checking ‘build’ directory ... OK
* checking DESCRIPTION meta-information ... OK
* checking top-level files ... OK
* checking for left-over files ... OK
* checking index information ... OK
* checking package subdirectories ... OK
* checking R files for non-ASCII characters ... OK
* checking R files for syntax errors ... OK
* checking whether the package can be loaded ... OK
* checking whether the package can be loaded with stated dependencies ... OK
* checking whether the package can be unloaded cleanly ... OK
* checking whether the namespace can be loaded with stated dependencies ... OK
* checking whether the namespace can be unloaded cleanly ... OK
* checking dependencies in R code ... OK
* checking S3 generic/method consistency ... OK
* checking replacement functions ... OK
* checking foreign function calls ... OK
* checking R code for possible problems ... OK
* checking Rd files ... OK
* checking Rd metadata ... OK
* checking Rd cross-references ... OK
* checking for missing documentation entries ... OK
* checking for code/documentation mismatches ... OK
* checking Rd \usage sections ... OK
* checking Rd contents ... OK
* checking for unstated dependencies in examples ... OK
* checking contents of ‘data’ directory ... OK
* checking data for non-ASCII characters ... OK
* checking data for ASCII and uncompressed saves ... OK
* checking files in ‘vignettes’ ... OK
* checking examples ... OK
Examples with CPU (user + system) or elapsed time > 5s
user system elapsed
mbecCorrection 7.676 0.159 7.839
mbecModelVariance 5.437 0.037 5.475
* checking for unstated dependencies in ‘tests’ ... OK
* checking tests ...
Running ‘testthat.R’
OK
* checking for unstated dependencies in vignettes ... OK
* checking package vignettes in ‘inst/doc’ ... OK
* checking running R code from vignettes ... SKIPPED
* checking re-building of vignette outputs ... SKIPPED
* checking PDF version of manual ... OK
* DONE
Status: OK
MBECS.Rcheck/00install.out
############################################################################## ############################################################################## ### ### Running command: ### ### /Library/Frameworks/R.framework/Resources/bin/R CMD INSTALL MBECS ### ############################################################################## ############################################################################## * installing to library ‘/Library/Frameworks/R.framework/Versions/4.3-arm64/Resources/library’ * installing *source* package ‘MBECS’ ... ** using staged installation ** R ** data ** inst ** byte-compile and prepare package for lazy loading ** help *** installing help indices ** building package indices ** installing vignettes ** testing if installed package can be loaded from temporary location ** testing if installed package can be loaded from final location ** testing if installed package keeps a record of temporary installation path * DONE (MBECS)
MBECS.Rcheck/tests/testthat.Rout
R version 4.3.3 (2024-02-29) -- "Angel Food Cake"
Copyright (C) 2024 The R Foundation for Statistical Computing
Platform: aarch64-apple-darwin20 (64-bit)
R is free software and comes with ABSOLUTELY NO WARRANTY.
You are welcome to redistribute it under certain conditions.
Type 'license()' or 'licence()' for distribution details.
R is a collaborative project with many contributors.
Type 'contributors()' for more information and
'citation()' on how to cite R or R packages in publications.
Type 'demo()' for some demos, 'help()' for on-line help, or
'help.start()' for an HTML browser interface to help.
Type 'q()' to quit R.
> library(testthat)
> library(MBECS)
>
> test_check("MBECS")
Set tss-transformed counts.
Found zeros, function will add a small pseudo-count
(1/#features) for log-ratio transformation.
Set tss-transformed counts.
Found zeros, function will add a small pseudo-count
(1/#features) for log-ratio transformation.
Set tss-transformed counts.
Found zeros, function will add a small pseudo-count
(1/#features) for log-ratio transformation.
Set tss-transformed counts.
Found zeros, function will add a small pseudo-count
(1/#features) for log-ratio transformation.
Set tss-transformed counts.
Found zeros, function will add a small pseudo-count
(1/#features) for log-ratio transformation.
No negative control features provided.
Using pseudo-negative controls.
Applying Remove Unwanted Variantion v3 (RUV-III).
No 'sID' column present, creating from rownames now.
No 'sID' column present, creating from rownames now.
Set tss-transformed counts.
No 'sID' column present, creating from rownames now.
Set tss-transformed counts.
Construct lm-formula from covariates.
Construct lm-formula from covariates.
There is a problem with the estimatibility of your model.
Check out covariate: 'sIDS40'
Found zeros, function will add a small pseudo-count
(1/#features) for log-ratio transformation.
Set tss-transformed counts.
Found zeros, function will add a small pseudo-count
(1/#features) for log-ratio transformation.
Set tss-transformed counts.
Found zeros, function will add a small pseudo-count
(1/#features) for log-ratio transformation.
Set tss-transformed counts.
Found zeros, function will add a small pseudo-count
(1/#features) for log-ratio transformation.
Calculating RLE for group: A
Calculating RLE for group: B
Fitting linear model to every feature and extract proportion of
variance explained by covariates.
Construct formula from covariates.
|
| | 0%
|
|==== | 5%
|
|======== | 10%
|
|============ | 15%
|
|================ | 20%
|
|==================== | 25%
|
|======================== | 30%
|
|============================ | 35%
|
|================================ | 40%
|
|==================================== | 45%
|
|======================================== | 50%
|
|============================================ | 55%
|
|================================================ | 60%
|
|==================================================== | 65%
|
|======================================================== | 70%
|
|============================================================ | 75%
|
|================================================================ | 80%
|
|==================================================================== | 85%
|
|======================================================================== | 90%
|
|============================================================================ | 95%
|
|================================================================================| 100%
Fitting linear-mixed model to every feature and extract proportion
of variance explained by covariates.
Construct formula from covariates.
|
| | 0%boundary (singular) fit: see help('isSingular')
|
|==== | 5%boundary (singular) fit: see help('isSingular')
|
|======== | 10%
|
|============ | 15%boundary (singular) fit: see help('isSingular')
|
|================ | 20%
|
|==================== | 25%
|
|======================== | 30%boundary (singular) fit: see help('isSingular')
|
|============================ | 35%
|
|================================ | 40%
|
|==================================== | 45%boundary (singular) fit: see help('isSingular')
|
|======================================== | 50%boundary (singular) fit: see help('isSingular')
|
|============================================ | 55%boundary (singular) fit: see help('isSingular')
|
|================================================ | 60%boundary (singular) fit: see help('isSingular')
|
|==================================================== | 65%boundary (singular) fit: see help('isSingular')
|
|======================================================== | 70%boundary (singular) fit: see help('isSingular')
|
|============================================================ | 75%boundary (singular) fit: see help('isSingular')
|
|================================================================ | 80%boundary (singular) fit: see help('isSingular')
|
|==================================================================== | 85%
|
|======================================================================== | 90%boundary (singular) fit: see help('isSingular')
|
|============================================================================ | 95%boundary (singular) fit: see help('isSingular')
|
|================================================================================| 100%
|
| | 0%
|
|======================================== | 50%
|
|================================================================================| 100%
boundary (singular) fit: see help('isSingular')
boundary (singular) fit: see help('isSingular')
boundary (singular) fit: see help('isSingular')
boundary (singular) fit: see help('isSingular')
boundary (singular) fit: see help('isSingular')
boundary (singular) fit: see help('isSingular')
[1] "batch"
[1] "group"
Set tss-transformed counts.
Found zeros, function will add a small pseudo-count
(1/#features) for log-ratio transformation.
Applying ComBat (sva) for batch-correction.
Found2batches
Adjusting for1covariate(s) or covariate level(s)
Standardizing Data across genes
Fitting L/S model and finding priors
Finding nonparametric adjustments
Adjusting the Data
[ FAIL 0 | WARN 101 | SKIP 0 | PASS 282 ]
[ FAIL 0 | WARN 101 | SKIP 0 | PASS 282 ]
>
> proc.time()
user system elapsed
64.450 1.441 66.240
MBECS.Rcheck/MBECS-Ex.timings
| name | user | system | elapsed | |
| MbecData | 0.113 | 0.008 | 0.121 | |
| colinScore | 0.324 | 0.012 | 0.335 | |
| dot-mbecGetData | 0.045 | 0.004 | 0.049 | |
| dot-mbecGetPhyloseq | 0.051 | 0.004 | 0.054 | |
| dot-mbecSetData | 0.058 | 0.005 | 0.062 | |
| dummy.list | 0.005 | 0.002 | 0.006 | |
| dummy.mbec | 0.035 | 0.002 | 0.036 | |
| dummy.ps | 0.007 | 0.002 | 0.008 | |
| mbecBox | 2.446 | 0.068 | 2.514 | |
| mbecBoxPlot | 1.955 | 0.014 | 1.971 | |
| mbecCorrection | 7.676 | 0.159 | 7.839 | |
| mbecDummy | 0.115 | 0.002 | 0.116 | |
| mbecGetData-MbecData-method | 0.042 | 0.004 | 0.046 | |
| mbecGetData | 0.043 | 0.003 | 0.046 | |
| mbecGetPhyloseq-MbecData-method | 0.056 | 0.003 | 0.059 | |
| mbecGetPhyloseq | 0.052 | 0.005 | 0.056 | |
| mbecHeat | 0.177 | 0.011 | 0.188 | |
| mbecHeatPlot | 0.190 | 0.009 | 0.200 | |
| mbecHelpFactor | 0.007 | 0.003 | 0.010 | |
| mbecLM | 0.729 | 0.007 | 0.736 | |
| mbecMixedVariance | 0.042 | 0.003 | 0.045 | |
| mbecModelVariance | 5.437 | 0.037 | 5.475 | |
| mbecMosaic | 0.789 | 0.009 | 0.798 | |
| mbecMosaicPlot | 0.731 | 0.009 | 0.755 | |
| mbecPCA-MbecData-method | 0.800 | 0.008 | 0.809 | |
| mbecPCA | 0.830 | 0.011 | 0.849 | |
| mbecPCAPlot | 0.754 | 0.013 | 0.776 | |
| mbecPVCAStatsPlot | 1.106 | 0.019 | 1.136 | |
| mbecProcessInput-MbecData-method | 0.038 | 0.003 | 0.041 | |
| mbecProcessInput-list-method | 0.034 | 0.004 | 0.039 | |
| mbecProcessInput-phyloseq-method | 0.032 | 0.003 | 0.035 | |
| mbecProcessInput | 0.036 | 0.004 | 0.040 | |
| mbecRDAStatsPlot | 0.121 | 0.009 | 0.130 | |
| mbecRLE | 0.266 | 0.012 | 0.281 | |
| mbecRLEPlot | 0.134 | 0.007 | 0.142 | |
| mbecReportPost | 3.099 | 0.023 | 3.137 | |
| mbecReportPrelim | 1.554 | 0.012 | 1.572 | |
| mbecRunCorrections | 2.792 | 0.068 | 2.877 | |
| mbecSCOEFStatsPlot | 0.053 | 0.003 | 0.058 | |
| mbecSetData-MbecData-method | 0.024 | 0.002 | 0.031 | |
| mbecSetData | 0.029 | 0.003 | 0.035 | |
| mbecTestModel | 0.029 | 0.003 | 0.032 | |
| mbecTransform | 0.138 | 0.004 | 0.143 | |
| mbecValidateModel | 0.024 | 0.002 | 0.025 | |
| mbecVarianceStats | 0.012 | 0.001 | 0.013 | |
| mbecVarianceStatsPlot | 4.090 | 0.036 | 4.190 | |
| percentileNorm | 1.430 | 0.018 | 1.456 | |
| poscore | 0 | 0 | 0 | |