Back to Mac ARM64 build report for BioC 3.18 |
|
This page was generated on 2024-04-18 11:32:13 -0400 (Thu, 18 Apr 2024).
Hostname | OS | Arch (*) | R version | Installed pkgs |
---|---|---|---|---|
kjohnson1 | macOS 13.6.1 Ventura | arm64 | 4.3.3 (2024-02-29) -- "Angel Food Cake" | 4388 |
Click on any hostname to see more info about the system (e.g. compilers) (*) as reported by 'uname -p', except on Windows and Mac OS X |
Package 1134/2266 | Hostname | OS / Arch | INSTALL | BUILD | CHECK | BUILD BIN | ||||||||
MAGeCKFlute 2.6.0 (landing page) Wubing Zhang
| kjohnson1 | macOS 13.6.1 Ventura / arm64 | OK | OK | OK | OK | ||||||||
To the developers/maintainers of the MAGeCKFlute package: - Use the following Renviron settings to reproduce errors and warnings. - If 'R CMD check' started to fail recently on the Linux builder(s) over a missing dependency, add the missing dependency to 'Suggests:' in your DESCRIPTION file. See Renviron.bioc for more information. |
Package: MAGeCKFlute |
Version: 2.6.0 |
Command: /Library/Frameworks/R.framework/Resources/bin/R CMD check --install=check:MAGeCKFlute.install-out.txt --library=/Library/Frameworks/R.framework/Resources/library --no-vignettes --timings MAGeCKFlute_2.6.0.tar.gz |
StartedAt: 2024-04-17 18:06:13 -0400 (Wed, 17 Apr 2024) |
EndedAt: 2024-04-17 18:11:33 -0400 (Wed, 17 Apr 2024) |
EllapsedTime: 320.4 seconds |
RetCode: 0 |
Status: OK |
CheckDir: MAGeCKFlute.Rcheck |
Warnings: 0 |
############################################################################## ############################################################################## ### ### Running command: ### ### /Library/Frameworks/R.framework/Resources/bin/R CMD check --install=check:MAGeCKFlute.install-out.txt --library=/Library/Frameworks/R.framework/Resources/library --no-vignettes --timings MAGeCKFlute_2.6.0.tar.gz ### ############################################################################## ############################################################################## * using log directory ‘/Users/biocbuild/bbs-3.18-bioc-mac-arm64/meat/MAGeCKFlute.Rcheck’ * using R version 4.3.3 (2024-02-29) * using platform: aarch64-apple-darwin20 (64-bit) * R was compiled by Apple clang version 14.0.0 (clang-1400.0.29.202) GNU Fortran (GCC) 12.2.0 * running under: macOS Ventura 13.6.1 * using session charset: UTF-8 * using option ‘--no-vignettes’ * checking for file ‘MAGeCKFlute/DESCRIPTION’ ... OK * checking extension type ... Package * this is package ‘MAGeCKFlute’ version ‘2.6.0’ * package encoding: UTF-8 * checking package namespace information ... OK * checking package dependencies ... OK * checking if this is a source package ... OK * checking if there is a namespace ... OK * checking for hidden files and directories ... OK * checking for portable file names ... OK * checking for sufficient/correct file permissions ... OK * checking whether package ‘MAGeCKFlute’ can be installed ... OK * checking installed package size ... NOTE installed size is 20.7Mb sub-directories of 1Mb or more: extdata 20.3Mb * checking package directory ... OK * checking ‘build’ directory ... OK * checking DESCRIPTION meta-information ... OK * checking top-level files ... OK * checking for left-over files ... OK * checking index information ... OK * checking package subdirectories ... OK * checking R files for non-ASCII characters ... OK * checking R files for syntax errors ... OK * checking whether the package can be loaded ... OK * checking whether the package can be loaded with stated dependencies ... OK * checking whether the package can be unloaded cleanly ... OK * checking whether the namespace can be loaded with stated dependencies ... OK * checking whether the namespace can be unloaded cleanly ... OK * checking dependencies in R code ... OK * checking S3 generic/method consistency ... OK * checking replacement functions ... OK * checking foreign function calls ... OK * checking R code for possible problems ... NOTE EnrichedFilter: no visible global function definition for ‘is’ EnrichedGeneView: no visible global function definition for ‘is’ EnrichedView: no visible global function definition for ‘is’ EnrichedView: no visible global function definition for ‘slot’ enrich.HGT: no visible global function definition for ‘new’ Undefined global functions or variables: is new slot Consider adding importFrom("methods", "is", "new", "slot") to your NAMESPACE file (and ensure that your DESCRIPTION Imports field contains 'methods'). * checking Rd files ... OK * checking Rd metadata ... OK * checking Rd cross-references ... OK * checking for missing documentation entries ... OK * checking for code/documentation mismatches ... OK * checking Rd \usage sections ... OK * checking Rd contents ... OK * checking for unstated dependencies in examples ... OK * checking files in ‘vignettes’ ... OK * checking examples ... OK Examples with CPU (user + system) or elapsed time > 5s user system elapsed MAView 13.206 0.255 13.468 enrich.ORT 6.361 0.116 6.484 * checking for unstated dependencies in vignettes ... OK * checking package vignettes in ‘inst/doc’ ... OK * checking running R code from vignettes ... SKIPPED * checking re-building of vignette outputs ... SKIPPED * checking PDF version of manual ... OK * DONE Status: 2 NOTEs See ‘/Users/biocbuild/bbs-3.18-bioc-mac-arm64/meat/MAGeCKFlute.Rcheck/00check.log’ for details.
MAGeCKFlute.Rcheck/00install.out
############################################################################## ############################################################################## ### ### Running command: ### ### /Library/Frameworks/R.framework/Resources/bin/R CMD INSTALL MAGeCKFlute ### ############################################################################## ############################################################################## * installing to library ‘/Library/Frameworks/R.framework/Versions/4.3-arm64/Resources/library’ * installing *source* package ‘MAGeCKFlute’ ... ** using staged installation ** R ** inst ** byte-compile and prepare package for lazy loading ** help *** installing help indices ** building package indices ** installing vignettes ** testing if installed package can be loaded from temporary location ** testing if installed package can be loaded from final location ** testing if installed package keeps a record of temporary installation path * DONE (MAGeCKFlute)
MAGeCKFlute.Rcheck/MAGeCKFlute-Ex.timings
name | user | system | elapsed | |
BarView | 0.215 | 0.006 | 0.225 | |
BatchRemove | 4.373 | 0.071 | 4.490 | |
ConsistencyView | 1.092 | 0.051 | 1.147 | |
CutoffCalling | 0.005 | 0.001 | 0.005 | |
DensityDiffView | 1.399 | 0.022 | 1.421 | |
DensityView | 0.905 | 0.045 | 0.951 | |
EnrichAnalyzer | 0.024 | 0.001 | 0.027 | |
EnrichedFilter | 0.021 | 0.001 | 0.022 | |
EnrichedGeneView | 0.022 | 0.001 | 0.023 | |
EnrichedView | 0.022 | 0.000 | 0.022 | |
FluteMLE | 0.002 | 0.000 | 0.002 | |
FluteRRA | 0.002 | 0.000 | 0.003 | |
HeatmapView | 0.401 | 0.010 | 0.412 | |
IdentBarView | 0.123 | 0.002 | 0.125 | |
IncorporateDepmap | 0.280 | 0.008 | 0.288 | |
MAView | 13.206 | 0.255 | 13.468 | |
MapRatesView | 0.569 | 0.004 | 0.576 | |
NormalizeBeta | 1.477 | 0.026 | 1.520 | |
OmitCommonEssential | 0 | 0 | 0 | |
RankView | 0.748 | 0.039 | 0.791 | |
ReadBeta | 0.420 | 0.006 | 0.427 | |
ReadRRA | 0.271 | 0.012 | 0.283 | |
ReadsgRRA | 0.020 | 0.002 | 0.021 | |
ResembleDepmap | 0.237 | 0.004 | 0.241 | |
ScatterView | 3.951 | 0.106 | 4.068 | |
Selector | 0.900 | 0.009 | 0.910 | |
SquareView | 1.162 | 0.038 | 1.201 | |
TransGeneID | 2.829 | 0.042 | 2.872 | |
ViolinView | 2.899 | 0.048 | 2.950 | |
VolcanoView | 1.583 | 0.057 | 1.640 | |
arrangePathview | 0.409 | 0.008 | 0.431 | |
enrich.GSE | 0.017 | 0.001 | 0.018 | |
enrich.HGT | 2.672 | 0.057 | 2.742 | |
enrich.ORT | 6.361 | 0.116 | 6.484 | |
getCols | 0.008 | 0.001 | 0.009 | |
getGeneAnn | 0 | 0 | 0 | |
getOrg | 0.001 | 0.000 | 0.001 | |
getOrtAnn | 0 | 0 | 0 | |
gsGetter | 0.283 | 0.012 | 0.297 | |
hclustView | 0.709 | 0.017 | 0.726 | |
loadDepmap | 0 | 0 | 0 | |
normalize.loess | 1.611 | 0.018 | 1.630 | |
sgRankView | 0.160 | 0.002 | 0.162 | |
writeGMT | 0.039 | 0.002 | 0.041 | |