Back to Mac ARM64 build report for BioC 3.18
ABCDEFGHIJK[L]MNOPQRSTUVWXYZ

This page was generated on 2023-07-10 11:32:54 -0400 (Mon, 10 Jul 2023).

HostnameOSArch (*)R versionInstalled pkgs
kjohnson1macOS 13.3.1 Venturaarm644.3.1 (2023-06-16) -- "Beagle Scouts" 4311
Click on any hostname to see more info about the system (e.g. compilers)      (*) as reported by 'uname -p', except on Windows and Mac OS X

Package 1065/2211HostnameOS / ArchINSTALLBUILDCHECKBUILD BIN
LineagePulse 1.21.0  (landing page)
David S Fischer
Snapshot Date: 2023-07-07 14:00:04 -0400 (Fri, 07 Jul 2023)
git_url: https://git.bioconductor.org/packages/LineagePulse
git_branch: devel
git_last_commit: c714473
git_last_commit_date: 2023-04-25 10:58:25 -0400 (Tue, 25 Apr 2023)
kjohnson1macOS 13.3.1 Ventura / arm64  OK    OK    WARNINGS    OK  UNNEEDED, same version is already published

BUILD BIN results for LineagePulse on kjohnson1


To the developers/maintainers of the LineagePulse package:
- Use the following Renviron settings to reproduce errors and warnings.
- If 'R CMD check' started to fail recently on the Linux builder(s) over a missing dependency, add the missing dependency to 'Suggests:' in your DESCRIPTION file. See Renviron.bioc for more information.

raw results


Summary

Package: LineagePulse
Version: 1.21.0
Command: rm -rf LineagePulse.buildbin-libdir && mkdir LineagePulse.buildbin-libdir && /Users/biocbuild/BBS/utils/build-universal.sh LineagePulse_1.21.0.tar.gz /Library/Frameworks/R.framework/Resources/bin/R LineagePulse.buildbin-libdir
StartedAt: 2023-07-09 12:07:01 -0400 (Sun, 09 Jul 2023)
EndedAt: 2023-07-09 12:07:46 -0400 (Sun, 09 Jul 2023)
EllapsedTime: 44.7 seconds
RetCode: 0
Status:   OK  
PackageFile: LineagePulse_1.21.0.tgz
PackageFileSize: 755.5 KiB

Command output

##############################################################################
##############################################################################
###
### Running command:
###
###   rm -rf LineagePulse.buildbin-libdir && mkdir LineagePulse.buildbin-libdir && /Users/biocbuild/BBS/utils/build-universal.sh LineagePulse_1.21.0.tar.gz /Library/Frameworks/R.framework/Resources/bin/R LineagePulse.buildbin-libdir
###
##############################################################################
##############################################################################


>>>>>>> 
>>>>>>> INSTALLATION WITH 'R CMD INSTALL --preclean --no-multiarch --library=LineagePulse.buildbin-libdir LineagePulse_1.21.0.tar.gz'
>>>>>>> 

* installing *source* package ‘LineagePulse’ ...
** using staged installation
** R
** inst
** byte-compile and prepare package for lazy loading
Note: possible error in 'evalLogLikGeneMM(vecCounts = vecCounts, ': unused arguments (matDispParam = matDispParam, matDropParam = matDropParam, matWeights = matWeights) 
Note: possible error in 'evalLogLikGeneMM(vecCounts = vecCounts, ': unused arguments (matDispParam = do.call(cbind, lapply(seq_len(ncol(matWeights)), function(m) vecDispParam)), matDropParam = do.call(cbind, lapply(seq_len(ncol(matWeights)), function(m) vecPiParam)), matWeights = matWeights) 
** help
*** installing help indices
** building package indices
** installing vignettes
** testing if installed package can be loaded from temporary location
** testing if installed package can be loaded from final location
** testing if installed package keeps a record of temporary installation path
* DONE (LineagePulse)