Back to Mac ARM64 build report for BioC 3.18 |
|
This page was generated on 2024-04-18 11:32:11 -0400 (Thu, 18 Apr 2024).
Hostname | OS | Arch (*) | R version | Installed pkgs |
---|---|---|---|---|
kjohnson1 | macOS 13.6.1 Ventura | arm64 | 4.3.3 (2024-02-29) -- "Angel Food Cake" | 4388 |
Click on any hostname to see more info about the system (e.g. compilers) (*) as reported by 'uname -p', except on Windows and Mac OS X |
Package 834/2266 | Hostname | OS / Arch | INSTALL | BUILD | CHECK | BUILD BIN | ||||||||
GenVisR 1.34.2 (landing page) Zachary Skidmore
| kjohnson1 | macOS 13.6.1 Ventura / arm64 | OK | OK | OK | OK | ![]() | |||||||
To the developers/maintainers of the GenVisR package: - Use the following Renviron settings to reproduce errors and warnings. - If 'R CMD check' started to fail recently on the Linux builder(s) over a missing dependency, add the missing dependency to 'Suggests:' in your DESCRIPTION file. See Renviron.bioc for more information. |
Package: GenVisR |
Version: 1.34.2 |
Command: /Library/Frameworks/R.framework/Resources/bin/R CMD build --keep-empty-dirs --no-resave-data GenVisR |
StartedAt: 2024-04-16 18:53:17 -0400 (Tue, 16 Apr 2024) |
EndedAt: 2024-04-16 18:56:04 -0400 (Tue, 16 Apr 2024) |
EllapsedTime: 166.6 seconds |
RetCode: 0 |
Status: OK |
PackageFile: GenVisR_1.34.2.tar.gz |
PackageFileSize: 5.048 MiB |
############################################################################## ############################################################################## ### ### Running command: ### ### /Library/Frameworks/R.framework/Resources/bin/R CMD build --keep-empty-dirs --no-resave-data GenVisR ### ############################################################################## ############################################################################## * checking for file ‘GenVisR/DESCRIPTION’ ... OK * preparing ‘GenVisR’: * checking DESCRIPTION meta-information ... OK * installing the package to build vignettes * creating vignettes ... OK * checking for LF line-endings in source and make files and shell scripts * checking for empty or unneeded directories * building ‘GenVisR_1.34.2.tar.gz’ Warning in utils::tar(filepath, pkgname, compression = compression, compression_level = 9L, : storing paths of more than 100 bytes is not portable: ‘GenVisR/tests/testthat/_snaps/Waterfall-class/final-waterfall-and-left-sub-plot-alter-sectionwidth.svg’ Warning in utils::tar(filepath, pkgname, compression = compression, compression_level = 9L, : storing paths of more than 100 bytes is not portable: ‘GenVisR/tests/testthat/_snaps/Waterfall-class/final-waterfall-and-top-and-left-and-bottom-sub-plot.svg’ Warning in utils::tar(filepath, pkgname, compression = compression, compression_level = 9L, : storing paths of more than 100 bytes is not portable: ‘GenVisR/tests/testthat/_snaps/Waterfall-class/final-waterfall-and-top-sub-plot-alter-sectionheights.svg’