Back to Mac ARM64 build report for BioC 3.18 |
|
This page was generated on 2024-03-21 11:32:25 -0400 (Thu, 21 Mar 2024).
Hostname | OS | Arch (*) | R version | Installed pkgs |
---|---|---|---|---|
kjohnson1 | macOS 13.6.1 Ventura | arm64 | 4.3.3 (2024-02-29) -- "Angel Food Cake" | 4375 |
Click on any hostname to see more info about the system (e.g. compilers) (*) as reported by 'uname -p', except on Windows and Mac OS X |
Package 704/2266 | Hostname | OS / Arch | INSTALL | BUILD | CHECK | BUILD BIN | ||||||||
FELLA 1.22.0 (landing page) Sergio Picart-Armada
| kjohnson1 | macOS 13.6.1 Ventura / arm64 | OK | OK | OK | OK | ![]() | |||||||
To the developers/maintainers of the FELLA package: - Use the following Renviron settings to reproduce errors and warnings. - If 'R CMD check' started to fail recently on the Linux builder(s) over a missing dependency, add the missing dependency to 'Suggests:' in your DESCRIPTION file. See Renviron.bioc for more information. |
Package: FELLA |
Version: 1.22.0 |
Command: /Library/Frameworks/R.framework/Resources/bin/R CMD check --install=check:FELLA.install-out.txt --library=/Library/Frameworks/R.framework/Resources/library --no-vignettes --timings FELLA_1.22.0.tar.gz |
StartedAt: 2024-03-20 13:10:06 -0400 (Wed, 20 Mar 2024) |
EndedAt: 2024-03-20 13:13:45 -0400 (Wed, 20 Mar 2024) |
EllapsedTime: 218.6 seconds |
RetCode: 0 |
Status: OK |
CheckDir: FELLA.Rcheck |
Warnings: 0 |
############################################################################## ############################################################################## ### ### Running command: ### ### /Library/Frameworks/R.framework/Resources/bin/R CMD check --install=check:FELLA.install-out.txt --library=/Library/Frameworks/R.framework/Resources/library --no-vignettes --timings FELLA_1.22.0.tar.gz ### ############################################################################## ############################################################################## * using log directory ‘/Users/biocbuild/bbs-3.18-bioc-mac-arm64/meat/FELLA.Rcheck’ * using R version 4.3.3 (2024-02-29) * using platform: aarch64-apple-darwin20 (64-bit) * R was compiled by Apple clang version 14.0.0 (clang-1400.0.29.202) GNU Fortran (GCC) 12.2.0 * running under: macOS Ventura 13.6.1 * using session charset: UTF-8 * using option ‘--no-vignettes’ * checking for file ‘FELLA/DESCRIPTION’ ... OK * checking extension type ... Package * this is package ‘FELLA’ version ‘1.22.0’ * package encoding: UTF-8 * checking package namespace information ... OK * checking package dependencies ... OK * checking if this is a source package ... OK * checking if there is a namespace ... OK * checking for hidden files and directories ... OK * checking for portable file names ... OK * checking for sufficient/correct file permissions ... OK * checking whether package ‘FELLA’ can be installed ... OK * checking installed package size ... OK * checking package directory ... OK * checking ‘build’ directory ... OK * checking DESCRIPTION meta-information ... OK * checking top-level files ... OK * checking for left-over files ... OK * checking index information ... OK * checking package subdirectories ... OK * checking R files for non-ASCII characters ... OK * checking R files for syntax errors ... OK * checking whether the package can be loaded ... OK * checking whether the package can be loaded with stated dependencies ... OK * checking whether the package can be unloaded cleanly ... OK * checking whether the namespace can be loaded with stated dependencies ... OK * checking whether the namespace can be unloaded cleanly ... OK * checking dependencies in R code ... OK * checking S3 generic/method consistency ... OK * checking replacement functions ... OK * checking foreign function calls ... OK * checking R code for possible problems ... NOTE buildGraphFromKEGGREST: no visible global function definition for ‘capture.output’ Undefined global functions or variables: capture.output Consider adding importFrom("utils", "capture.output") to your NAMESPACE file. * checking Rd files ... OK * checking Rd metadata ... OK * checking Rd cross-references ... OK * checking for missing documentation entries ... OK * checking for code/documentation mismatches ... OK * checking Rd \usage sections ... OK * checking Rd contents ... OK * checking for unstated dependencies in examples ... OK * checking contents of ‘data’ directory ... OK * checking data for non-ASCII characters ... OK * checking data for ASCII and uncompressed saves ... OK * checking sizes of PDF files under ‘inst/doc’ ... OK * checking files in ‘vignettes’ ... OK * checking examples ... OK Examples with CPU (user + system) or elapsed time > 5s user system elapsed data-funs 5.628 0.308 5.94 * checking for unstated dependencies in ‘tests’ ... OK * checking tests ... Running ‘testthat.R’ OK * checking for unstated dependencies in vignettes ... OK * checking package vignettes in ‘inst/doc’ ... OK * checking running R code from vignettes ... SKIPPED * checking re-building of vignette outputs ... SKIPPED * checking PDF version of manual ... OK * DONE Status: 1 NOTE See ‘/Users/biocbuild/bbs-3.18-bioc-mac-arm64/meat/FELLA.Rcheck/00check.log’ for details.
FELLA.Rcheck/00install.out
############################################################################## ############################################################################## ### ### Running command: ### ### /Library/Frameworks/R.framework/Resources/bin/R CMD INSTALL FELLA ### ############################################################################## ############################################################################## * installing to library ‘/Library/Frameworks/R.framework/Versions/4.3-arm64/Resources/library’ * installing *source* package ‘FELLA’ ... ** using staged installation ** R ** data ** inst ** byte-compile and prepare package for lazy loading ** help *** installing help indices ** building package indices ** installing vignettes ** testing if installed package can be loaded from temporary location ** testing if installed package can be loaded from final location ** testing if installed package keeps a record of temporary installation path * DONE (FELLA)
FELLA.Rcheck/tests/testthat.Rout
R version 4.3.3 (2024-02-29) -- "Angel Food Cake" Copyright (C) 2024 The R Foundation for Statistical Computing Platform: aarch64-apple-darwin20 (64-bit) R is free software and comes with ABSOLUTELY NO WARRANTY. You are welcome to redistribute it under certain conditions. Type 'license()' or 'licence()' for distribution details. R is a collaborative project with many contributors. Type 'contributors()' for more information and 'citation()' on how to cite R or R packages in publications. Type 'demo()' for some demos, 'help()' for on-line help, or 'help.start()' for an HTML browser interface to help. Type 'q()' to quit R. > library(testthat) > library(FELLA) > > test_check("FELLA") | | | 0% | |============== | 20% | |============================ | 40% | |========================================== | 60% | |======================================================== | 80% | |======================================================================| 100% | | | 0% | |======= | 10% | |============== | 20% | |===================== | 30% | |============================ | 40% | |=================================== | 50% | |========================================== | 60% | |================================================= | 70% | |======================================================== | 80% | |=============================================================== | 90% | |======================================================================| 100% | | | 0% | |======= | 10% | |============== | 20% | |===================== | 30% | |============================ | 40% | |=================================== | 50% | |========================================== | 60% | |================================================= | 70% | |======================================================== | 80% | |=============================================================== | 90% | |======================================================================| 100% | | | 0% | |======= | 10% | |============== | 20% | |===================== | 30% | |============================ | 40% | |=================================== | 50% | |========================================== | 60% | |================================================= | 70% | |======================================================== | 80% | |=============================================================== | 90% | |======================================================================| 100% [ FAIL 0 | WARN 12 | SKIP 0 | PASS 168 ] [ FAIL 0 | WARN 12 | SKIP 0 | PASS 168 ] > > proc.time() user system elapsed 34.442 2.868 75.951
FELLA.Rcheck/FELLA-Ex.timings
name | user | system | elapsed | |
FELLA | 0.295 | 0.072 | 0.386 | |
FELLA.sample | 0.019 | 0.002 | 0.021 | |
checkArguments | 0.002 | 0.001 | 0.003 | |
data-funs | 5.628 | 0.308 | 5.940 | |
enrich-funs | 3.102 | 0.104 | 3.209 | |
export-funs | 0.227 | 0.010 | 0.239 | |
getBackground | 0.312 | 0.013 | 0.327 | |
getCom | 0.017 | 0.002 | 0.019 | |
getExcluded | 0.019 | 0.004 | 0.023 | |
getGraph | 0.017 | 0.002 | 0.018 | |
getInfo | 0.016 | 0.002 | 0.017 | |
getInput | 0.018 | 0.003 | 0.022 | |
getMatrix | 0.027 | 0.002 | 0.029 | |
getName | 0.016 | 0.002 | 0.018 | |
getPscores | 0.037 | 0.005 | 0.041 | |
getPvaluesSize | 0.029 | 0.002 | 0.031 | |
getStatus | 0.016 | 0.002 | 0.018 | |
getSums | 0.941 | 0.011 | 0.991 | |
getValid | 0.014 | 0.002 | 0.017 | |
infere.con2ec | 0.002 | 0.000 | 0.002 | |
input.sample | 0.001 | 0.000 | 0.001 | |
is.FELLA.DATA | 0.007 | 0.000 | 0.008 | |
is.FELLA.USER | 0.015 | 0.002 | 0.017 | |
largestcc | 0.058 | 0.002 | 0.061 | |
launchApp | 0.000 | 0.000 | 0.001 | |
listApprox | 0 | 0 | 0 | |
listCategories | 0 | 0 | 0 | |
listInternalDatabases | 0.002 | 0.000 | 0.001 | |
listMethods | 0 | 0 | 0 | |
mytriangle | 0.045 | 0.002 | 0.046 | |
plotBipartite | 0.038 | 0.003 | 0.042 | |
plotLegend | 0.031 | 0.003 | 0.033 | |
sanitise | 0.001 | 0.000 | 0.001 | |