| Back to Mac ARM64 build report for BioC 3.18 | 
  | 
This page was generated on 2024-03-07 14:39:54 -0500 (Thu, 07 Mar 2024).
| Hostname | OS | Arch (*) | R version | Installed pkgs | 
|---|---|---|---|---|
| kjohnson1 | macOS 13.6.1 Ventura | arm64 | 4.3.2 (2023-10-31) -- "Eye Holes" | 4346 | 
| Click on any hostname to see more info about the system (e.g. compilers) (*) as reported by 'uname -p', except on Windows and Mac OS X | ||||
| Package 590/2266 | Hostname | OS / Arch | INSTALL | BUILD | CHECK | BUILD BIN | ||||||||
| DominoEffect 1.22.0  (landing page) Marija Buljan 
  | kjohnson1 | macOS 13.6.1 Ventura / arm64 | OK | OK | OK | OK | ||||||||
| 
To the developers/maintainers of the DominoEffect package: - Use the following Renviron settings to reproduce errors and warnings. - If 'R CMD check' started to fail recently on the Linux builder(s) over a missing dependency, add the missing dependency to 'Suggests:' in your DESCRIPTION file. See Renviron.bioc for more information.  | 
| Package: DominoEffect | 
| Version: 1.22.0 | 
| Command: rm -rf DominoEffect.buildbin-libdir && mkdir DominoEffect.buildbin-libdir && /Users/biocbuild/BBS/utils/build-universal.sh DominoEffect_1.22.0.tar.gz /Library/Frameworks/R.framework/Resources/bin/R DominoEffect.buildbin-libdir | 
| StartedAt: 2024-03-07 08:27:38 -0500 (Thu, 07 Mar 2024) | 
| EndedAt: 2024-03-07 08:28:38 -0500 (Thu, 07 Mar 2024) | 
| EllapsedTime: 59.6 seconds | 
| RetCode: 0 | 
| Status: OK | 
| PackageFile: DominoEffect_1.22.0.tgz | 
| PackageFileSize: 581.9 KiB | 
############################################################################## ############################################################################## ### ### Running command: ### ### rm -rf DominoEffect.buildbin-libdir && mkdir DominoEffect.buildbin-libdir && /Users/biocbuild/BBS/utils/build-universal.sh DominoEffect_1.22.0.tar.gz /Library/Frameworks/R.framework/Resources/bin/R DominoEffect.buildbin-libdir ### ############################################################################## ############################################################################## >>>>>>> >>>>>>> INSTALLATION WITH 'R CMD INSTALL --preclean --no-multiarch --library=DominoEffect.buildbin-libdir DominoEffect_1.22.0.tar.gz' >>>>>>> * installing *source* package ‘DominoEffect’ ... ** using staged installation ** R ** data *** moving datasets to lazyload DB ** inst ** byte-compile and prepare package for lazy loading ** help *** installing help indices ** building package indices ** installing vignettes ** testing if installed package can be loaded from temporary location ** testing if installed package can be loaded from final location ** testing if installed package keeps a record of temporary installation path * DONE (DominoEffect)