| Back to Mac ARM64 build report for BioC 3.18 |
|
This page was generated on 2024-04-18 11:32:09 -0400 (Thu, 18 Apr 2024).
| Hostname | OS | Arch (*) | R version | Installed pkgs |
|---|---|---|---|---|
| kjohnson1 | macOS 13.6.1 Ventura | arm64 | 4.3.3 (2024-02-29) -- "Angel Food Cake" | 4388 |
| Click on any hostname to see more info about the system (e.g. compilers) (*) as reported by 'uname -p', except on Windows and Mac OS X | ||||
| Package 536/2266 | Hostname | OS / Arch | INSTALL | BUILD | CHECK | BUILD BIN | ||||||||
| DeMixT 1.18.0 (landing page) Shuai Guo
| kjohnson1 | macOS 13.6.1 Ventura / arm64 | OK | OK | WARNINGS | OK | ||||||||
|
To the developers/maintainers of the DeMixT package: - Use the following Renviron settings to reproduce errors and warnings. - If 'R CMD check' started to fail recently on the Linux builder(s) over a missing dependency, add the missing dependency to 'Suggests:' in your DESCRIPTION file. See Renviron.bioc for more information. |
| Package: DeMixT |
| Version: 1.18.0 |
| Command: /Library/Frameworks/R.framework/Resources/bin/R CMD build --keep-empty-dirs --no-resave-data DeMixT |
| StartedAt: 2024-04-16 16:54:14 -0400 (Tue, 16 Apr 2024) |
| EndedAt: 2024-04-16 16:55:47 -0400 (Tue, 16 Apr 2024) |
| EllapsedTime: 92.9 seconds |
| RetCode: 0 |
| Status: OK |
| PackageFile: DeMixT_1.18.0.tar.gz |
| PackageFileSize: 3.595 MiB |
##############################################################################
##############################################################################
###
### Running command:
###
### /Library/Frameworks/R.framework/Resources/bin/R CMD build --keep-empty-dirs --no-resave-data DeMixT
###
##############################################################################
##############################################################################
* checking for file ‘DeMixT/DESCRIPTION’ ... OK
* preparing ‘DeMixT’:
* checking DESCRIPTION meta-information ... OK
* cleaning src
* installing the package to build vignettes
* creating vignettes ... OK
Warning: ‘inst/doc’ files
‘demixt.Rmd’, ‘demixt.html’, ‘demixt.R’
ignored as vignettes have been rebuilt.
Run R CMD build with --no-build-vignettes to prevent rebuilding.
* cleaning src
* checking for LF line-endings in source and make files and shell scripts
* checking for empty or unneeded directories
* building ‘DeMixT_1.18.0.tar.gz’