| Back to Mac ARM64 build report for BioC 3.18 |
|
This page was generated on 2024-04-18 11:32:09 -0400 (Thu, 18 Apr 2024).
| Hostname | OS | Arch (*) | R version | Installed pkgs |
|---|---|---|---|---|
| kjohnson1 | macOS 13.6.1 Ventura | arm64 | 4.3.3 (2024-02-29) -- "Angel Food Cake" | 4388 |
| Click on any hostname to see more info about the system (e.g. compilers) (*) as reported by 'uname -p', except on Windows and Mac OS X | ||||
| Package 585/2266 | Hostname | OS / Arch | INSTALL | BUILD | CHECK | BUILD BIN | ||||||||
| DNABarcodeCompatibility 1.18.0 (landing page) Céline Trébeau
| kjohnson1 | macOS 13.6.1 Ventura / arm64 | ERROR | ERROR | skipped | skipped | ||||||||
|
To the developers/maintainers of the DNABarcodeCompatibility package: - Use the following Renviron settings to reproduce errors and warnings. - If 'R CMD check' started to fail recently on the Linux builder(s) over a missing dependency, add the missing dependency to 'Suggests:' in your DESCRIPTION file. See Renviron.bioc for more information. |
| Package: DNABarcodeCompatibility |
| Version: 1.18.0 |
| Command: /Library/Frameworks/R.framework/Resources/bin/R CMD build --keep-empty-dirs --no-resave-data DNABarcodeCompatibility |
| StartedAt: 2024-04-16 17:18:13 -0400 (Tue, 16 Apr 2024) |
| EndedAt: 2024-04-16 17:18:15 -0400 (Tue, 16 Apr 2024) |
| EllapsedTime: 2.1 seconds |
| RetCode: 1 |
| Status: ERROR |
| PackageFile: None |
| PackageFileSize: NA |
##############################################################################
##############################################################################
###
### Running command:
###
### /Library/Frameworks/R.framework/Resources/bin/R CMD build --keep-empty-dirs --no-resave-data DNABarcodeCompatibility
###
##############################################################################
##############################################################################
* checking for file ‘DNABarcodeCompatibility/DESCRIPTION’ ... OK
* preparing ‘DNABarcodeCompatibility’:
* checking DESCRIPTION meta-information ... OK
* installing the package to build vignettes
-----------------------------------
ERROR: dependency ‘DNABarcodes’ is not available for package ‘DNABarcodeCompatibility’
* removing ‘/private/tmp/RtmpFKNT5o/Rinst356353056614/DNABarcodeCompatibility’
-----------------------------------
ERROR: package installation failed