| Back to Mac ARM64 build report for BioC 3.18 | 
  | 
This page was generated on 2024-04-18 11:32:09 -0400 (Thu, 18 Apr 2024).
| Hostname | OS | Arch (*) | R version | Installed pkgs | 
|---|---|---|---|---|
| kjohnson1 | macOS 13.6.1 Ventura | arm64 | 4.3.3 (2024-02-29) -- "Angel Food Cake" | 4388 | 
| Click on any hostname to see more info about the system (e.g. compilers) (*) as reported by 'uname -p', except on Windows and Mac OS X | ||||
| Package 557/2266 | Hostname | OS / Arch | INSTALL | BUILD | CHECK | BUILD BIN | ||||||||
| DIAlignR 2.10.0  (landing page) Shubham Gupta 
  | kjohnson1 | macOS 13.6.1 Ventura / arm64 | OK | OK | ERROR | OK | ||||||||
| 
To the developers/maintainers of the DIAlignR package: - Use the following Renviron settings to reproduce errors and warnings. - If 'R CMD check' started to fail recently on the Linux builder(s) over a missing dependency, add the missing dependency to 'Suggests:' in your DESCRIPTION file. See Renviron.bioc for more information.  | 
| Package: DIAlignR | 
| Version: 2.10.0 | 
| Command: /Library/Frameworks/R.framework/Resources/bin/R CMD check --install=check:DIAlignR.install-out.txt --library=/Library/Frameworks/R.framework/Resources/library --no-vignettes --timings DIAlignR_2.10.0.tar.gz | 
| StartedAt: 2024-04-17 11:54:41 -0400 (Wed, 17 Apr 2024) | 
| EndedAt: 2024-04-17 11:57:56 -0400 (Wed, 17 Apr 2024) | 
| EllapsedTime: 195.0 seconds | 
| RetCode: 1 | 
| Status: ERROR | 
| CheckDir: DIAlignR.Rcheck | 
| Warnings: NA | 
##############################################################################
##############################################################################
###
### Running command:
###
###   /Library/Frameworks/R.framework/Resources/bin/R CMD check --install=check:DIAlignR.install-out.txt --library=/Library/Frameworks/R.framework/Resources/library --no-vignettes --timings DIAlignR_2.10.0.tar.gz
###
##############################################################################
##############################################################################
* using log directory ‘/Users/biocbuild/bbs-3.18-bioc-mac-arm64/meat/DIAlignR.Rcheck’
* using R version 4.3.3 (2024-02-29)
* using platform: aarch64-apple-darwin20 (64-bit)
* R was compiled by
    Apple clang version 14.0.0 (clang-1400.0.29.202)
    GNU Fortran (GCC) 12.2.0
* running under: macOS Ventura 13.6.1
* using session charset: UTF-8
* using option ‘--no-vignettes’
* checking for file ‘DIAlignR/DESCRIPTION’ ... OK
* checking extension type ... Package
* this is package ‘DIAlignR’ version ‘2.10.0’
* package encoding: UTF-8
* checking package namespace information ... OK
* checking package dependencies ... OK
* checking if this is a source package ... OK
* checking if there is a namespace ... OK
* checking for hidden files and directories ... OK
* checking for portable file names ... OK
* checking for sufficient/correct file permissions ... OK
* checking whether package ‘DIAlignR’ can be installed ... OK
* used C++ compiler: ‘Apple clang version 15.0.0 (clang-1500.0.40.1)’
* used SDK: ‘MacOSX11.3.sdk’
* checking C++ specification ... NOTE
  Specified C++14: please drop specification unless essential
* checking installed package size ... NOTE
  installed size is 11.4Mb
  sub-directories of 1Mb or more:
    extdata   4.0Mb
    metabo    4.1Mb
    ptms      1.5Mb
* checking package directory ... OK
* checking DESCRIPTION meta-information ... OK
* checking top-level files ... OK
* checking for left-over files ... OK
* checking index information ... OK
* checking package subdirectories ... OK
* checking R files for non-ASCII characters ... OK
* checking R files for syntax errors ... OK
* checking whether the package can be loaded ... OK
* checking whether the package can be loaded with stated dependencies ... OK
* checking whether the package can be unloaded cleanly ... OK
* checking whether the namespace can be loaded with stated dependencies ... OK
* checking whether the namespace can be unloaded cleanly ... OK
* checking dependencies in R code ... OK
* checking S3 generic/method consistency ... OK
* checking replacement functions ... OK
* checking foreign function calls ... OK
* checking R code for possible problems ... NOTE
alignTargetedRuns: no visible binding for global variable ‘peptide_id’
alignTargetedRuns : <anonymous>: no visible global function definition
  for ‘.’
alignTargetedRuns: no visible binding for global variable ‘intensity’
alignToRoot4: no visible binding for global variable ‘trees’
alignToRoot4: no visible binding for global variable ‘precursors’
alignToRoot4: no visible binding for global variable ‘intensity’
childXICs: possible error in cummax(v = cummax(ifelse(is.na(x), -Inf,
  x))): unused argument (v = cummax(ifelse(is.na(x), -Inf, x)))
distMat.rSqrd : <anonymous> : <anonymous>: no visible binding for
  global variable ‘RT.ref’
distMat.rSqrd : <anonymous> : <anonymous>: no visible binding for
  global variable ‘RT.eXp’
fetchPrecursorsInfo: no visible binding for global variable
  ‘transition_id’
fetchPrecursorsInfo: no visible global function definition for ‘.’
fetchPrecursorsInfo: no visible binding for global variable
  ‘transition_group_id’
fetchTransitionsFromRun: no visible binding for global variable
  ‘intensity’
fetchTransitionsFromRun: no visible global function definition for ‘.’
fetchTransitionsFromRun: no visible binding for global variable
  ‘transition_group_id’
fetchTransitionsFromRun: no visible binding for global variable
  ‘peak_group_rank’
fetchTransitionsFromRun: no visible global function definition for
  ‘head’
getNativeIDs: no visible binding for global variable ‘peptide_id’
getPeptideScores: no visible binding for global variable ‘col2’
getPeptideScores: no visible binding for global variable ‘run’
getQuery: no visible binding for global variable
  ‘identifying.transitionPEPfilter’
getRTdf: no visible binding for global variable ‘peak_group_rank’
getRTdf: no visible binding for global variable ‘m_score’
getRTdf: no visible global function definition for ‘.’
getRTdf: no visible binding for global variable ‘transition_group_id’
getRTdf: no visible binding for global variable ‘RT’
getRefRun : <anonymous>: no visible binding for global variable
  ‘pvalue’
ipfReassignFDR: no visible binding for global variable ‘ref_run’
ipfReassignFDR: no visible binding for global variable ‘run’
ipfReassignFDR: no visible global function definition for ‘.’
ipfReassignFDR: no visible binding for global variable ‘i.to’
ipfReassignFDR: no visible binding for global variable ‘m_score_new’
ipfReassignFDR: no visible binding for global variable ‘ms2_m_score’
ipfReassignFDR: no visible binding for global variable ‘m_score’
mstAlignRuns: no visible binding for global variable ‘ropenms’
mstAlignRuns: no visible binding for global variable ‘peptide_id’
mstAlignRuns : <anonymous>: no visible global function definition for
  ‘.’
mstAlignRuns: no visible binding for global variable ‘intensity’
mstScript1: no visible binding for global variable ‘ropenms’
mstScript2: no visible binding for global variable ‘fileInfo’
mstScript2: no visible binding for global variable ‘peptide_id’
mstScript2: no visible binding for global variable ‘features’
mstScript2 : <anonymous>: no visible global function definition for ‘.’
mstScript2 : <anonymous>: no visible binding for global variable
  ‘features’
mstScript2: no visible binding for global variable ‘intensity’
populateReferenceExperimentFeatureAlignmentMap: no visible binding for
  global variable ‘run’
populateReferenceExperimentFeatureAlignmentMap: no visible binding for
  global variable ‘transition_group_id’
populateReferenceExperimentFeatureAlignmentMap: no visible binding for
  global variable ‘feature_id’
progAlignRuns: no visible binding for global variable ‘peptide_id’
progAlignRuns : <anonymous>: no visible global function definition for
  ‘.’
progAlignRuns: no visible binding for global variable ‘intensity’
progComb3: no visible binding for global variable ‘precursors’
progComb3: no visible binding for global variable ‘ropenms’
progSplit2: no visible binding for global variable ‘trees’
progSplit2: no visible binding for global variable ‘scoreFile’
progSplit2: no visible binding for global variable ‘precursors’
progSplit2 : <anonymous>: no visible global function definition for ‘.’
progSplit2: no visible binding for global variable ‘ropenms’
progSplit4: no visible binding for global variable ‘precursors’
progSplit4 : <anonymous>: no visible global function definition for ‘.’
progSplit4: no visible binding for global variable ‘intensity’
progTree1: no visible binding for global variable ‘ropenms’
progTree1: no visible binding for global variable ‘peptide_id’
reIntensity: no visible binding for global variable ‘run’
reIntensity: no visible binding for global variable ‘alignment_rank’
recalculateIntensity: no visible binding for global variable
  ‘peptide_id’
recalculateIntensity: no visible binding for global variable
  ‘chromatogramIndex’
script2: no visible binding for global variable ‘fileInfo’
script2: no visible binding for global variable ‘peptide_id’
script2 : <anonymous>: no visible global function definition for ‘.’
script2: no visible binding for global variable ‘features’
script2: no visible binding for global variable ‘globalFits’
script2: no visible binding for global variable ‘RSE’
script2: no visible binding for global variable ‘intensity’
setRootRank : <anonymous>: no visible global function definition for
  ‘.’
writeOutFeatureAlignmentMap: no visible binding for global variable
  ‘reference_feature_id’
writeOutFeatureAlignmentMap: no visible binding for global variable
  ‘experiment_feature_id’
writeOutFeatureAlignmentMap: no visible binding for global variable
  ‘ALIGNMENT_GROUP_ID’
writeOutFeatureAlignmentMap: no visible binding for global variable
  ‘REFERENCE’
writeOutFeatureAlignmentMap: no visible global function definition for
  ‘.’
writeOutFeatureAlignmentMap: no visible binding for global variable
  ‘i.to’
writeTables: no visible binding for global variable ‘peptide_id’
writeTables: no visible binding for global variable ‘run’
writeTables: no visible binding for global variable ‘precursor’
Undefined global functions or variables:
  . ALIGNMENT_GROUP_ID REFERENCE RSE RT RT.eXp RT.ref alignment_rank
  chromatogramIndex col2 experiment_feature_id feature_id features
  fileInfo globalFits head i.to identifying.transitionPEPfilter
  intensity m_score m_score_new ms2_m_score peak_group_rank peptide_id
  precursor precursors pvalue ref_run reference_feature_id ropenms run
  scoreFile transition_group_id transition_id trees
Consider adding
  importFrom("datasets", "trees")
  importFrom("utils", "head")
to your NAMESPACE file.
* checking Rd files ... OK
* checking Rd metadata ... OK
* checking Rd cross-references ... OK
* checking for missing documentation entries ... OK
* checking for code/documentation mismatches ... OK
* checking Rd \usage sections ... OK
* checking Rd contents ... OK
* checking for unstated dependencies in examples ... OK
* checking contents of ‘data’ directory ... OK
* checking data for non-ASCII characters ... OK
* checking data for ASCII and uncompressed saves ... OK
* checking line endings in C/C++/Fortran sources/headers ... OK
* checking compiled code ... NOTE
Note: information on .o files is not available
File ‘/Library/Frameworks/R.framework/Versions/4.3-arm64/Resources/library/DIAlignR/libs/DIAlignR.so’:
  Found ‘__ZNSt3__14coutE’, possibly from ‘std::cout’ (C++)
Compiled code should not call entry points which might terminate R nor
write to stdout/stderr instead of to the console, nor use Fortran I/O
nor system RNGs nor [v]sprintf. The detected symbols are linked into
the code but might come from libraries and not actually be called.
See ‘Writing portable packages’ in the ‘Writing R Extensions’ manual.
* checking files in ‘vignettes’ ... OK
* checking examples ... OK
Examples with CPU (user + system) or elapsed time > 5s
                   user system elapsed
alignTargetedRuns 8.765 14.446   9.533
* checking for unstated dependencies in ‘tests’ ... OK
* checking tests ...
  Running ‘testthat.R’
 ERROR
Running the tests in ‘tests/testthat.R’ failed.
Last 13 lines of output:
  ── Failure ('test_get_global_fit.R:21:3'): test_dialignrLoess ──────────────────
  outData$pars$span not equal to 0.8.
  1/1 mismatches
  [1] 0.4 - 0.8 == -0.4
  ── Failure ('test_get_global_fit.R:22:3'): test_dialignrLoess ──────────────────
  predict(outData, newdata = data.frame(RT.ref = 13.5))[[1]] not equal to 5.5.
  1/1 mismatches
  [1] 2.75 - 5.5 == -2.75
  ── Failure ('test_utils.R:276:3'): test_ipfReassignFDR ─────────────────────────
  `finalTbl` not equal to `expData`.
  Column 'RT': 'is.NA' value mismatch: 2 in current 0 in target
  
  [ FAIL 3 | WARN 3 | SKIP 8 | PASS 629 ]
  Error: Test failures
  Execution halted
* checking for unstated dependencies in vignettes ... OK
* checking package vignettes in ‘inst/doc’ ... OK
* checking running R code from vignettes ... SKIPPED
* checking re-building of vignette outputs ... SKIPPED
* checking PDF version of manual ... OK
* DONE
Status: 1 ERROR, 4 NOTEs
See
  ‘/Users/biocbuild/bbs-3.18-bioc-mac-arm64/meat/DIAlignR.Rcheck/00check.log’
for details.
DIAlignR.Rcheck/00install.out
##############################################################################
##############################################################################
###
### Running command:
###
###   /Library/Frameworks/R.framework/Resources/bin/R CMD INSTALL DIAlignR
###
##############################################################################
##############################################################################
* installing to library ‘/Library/Frameworks/R.framework/Versions/4.3-arm64/Resources/library’
* installing *source* package ‘DIAlignR’ ...
** using staged installation
** libs
using C++ compiler: ‘Apple clang version 15.0.0 (clang-1500.0.40.1)’
using C++14
using SDK: ‘MacOSX11.3.sdk’
clang++ -arch arm64 -std=gnu++14 -I"/Library/Frameworks/R.framework/Resources/include" -DNDEBUG  -I'/Library/Frameworks/R.framework/Versions/4.3-arm64/Resources/library/Rcpp/include' -I'/Library/Frameworks/R.framework/Versions/4.3-arm64/Resources/library/RcppEigen/include' -I/opt/R/arm64/include    -fPIC  -falign-functions=64 -Wall -g -O2  -c ChromatogramPeak.cpp -o ChromatogramPeak.o
clang++ -arch arm64 -std=gnu++14 -I"/Library/Frameworks/R.framework/Resources/include" -DNDEBUG  -I'/Library/Frameworks/R.framework/Versions/4.3-arm64/Resources/library/Rcpp/include' -I'/Library/Frameworks/R.framework/Versions/4.3-arm64/Resources/library/RcppEigen/include' -I/opt/R/arm64/include    -fPIC  -falign-functions=64 -Wall -g -O2  -c DPosition.cpp -o DPosition.o
clang++ -arch arm64 -std=gnu++14 -I"/Library/Frameworks/R.framework/Resources/include" -DNDEBUG  -I'/Library/Frameworks/R.framework/Versions/4.3-arm64/Resources/library/Rcpp/include' -I'/Library/Frameworks/R.framework/Versions/4.3-arm64/Resources/library/RcppEigen/include' -I/opt/R/arm64/include    -fPIC  -falign-functions=64 -Wall -g -O2  -c MSChromatogram.cpp -o MSChromatogram.o
clang++ -arch arm64 -std=gnu++14 -I"/Library/Frameworks/R.framework/Resources/include" -DNDEBUG  -I'/Library/Frameworks/R.framework/Versions/4.3-arm64/Resources/library/Rcpp/include' -I'/Library/Frameworks/R.framework/Versions/4.3-arm64/Resources/library/RcppEigen/include' -I/opt/R/arm64/include    -fPIC  -falign-functions=64 -Wall -g -O2  -c PeakIntegrator.cpp -o PeakIntegrator.o
clang++ -arch arm64 -std=gnu++14 -I"/Library/Frameworks/R.framework/Resources/include" -DNDEBUG  -I'/Library/Frameworks/R.framework/Versions/4.3-arm64/Resources/library/Rcpp/include' -I'/Library/Frameworks/R.framework/Versions/4.3-arm64/Resources/library/RcppEigen/include' -I/opt/R/arm64/include    -fPIC  -falign-functions=64 -Wall -g -O2  -c RcppExports.cpp -o RcppExports.o
In file included from RcppExports.cpp:4:
In file included from /Library/Frameworks/R.framework/Versions/4.3-arm64/Resources/library/RcppEigen/include/RcppEigen.h:25:
In file included from /Library/Frameworks/R.framework/Versions/4.3-arm64/Resources/library/RcppEigen/include/RcppEigenForward.h:29:
In file included from /Library/Frameworks/R.framework/Versions/4.3-arm64/Resources/library/RcppEigen/include/Eigen/Sparse:26:
In file included from /Library/Frameworks/R.framework/Versions/4.3-arm64/Resources/library/RcppEigen/include/Eigen/SparseCore:61:
/Library/Frameworks/R.framework/Versions/4.3-arm64/Resources/library/RcppEigen/include/Eigen/src/SparseCore/TriangularSolver.h:273:13: warning: variable 'count' set but not used [-Wunused-but-set-variable]
      Index count = 0;
            ^
In file included from RcppExports.cpp:4:
In file included from /Library/Frameworks/R.framework/Versions/4.3-arm64/Resources/library/RcppEigen/include/RcppEigen.h:25:
In file included from /Library/Frameworks/R.framework/Versions/4.3-arm64/Resources/library/RcppEigen/include/RcppEigenForward.h:29:
In file included from /Library/Frameworks/R.framework/Versions/4.3-arm64/Resources/library/RcppEigen/include/Eigen/Sparse:29:
In file included from /Library/Frameworks/R.framework/Versions/4.3-arm64/Resources/library/RcppEigen/include/Eigen/SparseLU:35:
/Library/Frameworks/R.framework/Versions/4.3-arm64/Resources/library/RcppEigen/include/Eigen/src/SparseLU/SparseLU_heap_relax_snode.h:78:9: warning: variable 'nsuper_et_post' set but not used [-Wunused-but-set-variable]
  Index nsuper_et_post = 0; // Number of relaxed snodes in postordered etree 
        ^
/Library/Frameworks/R.framework/Versions/4.3-arm64/Resources/library/RcppEigen/include/Eigen/src/SparseLU/SparseLU_heap_relax_snode.h:79:9: warning: variable 'nsuper_et' set but not used [-Wunused-but-set-variable]
  Index nsuper_et = 0; // Number of relaxed snodes in the original etree 
        ^
In file included from RcppExports.cpp:4:
In file included from /Library/Frameworks/R.framework/Versions/4.3-arm64/Resources/library/RcppEigen/include/RcppEigen.h:25:
In file included from /Library/Frameworks/R.framework/Versions/4.3-arm64/Resources/library/RcppEigen/include/RcppEigenForward.h:31:
In file included from /Library/Frameworks/R.framework/Versions/4.3-arm64/Resources/library/RcppEigen/include/unsupported/Eigen/IterativeSolvers:46:
/Library/Frameworks/R.framework/Versions/4.3-arm64/Resources/library/RcppEigen/include/unsupported/Eigen/src/IterativeSolvers/IDRS.h:72:10: warning: variable 'replacements' set but not used [-Wunused-but-set-variable]
                        Index replacements = 0;
                              ^
In file included from RcppExports.cpp:4:
In file included from /Library/Frameworks/R.framework/Versions/4.3-arm64/Resources/library/RcppEigen/include/RcppEigen.h:25:
In file included from /Library/Frameworks/R.framework/Versions/4.3-arm64/Resources/library/RcppEigen/include/RcppEigenForward.h:37:
In file included from /Library/Frameworks/R.framework/Versions/4.3-arm64/Resources/library/RcppEigen/include/unsupported/Eigen/SparseExtra:45:
/Library/Frameworks/R.framework/Versions/4.3-arm64/Resources/library/RcppEigen/include/unsupported/Eigen/src/SparseExtra/MarketIO.h:246:7: warning: variable 'count' set but not used [-Wunused-but-set-variable]
  int count = 0;
      ^
5 warnings generated.
clang++ -arch arm64 -std=gnu++14 -I"/Library/Frameworks/R.framework/Resources/include" -DNDEBUG  -I'/Library/Frameworks/R.framework/Versions/4.3-arm64/Resources/library/Rcpp/include' -I'/Library/Frameworks/R.framework/Versions/4.3-arm64/Resources/library/RcppEigen/include' -I/opt/R/arm64/include    -fPIC  -falign-functions=64 -Wall -g -O2  -c Rmain.cpp -o Rmain.o
In file included from Rmain.cpp:19:
./miscell.h:14:19: warning: unused function 'detect_end_na' [-Wunused-function]
static bool const detect_end_na(double a, double b);
                  ^
./miscell.h:16:19: warning: unused function 'detect_start_na' [-Wunused-function]
static bool const detect_start_na(double a, double b);
                  ^
./miscell.h:18:19: warning: unused function 'lessZero' [-Wunused-function]
static bool const lessZero(double a);
                  ^
3 warnings generated.
clang++ -arch arm64 -std=gnu++14 -I"/Library/Frameworks/R.framework/Resources/include" -DNDEBUG  -I'/Library/Frameworks/R.framework/Versions/4.3-arm64/Resources/library/Rcpp/include' -I'/Library/Frameworks/R.framework/Versions/4.3-arm64/Resources/library/RcppEigen/include' -I/opt/R/arm64/include    -fPIC  -falign-functions=64 -Wall -g -O2  -c SavitzkyGolayFilter.cpp -o SavitzkyGolayFilter.o
In file included from SavitzkyGolayFilter.cpp:1:
In file included from /Library/Frameworks/R.framework/Versions/4.3-arm64/Resources/library/RcppEigen/include/RcppEigen.h:25:
In file included from /Library/Frameworks/R.framework/Versions/4.3-arm64/Resources/library/RcppEigen/include/RcppEigenForward.h:29:
In file included from /Library/Frameworks/R.framework/Versions/4.3-arm64/Resources/library/RcppEigen/include/Eigen/Sparse:26:
In file included from /Library/Frameworks/R.framework/Versions/4.3-arm64/Resources/library/RcppEigen/include/Eigen/SparseCore:61:
/Library/Frameworks/R.framework/Versions/4.3-arm64/Resources/library/RcppEigen/include/Eigen/src/SparseCore/TriangularSolver.h:273:13: warning: variable 'count' set but not used [-Wunused-but-set-variable]
      Index count = 0;
            ^
In file included from SavitzkyGolayFilter.cpp:1:
In file included from /Library/Frameworks/R.framework/Versions/4.3-arm64/Resources/library/RcppEigen/include/RcppEigen.h:25:
In file included from /Library/Frameworks/R.framework/Versions/4.3-arm64/Resources/library/RcppEigen/include/RcppEigenForward.h:29:
In file included from /Library/Frameworks/R.framework/Versions/4.3-arm64/Resources/library/RcppEigen/include/Eigen/Sparse:29:
In file included from /Library/Frameworks/R.framework/Versions/4.3-arm64/Resources/library/RcppEigen/include/Eigen/SparseLU:35:
/Library/Frameworks/R.framework/Versions/4.3-arm64/Resources/library/RcppEigen/include/Eigen/src/SparseLU/SparseLU_heap_relax_snode.h:78:9: warning: variable 'nsuper_et_post' set but not used [-Wunused-but-set-variable]
  Index nsuper_et_post = 0; // Number of relaxed snodes in postordered etree 
        ^
/Library/Frameworks/R.framework/Versions/4.3-arm64/Resources/library/RcppEigen/include/Eigen/src/SparseLU/SparseLU_heap_relax_snode.h:79:9: warning: variable 'nsuper_et' set but not used [-Wunused-but-set-variable]
  Index nsuper_et = 0; // Number of relaxed snodes in the original etree 
        ^
In file included from SavitzkyGolayFilter.cpp:1:
In file included from /Library/Frameworks/R.framework/Versions/4.3-arm64/Resources/library/RcppEigen/include/RcppEigen.h:25:
In file included from /Library/Frameworks/R.framework/Versions/4.3-arm64/Resources/library/RcppEigen/include/RcppEigenForward.h:31:
In file included from /Library/Frameworks/R.framework/Versions/4.3-arm64/Resources/library/RcppEigen/include/unsupported/Eigen/IterativeSolvers:46:
/Library/Frameworks/R.framework/Versions/4.3-arm64/Resources/library/RcppEigen/include/unsupported/Eigen/src/IterativeSolvers/IDRS.h:72:10: warning: variable 'replacements' set but not used [-Wunused-but-set-variable]
                        Index replacements = 0;
                              ^
In file included from SavitzkyGolayFilter.cpp:1:
In file included from /Library/Frameworks/R.framework/Versions/4.3-arm64/Resources/library/RcppEigen/include/RcppEigen.h:25:
In file included from /Library/Frameworks/R.framework/Versions/4.3-arm64/Resources/library/RcppEigen/include/RcppEigenForward.h:37:
In file included from /Library/Frameworks/R.framework/Versions/4.3-arm64/Resources/library/RcppEigen/include/unsupported/Eigen/SparseExtra:45:
/Library/Frameworks/R.framework/Versions/4.3-arm64/Resources/library/RcppEigen/include/unsupported/Eigen/src/SparseExtra/MarketIO.h:246:7: warning: variable 'count' set but not used [-Wunused-but-set-variable]
  int count = 0;
      ^
5 warnings generated.
clang++ -arch arm64 -std=gnu++14 -I"/Library/Frameworks/R.framework/Resources/include" -DNDEBUG  -I'/Library/Frameworks/R.framework/Versions/4.3-arm64/Resources/library/Rcpp/include' -I'/Library/Frameworks/R.framework/Versions/4.3-arm64/Resources/library/RcppEigen/include' -I/opt/R/arm64/include    -fPIC  -falign-functions=64 -Wall -g -O2  -c affinealignment.cpp -o affinealignment.o
clang++ -arch arm64 -std=gnu++14 -I"/Library/Frameworks/R.framework/Resources/include" -DNDEBUG  -I'/Library/Frameworks/R.framework/Versions/4.3-arm64/Resources/library/Rcpp/include' -I'/Library/Frameworks/R.framework/Versions/4.3-arm64/Resources/library/RcppEigen/include' -I/opt/R/arm64/include    -fPIC  -falign-functions=64 -Wall -g -O2  -c affinealignobj.cpp -o affinealignobj.o
clang++ -arch arm64 -std=gnu++14 -I"/Library/Frameworks/R.framework/Resources/include" -DNDEBUG  -I'/Library/Frameworks/R.framework/Versions/4.3-arm64/Resources/library/Rcpp/include' -I'/Library/Frameworks/R.framework/Versions/4.3-arm64/Resources/library/RcppEigen/include' -I/opt/R/arm64/include    -fPIC  -falign-functions=64 -Wall -g -O2  -c alignment.cpp -o alignment.o
clang++ -arch arm64 -std=gnu++14 -I"/Library/Frameworks/R.framework/Resources/include" -DNDEBUG  -I'/Library/Frameworks/R.framework/Versions/4.3-arm64/Resources/library/Rcpp/include' -I'/Library/Frameworks/R.framework/Versions/4.3-arm64/Resources/library/RcppEigen/include' -I/opt/R/arm64/include    -fPIC  -falign-functions=64 -Wall -g -O2  -c chromSimMatrix.cpp -o chromSimMatrix.o
clang++ -arch arm64 -std=gnu++14 -I"/Library/Frameworks/R.framework/Resources/include" -DNDEBUG  -I'/Library/Frameworks/R.framework/Versions/4.3-arm64/Resources/library/Rcpp/include' -I'/Library/Frameworks/R.framework/Versions/4.3-arm64/Resources/library/RcppEigen/include' -I/opt/R/arm64/include    -fPIC  -falign-functions=64 -Wall -g -O2  -c constrainMat.cpp -o constrainMat.o
constrainMat.cpp:78:10: warning: unused variable 'mapped' [-Wunused-variable]
  double mapped = 0.0;
         ^
1 warning generated.
clang++ -arch arm64 -std=gnu++14 -I"/Library/Frameworks/R.framework/Resources/include" -DNDEBUG  -I'/Library/Frameworks/R.framework/Versions/4.3-arm64/Resources/library/Rcpp/include' -I'/Library/Frameworks/R.framework/Versions/4.3-arm64/Resources/library/RcppEigen/include' -I/opt/R/arm64/include    -fPIC  -falign-functions=64 -Wall -g -O2  -c gapPenalty.cpp -o gapPenalty.o
clang++ -arch arm64 -std=gnu++14 -I"/Library/Frameworks/R.framework/Resources/include" -DNDEBUG  -I'/Library/Frameworks/R.framework/Versions/4.3-arm64/Resources/library/Rcpp/include' -I'/Library/Frameworks/R.framework/Versions/4.3-arm64/Resources/library/RcppEigen/include' -I/opt/R/arm64/include    -fPIC  -falign-functions=64 -Wall -g -O2  -c integrateArea.cpp -o integrateArea.o
clang++ -arch arm64 -std=gnu++14 -I"/Library/Frameworks/R.framework/Resources/include" -DNDEBUG  -I'/Library/Frameworks/R.framework/Versions/4.3-arm64/Resources/library/Rcpp/include' -I'/Library/Frameworks/R.framework/Versions/4.3-arm64/Resources/library/RcppEigen/include' -I/opt/R/arm64/include    -fPIC  -falign-functions=64 -Wall -g -O2  -c interface.cpp -o interface.o
clang++ -arch arm64 -std=gnu++14 -I"/Library/Frameworks/R.framework/Resources/include" -DNDEBUG  -I'/Library/Frameworks/R.framework/Versions/4.3-arm64/Resources/library/Rcpp/include' -I'/Library/Frameworks/R.framework/Versions/4.3-arm64/Resources/library/RcppEigen/include' -I/opt/R/arm64/include    -fPIC  -falign-functions=64 -Wall -g -O2  -c miscell.cpp -o miscell.o
miscell.cpp:53:19: warning: unused function 'lessZero' [-Wunused-function]
static bool const lessZero(double a){
                  ^
1 warning generated.
clang++ -arch arm64 -std=gnu++14 -I"/Library/Frameworks/R.framework/Resources/include" -DNDEBUG  -I'/Library/Frameworks/R.framework/Versions/4.3-arm64/Resources/library/Rcpp/include' -I'/Library/Frameworks/R.framework/Versions/4.3-arm64/Resources/library/RcppEigen/include' -I/opt/R/arm64/include    -fPIC  -falign-functions=64 -Wall -g -O2  -c run_alignment.cpp -o run_alignment.o
clang++ -arch arm64 -std=gnu++14 -I"/Library/Frameworks/R.framework/Resources/include" -DNDEBUG  -I'/Library/Frameworks/R.framework/Versions/4.3-arm64/Resources/library/Rcpp/include' -I'/Library/Frameworks/R.framework/Versions/4.3-arm64/Resources/library/RcppEigen/include' -I/opt/R/arm64/include    -fPIC  -falign-functions=64 -Wall -g -O2  -c simpleFcn.cpp -o simpleFcn.o
clang++ -arch arm64 -std=gnu++14 -I"/Library/Frameworks/R.framework/Resources/include" -DNDEBUG  -I'/Library/Frameworks/R.framework/Versions/4.3-arm64/Resources/library/Rcpp/include' -I'/Library/Frameworks/R.framework/Versions/4.3-arm64/Resources/library/RcppEigen/include' -I/opt/R/arm64/include    -fPIC  -falign-functions=64 -Wall -g -O2  -c spline.cpp -o spline.o
clang++ -arch arm64 -std=gnu++14 -I"/Library/Frameworks/R.framework/Resources/include" -DNDEBUG  -I'/Library/Frameworks/R.framework/Versions/4.3-arm64/Resources/library/Rcpp/include' -I'/Library/Frameworks/R.framework/Versions/4.3-arm64/Resources/library/RcppEigen/include' -I/opt/R/arm64/include    -fPIC  -falign-functions=64 -Wall -g -O2  -c utils.cpp -o utils.o
utils.cpp:48:9: warning: unused variable 'idx' [-Wunused-variable]
    int idx = n*(1-p);
        ^
1 warning generated.
clang++ -arch arm64 -std=gnu++14 -dynamiclib -Wl,-headerpad_max_install_names -undefined dynamic_lookup -L/Library/Frameworks/R.framework/Resources/lib -L/opt/R/arm64/lib -o DIAlignR.so ChromatogramPeak.o DPosition.o MSChromatogram.o PeakIntegrator.o RcppExports.o Rmain.o SavitzkyGolayFilter.o affinealignment.o affinealignobj.o alignment.o chromSimMatrix.o constrainMat.o gapPenalty.o integrateArea.o interface.o miscell.o run_alignment.o simpleFcn.o spline.o utils.o -F/Library/Frameworks/R.framework/.. -framework R -Wl,-framework -Wl,CoreFoundation
installing to /Library/Frameworks/R.framework/Versions/4.3-arm64/Resources/library/00LOCK-DIAlignR/00new/DIAlignR/libs
** R
** data
** inst
** byte-compile and prepare package for lazy loading
** help
*** installing help indices
** building package indices
** installing vignettes
** testing if installed package can be loaded from temporary location
** checking absolute paths in shared objects and dynamic libraries
** testing if installed package can be loaded from final location
** testing if installed package keeps a record of temporary installation path
* DONE (DIAlignR)
DIAlignR.Rcheck/tests/testthat.Rout.fail
R version 4.3.3 (2024-02-29) -- "Angel Food Cake"
Copyright (C) 2024 The R Foundation for Statistical Computing
Platform: aarch64-apple-darwin20 (64-bit)
R is free software and comes with ABSOLUTELY NO WARRANTY.
You are welcome to redistribute it under certain conditions.
Type 'license()' or 'licence()' for distribution details.
R is a collaborative project with many contributors.
Type 'contributors()' for more information and
'citation()' on how to cite R or R packages in publications.
Type 'demo()' for some demos, 'help()' for on-line help, or
'help.start()' for an HTML browser interface to help.
Type 'q()' to quit R.
> library(testthat)
> library(DIAlignR)
> 
> test_check("DIAlignR")
[1] "hroest_K120808_Strep10%PlasmaBiolRepl1_R03_SW_filt"
[2] "hroest_K120809_Strep0%PlasmaBiolRepl2_R04_SW_filt" 
[3] "hroest_K120809_Strep10%PlasmaBiolRepl2_R04_SW_filt"
Time difference of 0.04440093 secs
Time difference of 0.1671441 secs
Time difference of 0.1348901 secs
Time difference of 0.02824306 secs
Time difference of 0.009099007 secs
Time difference of 0.1070569 secs
Time difference of 1.212099 secs
Time difference of 0.0202291 secs
Time difference of 0.37202 secs
[1] "hroest_K120808_Strep10%PlasmaBiolRepl1_R03_SW_filt"
[2] "hroest_K120809_Strep0%PlasmaBiolRepl2_R04_SW_filt" 
Time difference of 0.01898313 secs
Time difference of 0.1482198 secs
Time difference of 0.07652497 secs
Time difference of 0.020401 secs
Time difference of 0.008150816 secs
Time difference of 0.06019497 secs
Time difference of 0.71276 secs
Time difference of 0.007657051 secs
Time difference of 0.8173392 secs
[1] "hroest_K120808_Strep10%PlasmaBiolRepl1_R03_SW_filt"
[2] "hroest_K120809_Strep0%PlasmaBiolRepl2_R04_SW_filt" 
[3] "hroest_K120809_Strep10%PlasmaBiolRepl2_R04_SW_filt"
Time difference of 0.01826906 secs
Time difference of 0.157974 secs
Time difference of 0.06882906 secs
Time difference of 0.1146581 secs
Time difference of 0.01001596 secs
Time difference of 0.06181788 secs
Time difference of 0.878283 secs
Time difference of 0.0174582 secs
Time difference of 0.2951 secs
[1] "hroest_K120808_Strep10%PlasmaBiolRepl1_R03_SW_filt"
[2] "hroest_K120809_Strep0%PlasmaBiolRepl2_R04_SW_filt" 
[3] "hroest_K120809_Strep10%PlasmaBiolRepl2_R04_SW_filt"
Time difference of 0.01964307 secs
Time difference of 0.01511407 secs
Time difference of 0.0003631115 secs
Time difference of 0.1144001 secs
Time difference of 0.01085782 secs
Time difference of 0.06289101 secs
Time difference of 0.01245308 secs
Time difference of 0.007191181 secs
Time difference of 0.08604288 secs
[1] "hroest_K120809_Strep0%PlasmaBiolRepl2_R04_SW_filt" 
[2] "hroest_K120809_Strep10%PlasmaBiolRepl2_R04_SW_filt"
[1] "PestMix1_8Step1Plasma1SWATH20-50" "PestMix1_8Step8Plasma1SWATH20-50"
Time difference of 0.00712204 secs
Time difference of 0.026757 secs
Time difference of 0.007133961 secs
Time difference of 0.01283503 secs
Time difference of 0.006827116 secs
Time difference of 0.04152894 secs
Time difference of 0.0781188 secs
Time difference of 0.006430864 secs
Time difference of 0.1813159 secs
[1] "chludwig_K150309_004b_SW_1_16" "chludwig_K150309_008_SW_1_4"  
[3] "chludwig_K150309_013_SW_0"    
Time difference of 0.01082301 secs
Time difference of 0.01033807 secs
Time difference of 0.0009939671 secs
Time difference of 0.01667905 secs
Time difference of 0.01019788 secs
Time difference of 0.05251408 secs
Time difference of 0.004945993 secs
Time difference of 0.02890301 secs
Time difference of 0.2051921 secs
<simpleWarning in simpleLoess(y, x, w, span, degree = degree, parametric = parametric,     drop.square = drop.square, normalize = normalize, statistics = control$statistics,     surface = control$surface, cell = control$cell, iterations = iterations,     iterTrace = control$iterTrace, trace.hat = control$trace.hat): span too small.   fewer data values than degrees of freedom.>
<simpleWarning in simpleLoess(y, x, w, span, degree = degree, parametric = parametric,     drop.square = drop.square, normalize = normalize, statistics = control$statistics,     surface = control$surface, cell = control$cell, iterations = iterations,     iterTrace = control$iterTrace, trace.hat = control$trace.hat): span too small.   fewer data values than degrees of freedom.>
<simpleError in simpleLoess(y, x, w, span, degree = degree, parametric = parametric,     drop.square = drop.square, normalize = normalize, statistics = control$statistics,     surface = control$surface, cell = control$cell, iterations = iterations,     iterTrace = control$iterTrace, trace.hat = control$trace.hat): span is too small>
                                                runName
run0 hroest_K120808_Strep10%PlasmaBiolRepl1_R03_SW_filt
run1  hroest_K120809_Strep0%PlasmaBiolRepl2_R04_SW_filt
run2 hroest_K120809_Strep10%PlasmaBiolRepl2_R04_SW_filt
Time difference of 0.11566 secs
Time difference of 0.01515794 secs
Time difference of 0.001539946 secs
Time difference of 0.01035094 secs
Time difference of 0.06659102 secs
Time difference of 0.01308608 secs
Time difference of 0.01332021 secs
Time difference of 0.08517313 secs
                                                runName
run0 hroest_K120808_Strep10%PlasmaBiolRepl1_R03_SW_filt
run1  hroest_K120809_Strep0%PlasmaBiolRepl2_R04_SW_filt
run2 hroest_K120809_Strep10%PlasmaBiolRepl2_R04_SW_filt
Time difference of 0.029598 secs
[1] "run0 run1\nrun2 run2"
Time difference of 0.154145 secs
Time difference of 0.08523393 secs
Time difference of 0.00977087 secs
Time difference of 0.05943799 secs
Time difference of 1.116659 secs
Time difference of 0.01372886 secs
Time difference of 0.316721 secs
                                                runName
run0 hroest_K120808_Strep10%PlasmaBiolRepl1_R03_SW_filt
run1  hroest_K120809_Strep0%PlasmaBiolRepl2_R04_SW_filt
run2 hroest_K120809_Strep10%PlasmaBiolRepl2_R04_SW_filt
Time difference of 0.1521182 secs
Time difference of 0.817852 secs
Time difference of 6.359824 secs
Time difference of 0.3552699 secs
                                                runName
run0 hroest_K120808_Strep10%PlasmaBiolRepl1_R03_SW_filt
run1  hroest_K120809_Strep0%PlasmaBiolRepl2_R04_SW_filt
run2 hroest_K120809_Strep10%PlasmaBiolRepl2_R04_SW_filt
Time difference of 0.1166639 secs
[1] "Written /Library/Frameworks/R.framework/Versions/4.3-arm64/Resources/library/DIAlignR/extdata/temp_prog1.RData"
[1] "Written /Library/Frameworks/R.framework/Versions/4.3-arm64/Resources/library/DIAlignR/extdata/temp_0_2.rds"
[1] "progTree1 is done."
Time difference of 1.012068 secs
Time difference of 0.315547 secs
[1] "Written /Library/Frameworks/R.framework/Versions/4.3-arm64/Resources/library/DIAlignR/extdata/temp_1_2.rds"
Time difference of 1.012492 secs
[1] "Written /Library/Frameworks/R.framework/Versions/4.3-arm64/Resources/library/DIAlignR/extdata/temp_2_2.rds"
Time difference of 0.764143 secs
Time difference of 0.1491148 secs
[1] "Written /Library/Frameworks/R.framework/Versions/4.3-arm64/Resources/library/DIAlignR/extdata/temp_all_2.rds"
Time difference of 0.153595 secs
                                                runName
run0 hroest_K120808_Strep10%PlasmaBiolRepl1_R03_SW_filt
run1  hroest_K120809_Strep0%PlasmaBiolRepl2_R04_SW_filt
run2 hroest_K120809_Strep10%PlasmaBiolRepl2_R04_SW_filt
Time difference of 0.1171072 secs
[1] "Written /Library/Frameworks/R.framework/Versions/4.3-arm64/Resources/library/DIAlignR/extdata/temp_prog1.RData"
[1] "Written /Library/Frameworks/R.framework/Versions/4.3-arm64/Resources/library/DIAlignR/extdata/temp_0_2.rds"
[1] "progTree1 is done."
Time difference of 0.84969 secs
Time difference of 0.275672 secs
[1] "Written /Library/Frameworks/R.framework/Versions/4.3-arm64/Resources/library/DIAlignR/extdata/temp_1_2.rds"
Time difference of 0.380013 secs
[1] "Written /Library/Frameworks/R.framework/Versions/4.3-arm64/Resources/library/DIAlignR/extdata/temp_2_2.rds"
Time difference of 0.3021569 secs
Time difference of 0.01370382 secs
[1] "Written /Library/Frameworks/R.framework/Versions/4.3-arm64/Resources/library/DIAlignR/extdata/temp_all_2.rds"
Error in reticulate::use_condaenv(condaEnv, required = TRUE) : 
  Unable to locate conda environment 'TricEnvr'.
Error in reticulate::use_condaenv(condaEnv, required = TRUE) : 
  Unable to locate conda environment 'TricEnvr'.
Error in reticulate::use_condaenv(condaEnv, required = TRUE) : 
  Unable to locate conda environment 'TricEnvr'.
[ FAIL 3 | WARN 3 | SKIP 8 | PASS 629 ]
══ Skipped tests (8) ═══════════════════════════════════════════════════════════
• empty test (5): 'test_get_filenames.R:77:1', 'test_get_filenames.R:82:1',
  'test_utils.R:200:1', 'test_utils.R:203:1', 'test_utils.R:206:1'
• ropenms not available for testing. A conda environment with name TricEnvr is
  MUST for testing. (3): 'test_pyopenms.R:4:3', 'test_pyopenms.R:8:3',
  'test_pyopenms.R:27:3'
══ Failed tests ════════════════════════════════════════════════════════════════
── Failure ('test_get_global_fit.R:21:3'): test_dialignrLoess ──────────────────
outData$pars$span not equal to 0.8.
1/1 mismatches
[1] 0.4 - 0.8 == -0.4
── Failure ('test_get_global_fit.R:22:3'): test_dialignrLoess ──────────────────
predict(outData, newdata = data.frame(RT.ref = 13.5))[[1]] not equal to 5.5.
1/1 mismatches
[1] 2.75 - 5.5 == -2.75
── Failure ('test_utils.R:276:3'): test_ipfReassignFDR ─────────────────────────
`finalTbl` not equal to `expData`.
Column 'RT': 'is.NA' value mismatch: 2 in current 0 in target
[ FAIL 3 | WARN 3 | SKIP 8 | PASS 629 ]
Error: Test failures
Execution halted
DIAlignR.Rcheck/DIAlignR-Ex.timings
| name | user | system | elapsed | |
| MSTperBatch | 0.001 | 0.000 | 0.002 | |
| addFlankToLeft | 0.002 | 0.000 | 0.003 | |
| addFlankToRight | 0.001 | 0.000 | 0.002 | |
| addXIC | 0 | 0 | 0 | |
| alignChromatogramsCpp | 0.030 | 0.006 | 0.037 | |
| alignTargetedRuns | 8.765 | 14.446 | 9.533 | |
| alignToMaster | 1.609 | 0.089 | 1.700 | |
| alignToRef | 0.001 | 0.000 | 0.001 | |
| alignToRefMST | 0.001 | 0.000 | 0.001 | |
| alignedXIC | 0.141 | 0.003 | 0.145 | |
| analytesFromFeatures | 0.045 | 0.006 | 0.050 | |
| approxFill | 0.001 | 0.000 | 0.001 | |
| areaIntegrator | 0.003 | 0.001 | 0.005 | |
| blobXICs | 0.002 | 0.001 | 0.004 | |
| calculateIntensity | 0.003 | 0.001 | 0.004 | |
| checkOverlap | 0.000 | 0.000 | 0.001 | |
| checkParams | 0 | 0 | 0 | |
| childXIC | 0.142 | 0.002 | 0.144 | |
| childXICs | 0.772 | 0.032 | 0.805 | |
| constrainSimCpp | 0.001 | 0.000 | 0.001 | |
| createMZML | 0.004 | 0.002 | 0.005 | |
| createSqMass | 0.003 | 0.001 | 0.004 | |
| dialignrLoess | 0.001 | 0.000 | 0.000 | |
| doAffineAlignmentCpp | 0.001 | 0.000 | 0.002 | |
| doAlignmentCpp | 0.001 | 0.001 | 0.002 | |
| extractXIC_group | 0.783 | 0.021 | 0.805 | |
| extractXIC_group2 | 0.002 | 0.001 | 0.002 | |
| fetchAnalytesInfo | 0.009 | 0.002 | 0.011 | |
| fetchFeaturesFromRun | 0.007 | 0.001 | 0.009 | |
| fetchPeptidesInfo | 0.008 | 0.001 | 0.008 | |
| fetchPeptidesInfo2 | 0.007 | 0.001 | 0.008 | |
| fetchPrecursorsInfo | 0.001 | 0.001 | 0.002 | |
| fetchTransitionsFromRun | 0.008 | 0.002 | 0.009 | |
| filenamesFromMZML | 0.001 | 0.000 | 0.002 | |
| filenamesFromOSW | 0.001 | 0.000 | 0.001 | |
| getAlignObj | 0.025 | 0.003 | 0.028 | |
| getAlignObjs | 1.362 | 0.031 | 1.394 | |
| getAlignedFigs | 0.121 | 0.011 | 0.132 | |
| getAlignedIndices | 0.012 | 0.002 | 0.013 | |
| getAlignedTimes | 0.032 | 0.005 | 0.037 | |
| getAlignedTimesCpp | 0.007 | 0.002 | 0.009 | |
| getAlignedTimesFast | 0.015 | 0.004 | 0.020 | |
| getBaseGapPenaltyCpp | 0.000 | 0.000 | 0.001 | |
| getChildFeature | 0.046 | 0.006 | 0.052 | |
| getChildXICpp | 0.007 | 0.002 | 0.010 | |
| getChildXICs | 0.561 | 0.035 | 0.595 | |
| getChromSimMatCpp | 0.002 | 0.002 | 0.004 | |
| getChromatogramIndices | 0.114 | 0.005 | 0.119 | |
| getFeatures | 0.043 | 0.005 | 0.048 | |
| getGlobalAlignMaskCpp | 0.000 | 0.001 | 0.002 | |
| getGlobalAlignment | 0.008 | 0.001 | 0.010 | |
| getGlobalFits | 0.384 | 0.011 | 0.395 | |
| getLOESSfit | 0.005 | 0.001 | 0.006 | |
| getLinearfit | 0.004 | 0.000 | 0.005 | |
| getMST | 0.001 | 0.000 | 0.001 | |
| getMZMLpointers | 0.017 | 0.003 | 0.020 | |
| getMappedRT | 0.013 | 0.002 | 0.015 | |
| getMultipeptide | 1.435 | 0.029 | 1.463 | |
| getNativeIDs | 0.022 | 0.002 | 0.024 | |
| getNodeIDs | 0.000 | 0.001 | 0.001 | |
| getNodeRun | 0.356 | 0.030 | 0.386 | |
| getOswAnalytes | 0.009 | 0.002 | 0.010 | |
| getOswFiles | 0.008 | 0.002 | 0.009 | |
| getPeptideScores | 0.037 | 0.003 | 0.042 | |
| getPrecursorByID | 0.017 | 0.002 | 0.019 | |
| getPrecursorIndices | 0.050 | 0.004 | 0.054 | |
| getPrecursors | 0.028 | 0.002 | 0.030 | |
| getRSE | 0.004 | 0.001 | 0.005 | |
| getRTdf | 0.007 | 0.000 | 0.009 | |
| getRefExpFeatureMap | 0.255 | 0.015 | 0.270 | |
| getRefRun | 0.246 | 0.011 | 0.255 | |
| getRunNames | 0.010 | 0.002 | 0.012 | |
| getSeqSimMatCpp | 0.000 | 0.000 | 0.001 | |
| getTransitions | 0.175 | 0.008 | 0.183 | |
| getTree | 0.029 | 0.005 | 0.034 | |
| getXICs | 0.088 | 0.008 | 0.097 | |
| getXICs4AlignObj | 0.057 | 0.004 | 0.062 | |
| get_ropenms | 0 | 0 | 0 | |
| imputeChromatogram | 0.012 | 0.001 | 0.012 | |
| ipfReassignFDR | 0 | 0 | 0 | |
| mapIdxToTime | 0 | 0 | 0 | |
| mappedRTfromAlignObj | 0.003 | 0.001 | 0.004 | |
| mergeXIC | 0.003 | 0.001 | 0.004 | |
| mstAlignRuns | 1.489 | 0.053 | 1.543 | |
| mstScript1 | 0.550 | 0.266 | 0.633 | |
| mstScript2 | 2.029 | 0.593 | 2.405 | |
| nrDesc | 0.001 | 0.000 | 0.000 | |
| otherChildXICpp | 0.008 | 0.004 | 0.012 | |
| paramsDIAlignR | 0 | 0 | 0 | |
| perBatch | 0.002 | 0.001 | 0.001 | |
| pickNearestFeature | 0.004 | 0.001 | 0.005 | |
| plotAlignedAnalytes | 0.671 | 0.020 | 0.692 | |
| plotAlignmentPath | 0.396 | 0.040 | 0.437 | |
| plotAnalyteXICs | 0.539 | 0.020 | 0.560 | |
| plotXICgroup | 0.457 | 0.014 | 0.472 | |
| populateReferenceExperimentFeatureAlignmentMap | 0.016 | 0.004 | 0.024 | |
| progAlignRuns | 0.001 | 0.001 | 0.002 | |
| readMzMLHeader | 0.001 | 0.001 | 0.003 | |
| readSqMassHeader | 0.001 | 0.001 | 0.003 | |
| recalculateIntensity | 0.230 | 0.009 | 0.238 | |
| reduceXICs | 0.073 | 0.006 | 0.080 | |
| script1 | 0.862 | 0.992 | 1.206 | |
| script2 | 2.691 | 1.246 | 3.313 | |
| setAlignmentRank | 0.016 | 0.002 | 0.018 | |
| sgolayCpp | 0.003 | 0.001 | 0.004 | |
| sgolayFill | 0.000 | 0.000 | 0.001 | |
| smoothSingleXIC | 0.002 | 0.002 | 0.004 | |
| smoothXICs | 0.006 | 0.002 | 0.007 | |
| splineFill | 0.001 | 0.000 | 0.000 | |
| splineFillCpp | 0.004 | 0.000 | 0.004 | |
| traverseDown | 1.630 | 0.060 | 1.699 | |
| traverseMST | 0 | 0 | 0 | |
| traverseUp | 1.207 | 0.026 | 1.242 | |
| trfrParentFeature | 0.052 | 0.007 | 0.059 | |
| trimXICs | 0.002 | 0.001 | 0.004 | |
| uncompressVec | 0.006 | 0.001 | 0.007 | |
| updateFileInfo | 0.009 | 0.002 | 0.010 | |
| writeOutFeatureAlignmentMap | 0.005 | 0.001 | 0.007 | |
| writeTables | 0.004 | 0.001 | 0.005 | |