| Back to Mac ARM64 build report for BioC 3.18 |
|
This page was generated on 2024-04-18 11:32:08 -0400 (Thu, 18 Apr 2024).
| Hostname | OS | Arch (*) | R version | Installed pkgs |
|---|---|---|---|---|
| kjohnson1 | macOS 13.6.1 Ventura | arm64 | 4.3.3 (2024-02-29) -- "Angel Food Cake" | 4388 |
| Click on any hostname to see more info about the system (e.g. compilers) (*) as reported by 'uname -p', except on Windows and Mac OS X | ||||
| Package 433/2266 | Hostname | OS / Arch | INSTALL | BUILD | CHECK | BUILD BIN | ||||||||
| CopyNumberPlots 1.18.0 (landing page) Bernat Gel
| kjohnson1 | macOS 13.6.1 Ventura / arm64 | OK | OK | OK | OK | ||||||||
|
To the developers/maintainers of the CopyNumberPlots package: - Use the following Renviron settings to reproduce errors and warnings. - If 'R CMD check' started to fail recently on the Linux builder(s) over a missing dependency, add the missing dependency to 'Suggests:' in your DESCRIPTION file. See Renviron.bioc for more information. |
| Package: CopyNumberPlots |
| Version: 1.18.0 |
| Command: /Library/Frameworks/R.framework/Resources/bin/R CMD check --install=check:CopyNumberPlots.install-out.txt --library=/Library/Frameworks/R.framework/Resources/library --no-vignettes --timings CopyNumberPlots_1.18.0.tar.gz |
| StartedAt: 2024-04-17 10:09:28 -0400 (Wed, 17 Apr 2024) |
| EndedAt: 2024-04-17 10:16:23 -0400 (Wed, 17 Apr 2024) |
| EllapsedTime: 414.9 seconds |
| RetCode: 0 |
| Status: OK |
| CheckDir: CopyNumberPlots.Rcheck |
| Warnings: 0 |
##############################################################################
##############################################################################
###
### Running command:
###
### /Library/Frameworks/R.framework/Resources/bin/R CMD check --install=check:CopyNumberPlots.install-out.txt --library=/Library/Frameworks/R.framework/Resources/library --no-vignettes --timings CopyNumberPlots_1.18.0.tar.gz
###
##############################################################################
##############################################################################
* using log directory ‘/Users/biocbuild/bbs-3.18-bioc-mac-arm64/meat/CopyNumberPlots.Rcheck’
* using R version 4.3.3 (2024-02-29)
* using platform: aarch64-apple-darwin20 (64-bit)
* R was compiled by
Apple clang version 14.0.0 (clang-1400.0.29.202)
GNU Fortran (GCC) 12.2.0
* running under: macOS Ventura 13.6.1
* using session charset: UTF-8
* using option ‘--no-vignettes’
* checking for file ‘CopyNumberPlots/DESCRIPTION’ ... OK
* checking extension type ... Package
* this is package ‘CopyNumberPlots’ version ‘1.18.0’
* package encoding: UTF-8
* checking package namespace information ... OK
* checking package dependencies ... OK
* checking if this is a source package ... OK
* checking if there is a namespace ... OK
* checking for hidden files and directories ... OK
* checking for portable file names ... OK
* checking for sufficient/correct file permissions ... OK
* checking whether package ‘CopyNumberPlots’ can be installed ... OK
* checking installed package size ... OK
* checking package directory ... OK
* checking ‘build’ directory ... OK
* checking DESCRIPTION meta-information ... OK
* checking top-level files ... OK
* checking for left-over files ... OK
* checking index information ... OK
* checking package subdirectories ... OK
* checking R files for non-ASCII characters ... OK
* checking R files for syntax errors ... OK
* checking whether the package can be loaded ... OK
* checking whether the package can be loaded with stated dependencies ... OK
* checking whether the package can be unloaded cleanly ... OK
* checking whether the namespace can be loaded with stated dependencies ... OK
* checking whether the namespace can be unloaded cleanly ... OK
* checking dependencies in R code ... OK
* checking S3 generic/method consistency ... OK
* checking replacement functions ... OK
* checking foreign function calls ... OK
* checking R code for possible problems ... OK
* checking Rd files ... OK
* checking Rd metadata ... OK
* checking Rd cross-references ... OK
* checking for missing documentation entries ... OK
* checking for code/documentation mismatches ... OK
* checking Rd \usage sections ... OK
* checking Rd contents ... OK
* checking for unstated dependencies in examples ... OK
* checking files in ‘vignettes’ ... OK
* checking examples ... OK
* checking for unstated dependencies in ‘tests’ ... OK
* checking tests ...
Running ‘testthat.R’
OK
* checking for unstated dependencies in vignettes ... OK
* checking package vignettes in ‘inst/doc’ ... OK
* checking running R code from vignettes ... SKIPPED
* checking re-building of vignette outputs ... SKIPPED
* checking PDF version of manual ... OK
* DONE
Status: OK
CopyNumberPlots.Rcheck/00install.out
############################################################################## ############################################################################## ### ### Running command: ### ### /Library/Frameworks/R.framework/Resources/bin/R CMD INSTALL CopyNumberPlots ### ############################################################################## ############################################################################## * installing to library ‘/Library/Frameworks/R.framework/Versions/4.3-arm64/Resources/library’ * installing *source* package ‘CopyNumberPlots’ ... ** using staged installation ** R ** inst ** byte-compile and prepare package for lazy loading ** help *** installing help indices ** building package indices ** installing vignettes ** testing if installed package can be loaded from temporary location ** testing if installed package can be loaded from final location ** testing if installed package keeps a record of temporary installation path * DONE (CopyNumberPlots)
CopyNumberPlots.Rcheck/tests/testthat.Rout
R version 4.3.3 (2024-02-29) -- "Angel Food Cake"
Copyright (C) 2024 The R Foundation for Statistical Computing
Platform: aarch64-apple-darwin20 (64-bit)
R is free software and comes with ABSOLUTELY NO WARRANTY.
You are welcome to redistribute it under certain conditions.
Type 'license()' or 'licence()' for distribution details.
R is a collaborative project with many contributors.
Type 'contributors()' for more information and
'citation()' on how to cite R or R packages in publications.
Type 'demo()' for some demos, 'help()' for on-line help, or
'help.start()' for an HTML browser interface to help.
Type 'q()' to quit R.
> library(testthat)
> library(CopyNumberPlots)
Loading required package: karyoploteR
Loading required package: regioneR
Loading required package: GenomicRanges
Loading required package: stats4
Loading required package: BiocGenerics
Attaching package: 'BiocGenerics'
The following objects are masked from 'package:stats':
IQR, mad, sd, var, xtabs
The following objects are masked from 'package:base':
Filter, Find, Map, Position, Reduce, anyDuplicated, aperm, append,
as.data.frame, basename, cbind, colnames, dirname, do.call,
duplicated, eval, evalq, get, grep, grepl, intersect, is.unsorted,
lapply, mapply, match, mget, order, paste, pmax, pmax.int, pmin,
pmin.int, rank, rbind, rownames, sapply, setdiff, sort, table,
tapply, union, unique, unsplit, which.max, which.min
Loading required package: S4Vectors
Attaching package: 'S4Vectors'
The following object is masked from 'package:utils':
findMatches
The following objects are masked from 'package:base':
I, expand.grid, unname
Loading required package: IRanges
Loading required package: GenomeInfoDb
>
> test_check("CopyNumberPlots")
[ FAIL 0 | WARN 0 | SKIP 0 | PASS 26 ]
>
> proc.time()
user system elapsed
19.181 0.773 20.122
CopyNumberPlots.Rcheck/CopyNumberPlots-Ex.timings
| name | user | system | elapsed | |
| EnsemblStyle | 0.487 | 0.019 | 0.514 | |
| UCSCStyle | 0.287 | 0.016 | 0.306 | |
| Ztree2Hclust | 0.006 | 0.000 | 0.007 | |
| colByCopyNumber | 1.082 | 0.029 | 1.122 | |
| computeHclustPlotOrder | 0.040 | 0.003 | 0.043 | |
| getBAFColumn | 0.003 | 0.000 | 0.002 | |
| getChrColumn | 0.002 | 0.000 | 0.002 | |
| getColumn | 0.002 | 0.001 | 0.002 | |
| getCopyNumberColors | 0.000 | 0.000 | 0.001 | |
| getCopyNumberColumn | 0.001 | 0.000 | 0.002 | |
| getEndColumn | 0.001 | 0.000 | 0.002 | |
| getIDColumn | 0.002 | 0.000 | 0.002 | |
| getLOHColumn | 0.001 | 0.000 | 0.002 | |
| getLRRColumn | 0.002 | 0.001 | 0.002 | |
| getPosColumn | 0.001 | 0.000 | 0.001 | |
| getSegmentValueColumn | 0.001 | 0.000 | 0.002 | |
| getStartColumn | 0.002 | 0.001 | 0.001 | |
| loadCopyNumberCalls | 0.021 | 0.001 | 0.023 | |
| loadCopyNumberCallsCNVkit | 0.052 | 0.003 | 0.056 | |
| loadCopyNumberCallsCnmops | 0.149 | 0.002 | 0.154 | |
| loadCopyNumberCallsDECoN | 0.063 | 0.002 | 0.065 | |
| loadCopyNumberCallsDNAcopy | 1.462 | 0.015 | 1.490 | |
| loadCopyNumberCallsPanelcnmops | 1.703 | 0.016 | 1.741 | |
| loadCopyNumberCallsSeg | 0.020 | 0.002 | 0.022 | |
| loadCopyNumberCallspennCNV | 0.035 | 0.002 | 0.037 | |
| loadSNPData | 0.042 | 0.003 | 0.045 | |
| loadSNPDataDNAcopy | 1.227 | 0.011 | 1.247 | |
| loadSNPDataFromVCF | 0.001 | 0.001 | 0.002 | |
| plotBAF | 1.041 | 0.055 | 1.110 | |
| plotCopyNumberCalls | 0.208 | 0.019 | 0.229 | |
| plotCopyNumberCallsAsLines | 0.165 | 0.020 | 0.185 | |
| plotCopyNumberSummary | 0.213 | 0.013 | 0.228 | |
| plotLRR | 0.392 | 0.007 | 0.404 | |
| plotSingleCellCopyNumberCalls | 0.067 | 0.003 | 0.070 | |
| plotSingleCellCopyNumberSummary | 0.034 | 0.002 | 0.036 | |
| prepareLabels | 0.069 | 0.000 | 0.069 | |
| readHDF5Ztree | 0.000 | 0.000 | 0.001 | |
| removeNAs | 0.153 | 0.003 | 0.156 | |
| transformChr | 0.005 | 0.001 | 0.005 | |