| Back to Mac ARM64 build report for BioC 3.18 |
|
This page was generated on 2024-04-18 11:32:07 -0400 (Thu, 18 Apr 2024).
| Hostname | OS | Arch (*) | R version | Installed pkgs |
|---|---|---|---|---|
| kjohnson1 | macOS 13.6.1 Ventura | arm64 | 4.3.3 (2024-02-29) -- "Angel Food Cake" | 4388 |
| Click on any hostname to see more info about the system (e.g. compilers) (*) as reported by 'uname -p', except on Windows and Mac OS X | ||||
| Package 306/2266 | Hostname | OS / Arch | INSTALL | BUILD | CHECK | BUILD BIN | ||||||||
| CEMiTool 1.26.1 (landing page) Helder Nakaya
| kjohnson1 | macOS 13.6.1 Ventura / arm64 | OK | OK | OK | OK | ||||||||
|
To the developers/maintainers of the CEMiTool package: - Use the following Renviron settings to reproduce errors and warnings. - If 'R CMD check' started to fail recently on the Linux builder(s) over a missing dependency, add the missing dependency to 'Suggests:' in your DESCRIPTION file. See Renviron.bioc for more information. |
| Package: CEMiTool |
| Version: 1.26.1 |
| Command: /Library/Frameworks/R.framework/Resources/bin/R CMD check --install=check:CEMiTool.install-out.txt --library=/Library/Frameworks/R.framework/Resources/library --no-vignettes --timings CEMiTool_1.26.1.tar.gz |
| StartedAt: 2024-04-17 08:29:08 -0400 (Wed, 17 Apr 2024) |
| EndedAt: 2024-04-17 08:34:25 -0400 (Wed, 17 Apr 2024) |
| EllapsedTime: 316.4 seconds |
| RetCode: 0 |
| Status: OK |
| CheckDir: CEMiTool.Rcheck |
| Warnings: 0 |
##############################################################################
##############################################################################
###
### Running command:
###
### /Library/Frameworks/R.framework/Resources/bin/R CMD check --install=check:CEMiTool.install-out.txt --library=/Library/Frameworks/R.framework/Resources/library --no-vignettes --timings CEMiTool_1.26.1.tar.gz
###
##############################################################################
##############################################################################
* using log directory ‘/Users/biocbuild/bbs-3.18-bioc-mac-arm64/meat/CEMiTool.Rcheck’
* using R version 4.3.3 (2024-02-29)
* using platform: aarch64-apple-darwin20 (64-bit)
* R was compiled by
Apple clang version 14.0.0 (clang-1400.0.29.202)
GNU Fortran (GCC) 12.2.0
* running under: macOS Ventura 13.6.1
* using session charset: UTF-8
* using option ‘--no-vignettes’
* checking for file ‘CEMiTool/DESCRIPTION’ ... OK
* this is package ‘CEMiTool’ version ‘1.26.1’
* package encoding: UTF-8
* checking package namespace information ... OK
* checking package dependencies ... OK
* checking if this is a source package ... OK
* checking if there is a namespace ... OK
* checking for hidden files and directories ... OK
* checking for portable file names ... OK
* checking for sufficient/correct file permissions ... OK
* checking whether package ‘CEMiTool’ can be installed ... OK
* checking installed package size ... NOTE
installed size is 6.5Mb
sub-directories of 1Mb or more:
data 3.1Mb
extdata 2.8Mb
* checking package directory ... OK
* checking ‘build’ directory ... OK
* checking DESCRIPTION meta-information ... OK
* checking top-level files ... OK
* checking for left-over files ... OK
* checking index information ... OK
* checking package subdirectories ... OK
* checking R files for non-ASCII characters ... OK
* checking R files for syntax errors ... OK
* checking whether the package can be loaded ... OK
* checking whether the package can be loaded with stated dependencies ... OK
* checking whether the package can be unloaded cleanly ... OK
* checking whether the namespace can be loaded with stated dependencies ... OK
* checking whether the namespace can be unloaded cleanly ... OK
* checking dependencies in R code ... OK
* checking S3 generic/method consistency ... OK
* checking replacement functions ... OK
* checking foreign function calls ... OK
* checking R code for possible problems ... NOTE
flip_vector: no visible global function definition for ‘setNames’
select_genes: no visible global function definition for ‘var’
get_hubs,CEMiTool : <anonymous>: no visible global function definition
for ‘head’
get_merged_mods,CEMiTool: no visible global function definition for
‘as.dist’
get_mods,CEMiTool: no visible global function definition for ‘as.dist’
get_phi,CEMiTool: no visible global function definition for ‘tail’
get_phi,CEMiTool: no visible global function definition for ‘head’
mod_gene_num,CEMiTool: no visible binding for global variable ‘modules’
mod_gene_num,CEMiTool: no visible binding for global variable
‘num_genes’
mod_summary,CEMiTool: no visible global function definition for ‘:=’
plot_gsea,CEMiTool: no visible global function definition for ‘dist’
plot_mean_var,CEMiTool: no visible binding for global variable ‘var’
plot_mean_var,CEMiTool: no visible binding for global variable ‘Mean’
plot_mean_var,CEMiTool: no visible binding for global variable
‘Variance’
plot_mean_var,CEMiTool: no visible binding for global variable
‘..eq.label..’
plot_mean_var,CEMiTool: no visible binding for global variable
‘..rr.label..’
plot_ora,CEMiTool : <anonymous>: no visible global function definition
for ‘head’
plot_qq,CEMiTool: no visible binding for global variable ‘data’
plot_sample_tree,CEMiTool: no visible global function definition for
‘dist’
plot_sample_tree,CEMiTool: no visible global function definition for
‘dev.off’
save_plots,CEMiTool : <anonymous>: no visible global function
definition for ‘dev.off’
save_plots,CEMiTool: no visible global function definition for
‘dev.off’
Undefined global functions or variables:
..eq.label.. ..rr.label.. := Mean Variance as.dist data dev.off dist
head modules num_genes setNames tail var
Consider adding
importFrom("grDevices", "dev.off")
importFrom("stats", "as.dist", "dist", "setNames", "var")
importFrom("utils", "data", "head", "tail")
to your NAMESPACE file.
* checking Rd files ... OK
* checking Rd metadata ... OK
* checking Rd cross-references ... OK
* checking for missing documentation entries ... OK
* checking for code/documentation mismatches ... OK
* checking Rd \usage sections ... OK
* checking Rd contents ... OK
* checking for unstated dependencies in examples ... OK
* checking contents of ‘data’ directory ... OK
* checking data for non-ASCII characters ... OK
* checking LazyData ... OK
* checking data for ASCII and uncompressed saves ... OK
* checking files in ‘vignettes’ ... OK
* checking examples ... OK
Examples with CPU (user + system) or elapsed time > 5s
user system elapsed
cemitool 11.304 0.338 11.849
plot_interactions 9.669 0.214 9.983
gsea_data 5.414 0.046 5.512
* checking for unstated dependencies in ‘tests’ ... OK
* checking tests ...
Running ‘testthat.R’
OK
* checking for unstated dependencies in vignettes ... OK
* checking package vignettes in ‘inst/doc’ ... OK
* checking running R code from vignettes ... SKIPPED
* checking re-building of vignette outputs ... SKIPPED
* checking PDF version of manual ... OK
* DONE
Status: 2 NOTEs
See
‘/Users/biocbuild/bbs-3.18-bioc-mac-arm64/meat/CEMiTool.Rcheck/00check.log’
for details.
CEMiTool.Rcheck/00install.out
############################################################################## ############################################################################## ### ### Running command: ### ### /Library/Frameworks/R.framework/Resources/bin/R CMD INSTALL CEMiTool ### ############################################################################## ############################################################################## * installing to library ‘/Library/Frameworks/R.framework/Versions/4.3-arm64/Resources/library’ * installing *source* package ‘CEMiTool’ ... ** using staged installation ** R ** data *** moving datasets to lazyload DB ** exec ** inst ** byte-compile and prepare package for lazy loading ** help *** installing help indices ** building package indices ** installing vignettes ** testing if installed package can be loaded from temporary location ** testing if installed package can be loaded from final location ** testing if installed package keeps a record of temporary installation path * DONE (CEMiTool)
CEMiTool.Rcheck/tests/testthat.Rout
R version 4.3.3 (2024-02-29) -- "Angel Food Cake"
Copyright (C) 2024 The R Foundation for Statistical Computing
Platform: aarch64-apple-darwin20 (64-bit)
R is free software and comes with ABSOLUTELY NO WARRANTY.
You are welcome to redistribute it under certain conditions.
Type 'license()' or 'licence()' for distribution details.
R is a collaborative project with many contributors.
Type 'contributors()' for more information and
'citation()' on how to cite R or R packages in publications.
Type 'demo()' for some demos, 'help()' for on-line help, or
'help.start()' for an HTML browser interface to help.
Type 'q()' to quit R.
> library(testthat)
> library(CEMiTool)
> test_check('CEMiTool')
[ FAIL 0 | WARN 13 | SKIP 0 | PASS 105 ]
[ FAIL 0 | WARN 13 | SKIP 0 | PASS 105 ]
>
> proc.time()
user system elapsed
34.582 1.348 36.319
CEMiTool.Rcheck/CEMiTool-Ex.timings
| name | user | system | elapsed | |
| CEMiTool-class | 0.052 | 0.005 | 0.058 | |
| adj_data | 1.030 | 0.021 | 1.063 | |
| cem | 0.033 | 0.004 | 0.037 | |
| cemitool | 11.304 | 0.338 | 11.849 | |
| expr0 | 0.001 | 0.002 | 0.003 | |
| expr_data | 0.120 | 0.012 | 0.134 | |
| filter_expr | 0.183 | 0.018 | 0.207 | |
| find_modules | 2.154 | 0.064 | 2.241 | |
| fit_data | 2.160 | 0.064 | 2.246 | |
| generate_report | 0 | 0 | 0 | |
| get_adj | 0.119 | 0.011 | 0.130 | |
| get_beta_data | 0.963 | 0.027 | 0.999 | |
| get_cemitool_r2_beta | 2.126 | 0.052 | 2.197 | |
| get_connectivity | 2.145 | 0.060 | 2.223 | |
| get_hubs | 0.033 | 0.006 | 0.039 | |
| get_merged_mods | 1.149 | 0.037 | 1.198 | |
| get_mods | 1.023 | 0.027 | 1.061 | |
| get_phi | 2.167 | 0.051 | 2.236 | |
| gsea_data | 5.414 | 0.046 | 5.512 | |
| interactions_data | 0.308 | 0.036 | 0.349 | |
| mod_colors | 0.030 | 0.005 | 0.036 | |
| mod_gene_num | 0.102 | 0.006 | 0.111 | |
| mod_gsea | 2.409 | 0.023 | 2.454 | |
| mod_names | 0.055 | 0.012 | 0.068 | |
| mod_ora | 2.464 | 0.184 | 2.685 | |
| mod_summary | 0.140 | 0.008 | 0.150 | |
| module_genes | 0.062 | 0.012 | 0.074 | |
| new_cem | 0.026 | 0.004 | 0.031 | |
| nmodules | 0.033 | 0.005 | 0.037 | |
| ora_data | 2.530 | 0.191 | 2.746 | |
| plot_beta_r2 | 0.158 | 0.007 | 0.165 | |
| plot_gsea | 2.597 | 0.029 | 2.653 | |
| plot_hist | 0.324 | 0.010 | 0.335 | |
| plot_interactions | 9.669 | 0.214 | 9.983 | |
| plot_mean_k | 0.203 | 0.009 | 0.215 | |
| plot_mean_var | 0.388 | 0.023 | 0.416 | |
| plot_ora | 3.362 | 0.247 | 3.651 | |
| plot_profile | 1.517 | 0.037 | 1.569 | |
| plot_qq | 0.462 | 0.036 | 0.503 | |
| plot_sample_tree | 0.878 | 0.020 | 0.908 | |
| read_gmt | 0.671 | 0.033 | 0.713 | |
| sample_annot | 0.002 | 0.003 | 0.006 | |
| sample_annotation | 0.024 | 0.005 | 0.030 | |
| save_plots | 0.045 | 0.006 | 0.053 | |
| select_genes | 0.187 | 0.017 | 0.208 | |
| show_plot | 0.154 | 0.007 | 0.164 | |
| write_files | 0.469 | 0.036 | 0.507 | |