Back to Mac ARM64 build report for BioC 3.18 |
|
This page was generated on 2024-04-18 11:31:56 -0400 (Thu, 18 Apr 2024).
Hostname | OS | Arch (*) | R version | Installed pkgs |
---|---|---|---|---|
kjohnson1 | macOS 13.6.1 Ventura | arm64 | 4.3.3 (2024-02-29) -- "Angel Food Cake" | 4388 |
Click on any hostname to see more info about the system (e.g. compilers) (*) as reported by 'uname -p', except on Windows and Mac OS X |
To the developers/maintainers of the BiocBaseUtils package: - Use the following Renviron settings to reproduce errors and warnings. - If 'R CMD check' started to fail recently on the Linux builder(s) over a missing dependency, add the missing dependency to 'Suggests:' in your DESCRIPTION file. See Renviron.bioc for more information. |
Package 172/2266 | Hostname | OS / Arch | INSTALL | BUILD | CHECK | BUILD BIN | ||||||||
BiocBaseUtils 1.4.0 (landing page) Marcel Ramos
| kjohnson1 | macOS 13.6.1 Ventura / arm64 | OK | OK | OK | OK | ![]() | |||||||
QUICK STATS | OS / Arch | INSTALL | BUILD | CHECK | BUILD BIN | |||||||||||||||||
kjohnson1 | macOS 13.6.1 Ventura / arm64 |
|
|
|
| |||||||||||||||||
Package 1/8 | Hostname | OS / Arch | INSTALL | BUILD | CHECK | BUILD BIN | ||||||||||||||||
BiocCheck 1.38.2 (landing page) Marcel Ramos
| kjohnson1 | macOS 13.6.1 Ventura / arm64 | OK | OK | OK | OK | ![]() | |||||||||||||||
Package 2/8 | Hostname | OS / Arch | INSTALL | BUILD | CHECK | BUILD BIN | ||||||||||||||||
BiocFHIR 1.4.0 (landing page) Vincent Carey
| kjohnson1 | macOS 13.6.1 Ventura / arm64 | OK | OK | OK | OK | ![]() | |||||||||||||||
Package 3/8 | Hostname | OS / Arch | INSTALL | BUILD | CHECK | BUILD BIN | ||||||||||||||||
DNAfusion 1.4.0 (landing page) Christoffer Trier Maansson
| kjohnson1 | macOS 13.6.1 Ventura / arm64 | OK | OK | OK | OK | ![]() | |||||||||||||||
Package 4/8 | Hostname | OS / Arch | INSTALL | BUILD | CHECK | BUILD BIN | ||||||||||||||||
MultiAssayExperiment 1.28.0 (landing page) Marcel Ramos
| kjohnson1 | macOS 13.6.1 Ventura / arm64 | OK | OK | OK | OK | ![]() | |||||||||||||||
Package 5/8 | Hostname | OS / Arch | INSTALL | BUILD | CHECK | BUILD BIN | ||||||||||||||||
RaggedExperiment 1.26.0 (landing page) Marcel Ramos
| kjohnson1 | macOS 13.6.1 Ventura / arm64 | OK | OK | OK | OK | ![]() | |||||||||||||||
Package 6/8 | Hostname | OS / Arch | INSTALL | BUILD | CHECK | BUILD BIN | ||||||||||||||||
TCGAutils 1.22.2 (landing page) Marcel Ramos
| kjohnson1 | macOS 13.6.1 Ventura / arm64 | OK | OK | OK | NA | ||||||||||||||||
Package 7/8 | Hostname | OS / Arch | INSTALL | BUILD | CHECK | BUILD BIN | ||||||||||||||||
TENxIO 1.4.0 (landing page) Marcel Ramos
| kjohnson1 | macOS 13.6.1 Ventura / arm64 | OK | OK | OK | NA | ||||||||||||||||
Package 8/8 | Hostname | OS / Arch | INSTALL | BUILD | CHECK | BUILD BIN | ||||||||||||||||
UniProt.ws 2.42.0 (landing page) Marcel Ramos
| kjohnson1 | macOS 13.6.1 Ventura / arm64 | OK | OK | OK | NA | ||||||||||||||||