| Back to Multiple platform build/check report for BioC 3.18: simplified long |
|
This page was generated on 2024-04-17 11:37:27 -0400 (Wed, 17 Apr 2024).
| Hostname | OS | Arch (*) | R version | Installed pkgs |
|---|---|---|---|---|
| nebbiolo2 | Linux (Ubuntu 22.04.3 LTS) | x86_64 | 4.3.3 (2024-02-29) -- "Angel Food Cake" | 4676 |
| palomino4 | Windows Server 2022 Datacenter | x64 | 4.3.3 (2024-02-29 ucrt) -- "Angel Food Cake" | 4414 |
| merida1 | macOS 12.7.1 Monterey | x86_64 | 4.3.3 (2024-02-29) -- "Angel Food Cake" | 4437 |
| Click on any hostname to see more info about the system (e.g. compilers) (*) as reported by 'uname -p', except on Windows and Mac OS X | ||||
| Package 2215/2266 | Hostname | OS / Arch | INSTALL | BUILD | CHECK | BUILD BIN | ||||||||
| variancePartition 1.32.5 (landing page) Gabriel E. Hoffman
| nebbiolo2 | Linux (Ubuntu 22.04.3 LTS) / x86_64 | OK | OK | OK | |||||||||
| palomino4 | Windows Server 2022 Datacenter / x64 | OK | OK | OK | OK | |||||||||
| merida1 | macOS 12.7.1 Monterey / x86_64 | OK | OK | OK | OK | |||||||||
| kjohnson1 | macOS 13.6.1 Ventura / arm64 | see weekly results here | ||||||||||||
|
To the developers/maintainers of the variancePartition package: - Allow up to 24 hours (and sometimes 48 hours) for your latest push to git@git.bioconductor.org:packages/variancePartition.git to reflect on this report. See Troubleshooting Build Report for more information. - Use the following Renviron settings to reproduce errors and warnings. - If 'R CMD check' started to fail recently on the Linux builder(s) over a missing dependency, add the missing dependency to 'Suggests:' in your DESCRIPTION file. See Renviron.bioc for more information. |
| Package: variancePartition |
| Version: 1.32.5 |
| Command: F:\biocbuild\bbs-3.18-bioc\R\bin\R.exe CMD check --no-multiarch --install=check:variancePartition.install-out.txt --library=F:\biocbuild\bbs-3.18-bioc\R\library --no-vignettes --timings variancePartition_1.32.5.tar.gz |
| StartedAt: 2024-04-16 06:06:34 -0400 (Tue, 16 Apr 2024) |
| EndedAt: 2024-04-16 06:15:36 -0400 (Tue, 16 Apr 2024) |
| EllapsedTime: 542.3 seconds |
| RetCode: 0 |
| Status: OK |
| CheckDir: variancePartition.Rcheck |
| Warnings: 0 |
##############################################################################
##############################################################################
###
### Running command:
###
### F:\biocbuild\bbs-3.18-bioc\R\bin\R.exe CMD check --no-multiarch --install=check:variancePartition.install-out.txt --library=F:\biocbuild\bbs-3.18-bioc\R\library --no-vignettes --timings variancePartition_1.32.5.tar.gz
###
##############################################################################
##############################################################################
* using log directory 'F:/biocbuild/bbs-3.18-bioc/meat/variancePartition.Rcheck'
* using R version 4.3.3 (2024-02-29 ucrt)
* using platform: x86_64-w64-mingw32 (64-bit)
* R was compiled by
gcc.exe (GCC) 12.3.0
GNU Fortran (GCC) 12.3.0
* running under: Windows Server 2022 x64 (build 20348)
* using session charset: UTF-8
* using option '--no-vignettes'
* checking for file 'variancePartition/DESCRIPTION' ... OK
* checking extension type ... Package
* this is package 'variancePartition' version '1.32.5'
* package encoding: UTF-8
* checking package namespace information ... OK
* checking package dependencies ... OK
* checking if this is a source package ... OK
* checking if there is a namespace ... OK
* checking for hidden files and directories ... OK
* checking for portable file names ... OK
* checking whether package 'variancePartition' can be installed ... OK
* checking installed package size ... OK
* checking package directory ... OK
* checking 'build' directory ... OK
* checking DESCRIPTION meta-information ... OK
* checking top-level files ... OK
* checking for left-over files ... OK
* checking index information ... OK
* checking package subdirectories ... OK
* checking R files for non-ASCII characters ... OK
* checking R files for syntax errors ... OK
* checking whether the package can be loaded ... OK
* checking whether the package can be loaded with stated dependencies ... OK
* checking whether the package can be unloaded cleanly ... OK
* checking whether the namespace can be loaded with stated dependencies ... OK
* checking whether the namespace can be unloaded cleanly ... OK
* checking dependencies in R code ... NOTE
Unexported object imported by a ':::' call: 'lmerTest:::as_lmerModLT'
See the note in ?`:::` about the use of this operator.
* checking S3 generic/method consistency ... OK
* checking replacement functions ... OK
* checking foreign function calls ... OK
* checking R code for possible problems ... OK
* checking Rd files ... OK
* checking Rd metadata ... OK
* checking Rd cross-references ... OK
* checking for missing documentation entries ... OK
* checking for code/documentation mismatches ... OK
* checking Rd \usage sections ... NOTE
S3 methods shown with full name in documentation object 'residuals.MArrayLM2':
'residuals.MArrayLM2'
The \usage entries for S3 methods should use the \method markup and not
their full name.
See chapter 'Writing R documentation files' in the 'Writing R
Extensions' manual.
* checking Rd contents ... OK
* checking for unstated dependencies in examples ... OK
* checking contents of 'data' directory ... OK
* checking data for non-ASCII characters ... OK
* checking data for ASCII and uncompressed saves ... OK
* checking files in 'vignettes' ... OK
* checking examples ... OK
Examples with CPU (user + system) or elapsed time > 5s
user system elapsed
fitVarPartModel-method 31.42 0.23 31.65
fitExtractVarPartModel-method 25.98 0.17 26.21
getTreat-method 22.36 0.22 22.58
plotCompareP-method 18.15 0.15 18.45
extractVarPart 17.32 0.21 17.51
varPartConfInf 12.87 0.12 13.01
sortCols-method 8.91 0.02 8.94
plotPercentBars-method 8.53 0.01 8.57
residuals-VarParFitList-method 8.44 0.08 8.55
plotVarPart-method 7.07 0.07 7.14
mvTest-method 6.33 0.25 15.33
dream-method 4.03 0.09 13.70
* checking for unstated dependencies in 'tests' ... OK
* checking tests ...
Running 'runTests.R'
OK
* checking for unstated dependencies in vignettes ... OK
* checking package vignettes in 'inst/doc' ... OK
* checking running R code from vignettes ... SKIPPED
* checking re-building of vignette outputs ... SKIPPED
* checking PDF version of manual ... OK
* DONE
Status: 2 NOTEs
See
'F:/biocbuild/bbs-3.18-bioc/meat/variancePartition.Rcheck/00check.log'
for details.
variancePartition.Rcheck/00install.out
############################################################################## ############################################################################## ### ### Running command: ### ### F:\biocbuild\bbs-3.18-bioc\R\bin\R.exe CMD INSTALL variancePartition ### ############################################################################## ############################################################################## * installing to library 'F:/biocbuild/bbs-3.18-bioc/R/library' * installing *source* package 'variancePartition' ... ** using staged installation ** R ** data ** inst ** byte-compile and prepare package for lazy loading in method for 'calcVarPart' with signature '"negbin"': no definition for class "negbin" in method for 'checkModelStatus' with signature '"negbin"': no definition for class "negbin" Creating a new generic function for 'classifyTestsF' in package 'variancePartition' Creating a new generic function for 'topTable' in package 'variancePartition' ** help Loading required namespace: variancePartition *** installing help indices *** copying figures ** building package indices ** installing vignettes ** testing if installed package can be loaded from temporary location ** testing if installed package can be loaded from final location ** testing if installed package keeps a record of temporary installation path * DONE (variancePartition)
variancePartition.Rcheck/tests/runTests.Rout
R version 4.3.3 (2024-02-29 ucrt) -- "Angel Food Cake"
Copyright (C) 2024 The R Foundation for Statistical Computing
Platform: x86_64-w64-mingw32/x64 (64-bit)
R is free software and comes with ABSOLUTELY NO WARRANTY.
You are welcome to redistribute it under certain conditions.
Type 'license()' or 'licence()' for distribution details.
R is a collaborative project with many contributors.
Type 'contributors()' for more information and
'citation()' on how to cite R or R packages in publications.
Type 'demo()' for some demos, 'help()' for on-line help, or
'help.start()' for an HTML browser interface to help.
Type 'q()' to quit R.
> BiocGenerics:::testPackage("variancePartition")
Attaching package: 'variancePartition'
The following object is masked from 'package:limma':
topTable
Loading required package: lme4
Loading required package: Matrix
Attaching package: 'lmerTest'
The following object is masked from 'package:lme4':
lmer
The following object is masked from 'package:stats':
step
boundary (singular) fit: see help('isSingular')
boundary (singular) fit: see help('isSingular')
Removing intercept from test coefficients
Removing intercept from test coefficients
boundary (singular) fit: see help('isSingular')
boundary (singular) fit: see help('isSingular')
boundary (singular) fit: see help('isSingular')
boundary (singular) fit: see help('isSingular')
boundary (singular) fit: see help('isSingular')
boundary (singular) fit: see help('isSingular')
boundary (singular) fit: see help('isSingular')
boundary (singular) fit: see help('isSingular')
boundary (singular) fit: see help('isSingular')
boundary (singular) fit: see help('isSingular')
boundary (singular) fit: see help('isSingular')
boundary (singular) fit: see help('isSingular')
boundary (singular) fit: see help('isSingular')
boundary (singular) fit: see help('isSingular')
boundary (singular) fit: see help('isSingular')
boundary (singular) fit: see help('isSingular')
boundary (singular) fit: see help('isSingular')
boundary (singular) fit: see help('isSingular')
Removing intercept from test coefficients
Removing intercept from test coefficients
Loading required package: Rcpp
Loading required package: RcppZiggurat
Loading required package: RcppParallel
Attaching package: 'RcppParallel'
The following object is masked from 'package:Rcpp':
LdFlags
Rfast: 2.1.0
___ __ __ __ __ __ __ __ __ __ _ _ __ __ __ __ __ __ __ __ __ __ __
| __ __ __ __ | | __ __ __ __ _/ / \ | __ __ __ __ / /__ __ _ _ __ __\
| | | | | | / _ \ | | / /
| | | | | | / / \ \ | | / /
| | | | | | / / \ \ | | / /
| |__ __ __ __| | | |__ __ __ __ / / \ \ | |__ __ __ __ _ / /__/\
| __ __ __ __| | __ __ __ __| / /__ _ __\ \ |_ __ __ __ _ | / ___ /
| \ | | / _ _ _ _ _ _ \ | | \/ / /
| |\ \ | | / / \ \ | | / /
| | \ \ | | / / \ \ | | / /
| | \ \ | | / / \ \ | | / /
| | \ \__ __ _ | | / / \ \ _ __ __ __ _| | / /
|_| \__ __ __\ |_| /_/ \_\ /_ __ __ __ ___| \/ team
Warning:
Variables contain NA's: Disease
Samples with missing data will be dropped.
RUNIT TEST PROTOCOL -- Tue Apr 16 06:15:25 2024
***********************************************
Number of test functions: 27
Number of errors: 0
Number of failures: 0
1 Test Suite :
variancePartition RUnit Tests - 27 test functions, 0 errors, 0 failures
Number of test functions: 27
Number of errors: 0
Number of failures: 0
There were 29 warnings (use warnings() to see them)
>
> proc.time()
user system elapsed
170.20 3.54 225.15
variancePartition.Rcheck/variancePartition-Ex.timings
| name | user | system | elapsed | |
| ESS-method | 0.15 | 0.02 | 0.17 | |
| as.data.frame.varPartResults | 0.28 | 0.02 | 0.30 | |
| as.matrix-varPartResults-method | 0.28 | 0.01 | 0.29 | |
| augmentPriorCount | 0.81 | 0.05 | 0.86 | |
| calcVarPart-method | 0.05 | 0.01 | 0.07 | |
| canCorPairs | 0.06 | 0.00 | 0.06 | |
| colinearityScore | 0.37 | 0.00 | 0.38 | |
| deviation-method | 1.22 | 0.08 | 1.30 | |
| diffVar-method | 1.36 | 0.03 | 1.39 | |
| dream-method | 4.03 | 0.09 | 13.70 | |
| extractVarPart | 17.32 | 0.21 | 17.51 | |
| fitExtractVarPartModel-method | 25.98 | 0.17 | 26.21 | |
| fitVarPartModel-method | 31.42 | 0.23 | 31.65 | |
| getContrast-method | 0.02 | 0.00 | 0.02 | |
| getTreat-method | 22.36 | 0.22 | 22.58 | |
| get_prediction-method | 0.04 | 0.03 | 0.09 | |
| ggColorHue | 0 | 0 | 0 | |
| makeContrastsDream | 1.30 | 0.02 | 1.31 | |
| mvTest-method | 6.33 | 0.25 | 15.33 | |
| plotCompareP-method | 18.15 | 0.15 | 18.45 | |
| plotContrasts | 0.22 | 0.00 | 0.22 | |
| plotCorrMatrix | 0.09 | 0.02 | 0.11 | |
| plotCorrStructure | 0.97 | 0.03 | 1.00 | |
| plotPercentBars-method | 8.53 | 0.01 | 8.57 | |
| plotStratify | 0.83 | 0.03 | 0.86 | |
| plotStratifyBy | 0.85 | 0.00 | 0.84 | |
| plotVarPart-method | 7.07 | 0.07 | 7.14 | |
| rdf | 0.02 | 0.01 | 0.05 | |
| rdf.merMod | 0.06 | 0.00 | 0.07 | |
| residuals-VarParFitList-method | 8.44 | 0.08 | 8.55 | |
| sortCols-method | 8.91 | 0.02 | 8.94 | |
| varPartConfInf | 12.87 | 0.12 | 13.01 | |
| vcovSqrt-method | 0.03 | 0.00 | 0.03 | |
| voomWithDreamWeights | 3.27 | 0.22 | 3.49 | |