| Back to Multiple platform build/check report for BioC 3.18: simplified long |
|
This page was generated on 2024-04-17 11:38:19 -0400 (Wed, 17 Apr 2024).
| Hostname | OS | Arch (*) | R version | Installed pkgs |
|---|---|---|---|---|
| nebbiolo2 | Linux (Ubuntu 22.04.3 LTS) | x86_64 | 4.3.3 (2024-02-29) -- "Angel Food Cake" | 4676 |
| palomino4 | Windows Server 2022 Datacenter | x64 | 4.3.3 (2024-02-29 ucrt) -- "Angel Food Cake" | 4414 |
| merida1 | macOS 12.7.1 Monterey | x86_64 | 4.3.3 (2024-02-29) -- "Angel Food Cake" | 4437 |
| Click on any hostname to see more info about the system (e.g. compilers) (*) as reported by 'uname -p', except on Windows and Mac OS X | ||||
| Package 2099/2266 | Hostname | OS / Arch | INSTALL | BUILD | CHECK | BUILD BIN | ||||||||
| systemPipeR 2.8.0 (landing page) Thomas Girke
| nebbiolo2 | Linux (Ubuntu 22.04.3 LTS) / x86_64 | OK | OK | OK | |||||||||
| palomino4 | Windows Server 2022 Datacenter / x64 | OK | OK | OK | OK | |||||||||
| merida1 | macOS 12.7.1 Monterey / x86_64 | OK | OK | OK | OK | |||||||||
| kjohnson1 | macOS 13.6.1 Ventura / arm64 | see weekly results here | ||||||||||||
|
To the developers/maintainers of the systemPipeR package: - Allow up to 24 hours (and sometimes 48 hours) for your latest push to git@git.bioconductor.org:packages/systemPipeR.git to reflect on this report. See Troubleshooting Build Report for more information. - Use the following Renviron settings to reproduce errors and warnings. - If 'R CMD check' started to fail recently on the Linux builder(s) over a missing dependency, add the missing dependency to 'Suggests:' in your DESCRIPTION file. See Renviron.bioc for more information. |
| Package: systemPipeR |
| Version: 2.8.0 |
| Command: /Library/Frameworks/R.framework/Resources/bin/R CMD check --install=check:systemPipeR.install-out.txt --library=/Library/Frameworks/R.framework/Resources/library --no-vignettes --timings systemPipeR_2.8.0.tar.gz |
| StartedAt: 2024-04-16 09:44:54 -0400 (Tue, 16 Apr 2024) |
| EndedAt: 2024-04-16 09:56:50 -0400 (Tue, 16 Apr 2024) |
| EllapsedTime: 716.3 seconds |
| RetCode: 0 |
| Status: OK |
| CheckDir: systemPipeR.Rcheck |
| Warnings: 0 |
##############################################################################
##############################################################################
###
### Running command:
###
### /Library/Frameworks/R.framework/Resources/bin/R CMD check --install=check:systemPipeR.install-out.txt --library=/Library/Frameworks/R.framework/Resources/library --no-vignettes --timings systemPipeR_2.8.0.tar.gz
###
##############################################################################
##############################################################################
* using log directory ‘/Users/biocbuild/bbs-3.18-bioc/meat/systemPipeR.Rcheck’
* using R version 4.3.3 (2024-02-29)
* using platform: x86_64-apple-darwin20 (64-bit)
* R was compiled by
Apple clang version 14.0.0 (clang-1400.0.29.202)
GNU Fortran (GCC) 12.2.0
* running under: macOS Monterey 12.7.1
* using session charset: UTF-8
* using option ‘--no-vignettes’
* checking for file ‘systemPipeR/DESCRIPTION’ ... OK
* checking extension type ... Package
* this is package ‘systemPipeR’ version ‘2.8.0’
* checking package namespace information ... OK
* checking package dependencies ... OK
* checking if this is a source package ... OK
* checking if there is a namespace ... OK
* checking for hidden files and directories ... NOTE
Found the following hidden files and directories:
inst/extdata/.batchtools.conf.R
inst/extdata/.batchtools.conf.R.sge
inst/extdata/.batchtools.conf.R.torque
These were most likely included in error. See section ‘Package
structure’ in the ‘Writing R Extensions’ manual.
* checking for portable file names ... OK
* checking for sufficient/correct file permissions ... OK
* checking whether package ‘systemPipeR’ can be installed ... OK
* checking installed package size ... NOTE
installed size is 6.7Mb
sub-directories of 1Mb or more:
R 1.6Mb
extdata 2.7Mb
htmlwidgets 2.0Mb
* checking package directory ... OK
* checking ‘build’ directory ... OK
* checking DESCRIPTION meta-information ... OK
* checking top-level files ... OK
* checking for left-over files ... OK
* checking index information ... OK
* checking package subdirectories ... NOTE
Problems with news in ‘NEWS’:
Cannot process chunk/lines:
OVERVIEW
* checking R files for non-ASCII characters ... OK
* checking R files for syntax errors ... OK
* checking whether the package can be loaded ... OK
* checking whether the package can be loaded with stated dependencies ... OK
* checking whether the package can be unloaded cleanly ... OK
* checking whether the namespace can be loaded with stated dependencies ... OK
* checking whether the namespace can be unloaded cleanly ... OK
* checking dependencies in R code ... OK
* checking S3 generic/method consistency ... OK
* checking replacement functions ... OK
* checking foreign function calls ... OK
* checking R code for possible problems ... NOTE
.cmd2cwl2: no visible global function definition for ‘ave’
.getPreprotext: no visible binding for global variable ‘.’
Undefined global functions or variables:
. ave
Consider adding
importFrom("stats", "ave")
to your NAMESPACE file.
* checking Rd files ... OK
* checking Rd metadata ... OK
* checking Rd cross-references ... OK
* checking for missing documentation entries ... OK
* checking for code/documentation mismatches ... OK
* checking Rd \usage sections ... OK
* checking Rd contents ... OK
* checking for unstated dependencies in examples ... OK
* checking line endings in Makefiles ... OK
* checking for GNU extensions in Makefiles ... OK
* checking include directives in Makefiles ... OK
* checking files in ‘vignettes’ ... OK
* checking examples ... OK
Examples with CPU (user + system) or elapsed time > 5s
user system elapsed
genFeatures 39.842 1.172 43.058
run_DESeq2 21.888 0.362 23.428
loadWorkflow 9.504 0.193 10.079
renderLogs 7.535 1.462 10.709
* checking for unstated dependencies in ‘tests’ ... OK
* checking tests ...
Running ‘testthat.R’
OK
* checking for unstated dependencies in vignettes ... OK
* checking package vignettes in ‘inst/doc’ ... OK
* checking running R code from vignettes ... SKIPPED
* checking re-building of vignette outputs ... SKIPPED
* checking PDF version of manual ... OK
* DONE
Status: 4 NOTEs
See
‘/Users/biocbuild/bbs-3.18-bioc/meat/systemPipeR.Rcheck/00check.log’
for details.
systemPipeR.Rcheck/00install.out
############################################################################## ############################################################################## ### ### Running command: ### ### /Library/Frameworks/R.framework/Resources/bin/R CMD INSTALL systemPipeR ### ############################################################################## ############################################################################## * installing to library ‘/Library/Frameworks/R.framework/Versions/4.3-x86_64/Resources/library’ * installing *source* package ‘systemPipeR’ ... ** using staged installation ** R ** inst ** byte-compile and prepare package for lazy loading ** help *** installing help indices ** building package indices ** installing vignettes ** testing if installed package can be loaded from temporary location ** testing if installed package can be loaded from final location ** testing if installed package keeps a record of temporary installation path * DONE (systemPipeR)
systemPipeR.Rcheck/tests/testthat.Rout
R version 4.3.3 (2024-02-29) -- "Angel Food Cake"
Copyright (C) 2024 The R Foundation for Statistical Computing
Platform: x86_64-apple-darwin20 (64-bit)
R is free software and comes with ABSOLUTELY NO WARRANTY.
You are welcome to redistribute it under certain conditions.
Type 'license()' or 'licence()' for distribution details.
R is a collaborative project with many contributors.
Type 'contributors()' for more information and
'citation()' on how to cite R or R packages in publications.
Type 'demo()' for some demos, 'help()' for on-line help, or
'help.start()' for an HTML browser interface to help.
Type 'q()' to quit R.
> library(testthat)
> library(systemPipeR)
Loading required package: Rsamtools
Loading required package: GenomeInfoDb
Loading required package: BiocGenerics
Attaching package: 'BiocGenerics'
The following objects are masked from 'package:stats':
IQR, mad, sd, var, xtabs
The following objects are masked from 'package:base':
Filter, Find, Map, Position, Reduce, anyDuplicated, aperm, append,
as.data.frame, basename, cbind, colnames, dirname, do.call,
duplicated, eval, evalq, get, grep, grepl, intersect, is.unsorted,
lapply, mapply, match, mget, order, paste, pmax, pmax.int, pmin,
pmin.int, rank, rbind, rownames, sapply, setdiff, sort, table,
tapply, union, unique, unsplit, which.max, which.min
Loading required package: S4Vectors
Loading required package: stats4
Attaching package: 'S4Vectors'
The following object is masked from 'package:utils':
findMatches
The following objects are masked from 'package:base':
I, expand.grid, unname
Loading required package: IRanges
Loading required package: GenomicRanges
Loading required package: Biostrings
Loading required package: XVector
Attaching package: 'Biostrings'
The following object is masked from 'package:base':
strsplit
Loading required package: ShortRead
Loading required package: BiocParallel
Loading required package: GenomicAlignments
Loading required package: SummarizedExperiment
Loading required package: MatrixGenerics
Loading required package: matrixStats
Attaching package: 'MatrixGenerics'
The following objects are masked from 'package:matrixStats':
colAlls, colAnyNAs, colAnys, colAvgsPerRowSet, colCollapse,
colCounts, colCummaxs, colCummins, colCumprods, colCumsums,
colDiffs, colIQRDiffs, colIQRs, colLogSumExps, colMadDiffs,
colMads, colMaxs, colMeans2, colMedians, colMins, colOrderStats,
colProds, colQuantiles, colRanges, colRanks, colSdDiffs, colSds,
colSums2, colTabulates, colVarDiffs, colVars, colWeightedMads,
colWeightedMeans, colWeightedMedians, colWeightedSds,
colWeightedVars, rowAlls, rowAnyNAs, rowAnys, rowAvgsPerColSet,
rowCollapse, rowCounts, rowCummaxs, rowCummins, rowCumprods,
rowCumsums, rowDiffs, rowIQRDiffs, rowIQRs, rowLogSumExps,
rowMadDiffs, rowMads, rowMaxs, rowMeans2, rowMedians, rowMins,
rowOrderStats, rowProds, rowQuantiles, rowRanges, rowRanks,
rowSdDiffs, rowSds, rowSums2, rowTabulates, rowVarDiffs, rowVars,
rowWeightedMads, rowWeightedMeans, rowWeightedMedians,
rowWeightedSds, rowWeightedVars
Loading required package: Biobase
Welcome to Bioconductor
Vignettes contain introductory material; view with
'browseVignettes()'. To cite Bioconductor, see
'citation("Biobase")', and for packages 'citation("pkgname")'.
Attaching package: 'Biobase'
The following object is masked from 'package:MatrixGenerics':
rowMedians
The following objects are masked from 'package:matrixStats':
anyMissing, rowMedians
>
> test_check("systemPipeR")
[1] "Generated /tmp/Rtmp8k4iN1/rnaseq directory. Next run in rnaseq directory, the R code from *.Rmd template interactively. Alternatively, workflows can be exectued with a single command as instructed in the vignette."
[1] "Generated /tmp/Rtmp8k4iN1/rnaseq2 directory. Next run in rnaseq directory, the R code from *.Rmd template interactively. Alternatively, workflows can be exectued with a single command as instructed in the vignette."
Creating directory '/private/tmp/Rtmp8k4iN1/rnaseq2/.SPRproject'
Creating file '/private/tmp/Rtmp8k4iN1/rnaseq2/.SPRproject/SYSargsList.yml'
Running Step: example
Running Session: Management
|
| | 0%
|
|======================= | 33%
|
|=============================================== | 67%
|
|======================================================================| 100%
---- Summary ----
Targets Total_Files Existing_Files Missing_Files example
M1 M1 1 1 0 Success
M2 M2 1 1 0 Success
M3 M3 1 1 0 Success
Step Status: Success
Done with workflow running, now consider rendering logs & reports
To render logs, run: sal <- renderLogs(sal)
From command-line: Rscript -e "sal = systemPipeR::SPRproject(resume = TRUE); sal = systemPipeR::renderLogs(sal)"
To render reports, run: sal <- renderReport(sal)
From command-line: Rscript -e "sal= s ystemPipeR::SPRproject(resume = TRUE); sal = systemPipeR::renderReport(sal)"
This message is displayed once per R session
Running Step: newStep
Running Session: Management
|
| | 0%
|
|======================= | 33%
|
|=============================================== | 67%
|
|======================================================================| 100%
---- Summary ----
Targets Total_Files Existing_Files Missing_Files example
M1 M1 1 1 0 Success
M2 M2 1 1 0 Success
M3 M3 1 1 0 Success
Step Status: Success
Running Step: R_code
Running Session: Management
|
| | 0%
|
|======================================================================| 100%
Step Status: Warning
[1] "Generated /tmp/Rtmp8k4iN1/newtest directory. Next run in new directory, the R code from *.Rmd template interactively. Alternatively, workflows can be exectued with a single command as instructed in the vignette."
Creating directory '/private/tmp/Rtmp8k4iN1/newtest/.SPRproject'
Creating file '/private/tmp/Rtmp8k4iN1/newtest/.SPRproject/SYSargsList.yml'
Reading Rmd file
Now importing step 'load_library'
Now importing step 'export_iris'
Now importing step 'gzip'
Now importing step 'gunzip'
Now importing step 'stats'
Now back up current Rmd file as template for `renderReport`
Template for renderReport is stored at
/private/tmp/Rtmp8k4iN1/newtest/.SPRproject/workflow_template.Rmd
Edit this file manually is not recommended
Now check if required tools are installed
Check if they are in path:
Checking path for gzip
PASS
Checking path for gunzip
PASS
step_name tool in_path
1 gzip gzip TRUE
2 gunzip gunzip TRUE
All required tools in PATH, skip module check. If you want to check modules use `listCmdModules`Import done
Instance of 'LineWise'
Code Chunk length: 1
mapply(function(x, y) write.csv(x, y), split(iris, factor(iris$Species)), file.path("results", paste0(names(split(iris, factor(iris$Species))), ".csv")))
load_library
5 + 5
load_library
5 + 5
66 + 55
Running Step: load_library
Running Session: Management
|
| | 0%
|
|======================================================================| 100%
Step Status: Success
Running Step: export_iris
Running Session: Management
|
| | 0%
|
|======================================================================| 100%
Step Status: Success
Skipping Step: gzip
Skipping Step: gunzip
Skipping Step: stats
[ FAIL 0 | WARN 0 | SKIP 10 | PASS 47 ]
══ Skipped tests (10) ══════════════════════════════════════════════════════════
• On Bioconductor (10): 'test-01-SYSargs.R:2:1', 'test-02-SYSargs2.R:9:5',
'test-02-SYSargs2.R:55:5', 'test-03-SYSargsList.R:63:5',
'test-05-catDB.R:3:1', 'test-06-VENNset.R:3:1', 'test-07-features.R:3:1',
'test-08-cmd2cwl.R:2:1', 'test-10-chipSeq.R:4:1', 'test-utilities.R:2:1'
[ FAIL 0 | WARN 0 | SKIP 10 | PASS 47 ]
>
> proc.time()
user system elapsed
25.329 8.724 36.151
systemPipeR.Rcheck/systemPipeR-Ex.timings
| name | user | system | elapsed | |
| EnvModules-class | 0.002 | 0.001 | 0.003 | |
| GOHyperGAll | 0.001 | 0.003 | 0.003 | |
| INTERSECTset-class | 0.016 | 0.020 | 0.039 | |
| LineWise-class | 0.518 | 0.045 | 0.588 | |
| ParamFiles | 0.218 | 0.005 | 0.232 | |
| ParamFiles2 | 0.329 | 0.009 | 0.352 | |
| SPRproject | 0.007 | 0.004 | 0.011 | |
| SYSargs-class | 0.040 | 0.018 | 0.059 | |
| SYSargs2-class | 0.128 | 0.013 | 0.154 | |
| SYSargsList-class | 0.970 | 0.119 | 1.253 | |
| SYSargsList | 0.218 | 0.040 | 0.264 | |
| VENNset-class | 0.013 | 0.014 | 0.029 | |
| alignStats | 3.902 | 0.124 | 4.202 | |
| catDB-class | 0.001 | 0.002 | 0.003 | |
| catmap | 0.000 | 0.000 | 0.001 | |
| check.output | 3.153 | 0.027 | 3.314 | |
| clusterRun | 3.014 | 0.026 | 3.182 | |
| config.param | 0.000 | 0.000 | 0.001 | |
| configWF | 0 | 0 | 0 | |
| countRangeset | 0.093 | 0.006 | 0.101 | |
| createParamFiles | 0.374 | 0.007 | 0.398 | |
| cwlFilesUpdate | 0.001 | 0.001 | 0.001 | |
| evalCode | 0.069 | 0.009 | 0.082 | |
| featureCoverage | 2.967 | 0.014 | 3.108 | |
| featuretypeCounts | 2.984 | 0.015 | 3.140 | |
| filterDEGs | 3.538 | 0.083 | 3.775 | |
| filterVars | 0.017 | 0.007 | 0.026 | |
| genFeatures | 39.842 | 1.172 | 43.058 | |
| importWF | 0.076 | 0.010 | 0.095 | |
| listCmdTools | 0 | 0 | 0 | |
| loadWorkflow | 9.504 | 0.193 | 10.079 | |
| mergeBamByFactor | 0.016 | 0.006 | 0.022 | |
| moduleload | 0.000 | 0.002 | 0.002 | |
| olBarplot | 0.956 | 0.089 | 1.049 | |
| olRanges | 0.226 | 0.007 | 0.232 | |
| output_update | 3.273 | 0.024 | 3.438 | |
| overLapper | 0.763 | 0.062 | 0.865 | |
| plotfeatureCoverage | 3.289 | 0.018 | 3.437 | |
| plotfeaturetypeCounts | 2.994 | 0.015 | 3.144 | |
| predORF | 0.400 | 0.008 | 0.425 | |
| preprocessReads | 1.327 | 0.014 | 1.401 | |
| readComp | 2.995 | 0.021 | 3.158 | |
| renderLogs | 7.535 | 1.462 | 10.709 | |
| renderReport | 3.430 | 0.797 | 4.408 | |
| returnRPKM | 0.000 | 0.001 | 0.001 | |
| runCommandline | 3.381 | 0.424 | 3.973 | |
| runDiff | 0.087 | 0.015 | 0.105 | |
| runWF | 0.219 | 0.037 | 0.264 | |
| run_DESeq2 | 21.888 | 0.362 | 23.428 | |
| run_edgeR | 2.701 | 0.064 | 2.894 | |
| sal2bash | 1.068 | 0.232 | 1.398 | |
| sal2rmd | 1.575 | 0.427 | 2.102 | |
| scaleRanges | 0.436 | 0.118 | 0.591 | |
| seeFastq | 0.000 | 0.000 | 0.001 | |
| showDF | 0.116 | 0.071 | 0.199 | |
| subsetWF | 3.402 | 0.458 | 4.021 | |
| symLink2bam | 3.402 | 0.144 | 3.697 | |
| sysargs | 0.019 | 0.009 | 0.029 | |
| systemArgs | 0.020 | 0.011 | 0.030 | |
| targets.as.df | 0.008 | 0.004 | 0.013 | |
| trimbatch | 0.642 | 0.008 | 0.670 | |
| tryCMD | 0.000 | 0.000 | 0.001 | |
| tryPath | 0.002 | 0.001 | 0.003 | |
| variantReport | 0.017 | 0.009 | 0.027 | |
| vennPlot | 0.791 | 0.078 | 0.944 | |
| writeTargets | 0.202 | 0.014 | 0.225 | |
| writeTargetsRef | 0.002 | 0.001 | 0.003 | |
| writeTargetsout | 3.307 | 0.020 | 3.392 | |
| write_SYSargsList | 0.235 | 0.012 | 0.249 | |