| Back to Multiple platform build/check report for BioC 3.18: simplified long |
|
This page was generated on 2023-11-02 11:41:21 -0400 (Thu, 02 Nov 2023).
| Hostname | OS | Arch (*) | R version | Installed pkgs |
|---|---|---|---|---|
| nebbiolo2 | Linux (Ubuntu 22.04.2 LTS) | x86_64 | 4.3.1 (2023-06-16) -- "Beagle Scouts" | 4729 |
| palomino4 | Windows Server 2022 Datacenter | x64 | 4.3.1 (2023-06-16 ucrt) -- "Beagle Scouts" | 4463 |
| lconway | macOS 12.6.5 Monterey | x86_64 | 4.3.1 Patched (2023-06-17 r84564) -- "Beagle Scouts" | 4478 |
| kunpeng2 | Linux (openEuler 22.03 LTS-SP1) | aarch64 | 4.3.1 (2023-06-16) -- "Beagle Scouts" | 4464 |
| Click on any hostname to see more info about the system (e.g. compilers) (*) as reported by 'uname -p', except on Windows and Mac OS X | ||||
| Package 2081/2266 | Hostname | OS / Arch | INSTALL | BUILD | CHECK | BUILD BIN | ||||||||
| survcomp 1.52.0 (landing page) Benjamin Haibe-Kains
| nebbiolo2 | Linux (Ubuntu 22.04.2 LTS) / x86_64 | OK | OK | OK | |||||||||
| palomino4 | Windows Server 2022 Datacenter / x64 | OK | OK | OK | OK | |||||||||
| lconway | macOS 12.6.5 Monterey / x86_64 | OK | OK | WARNINGS | OK | |||||||||
| kjohnson1 | macOS 13.6.1 Ventura / arm64 | see weekly results here | ||||||||||||
| kunpeng2 | Linux (openEuler 22.03 LTS-SP1) / aarch64 | OK | OK | OK | ||||||||||
|
To the developers/maintainers of the survcomp package: - Allow up to 24 hours (and sometimes 48 hours) for your latest push to git@git.bioconductor.org:packages/survcomp.git to reflect on this report. See Troubleshooting Build Report for more information. - Use the following Renviron settings to reproduce errors and warnings. - If 'R CMD check' started to fail recently on the Linux builder(s) over a missing dependency, add the missing dependency to 'Suggests:' in your DESCRIPTION file. See Renviron.bioc for more information. - See Martin Grigorov's blog post for how to debug Linux ARM64 related issues on a x86_64 host. |
| Package: survcomp |
| Version: 1.52.0 |
| Command: /home/biocbuild/R/R-4.3.1/bin/R CMD check --install=check:survcomp.install-out.txt --library=/home/biocbuild/R/R-4.3.1/site-library --no-vignettes --timings survcomp_1.52.0.tar.gz |
| StartedAt: 2023-11-02 14:43:52 -0000 (Thu, 02 Nov 2023) |
| EndedAt: 2023-11-02 14:45:01 -0000 (Thu, 02 Nov 2023) |
| EllapsedTime: 69.1 seconds |
| RetCode: 0 |
| Status: OK |
| CheckDir: survcomp.Rcheck |
| Warnings: 0 |
##############################################################################
##############################################################################
###
### Running command:
###
### /home/biocbuild/R/R-4.3.1/bin/R CMD check --install=check:survcomp.install-out.txt --library=/home/biocbuild/R/R-4.3.1/site-library --no-vignettes --timings survcomp_1.52.0.tar.gz
###
##############################################################################
##############################################################################
* using log directory ‘/home/biocbuild/bbs-3.18-bioc/meat/survcomp.Rcheck’
* using R version 4.3.1 (2023-06-16)
* using platform: aarch64-unknown-linux-gnu (64-bit)
* R was compiled by
gcc (GCC) 10.3.1
GNU Fortran (GCC) 10.3.1
* running under: openEuler 22.03 (LTS-SP1)
* using session charset: UTF-8
* using option ‘--no-vignettes’
* checking for file ‘survcomp/DESCRIPTION’ ... OK
* checking extension type ... Package
* this is package ‘survcomp’ version ‘1.52.0’
* checking package namespace information ... OK
* checking package dependencies ... OK
* checking if this is a source package ... OK
* checking if there is a namespace ... OK
* checking for hidden files and directories ... OK
* checking for portable file names ... OK
* checking for sufficient/correct file permissions ... OK
* checking whether package ‘survcomp’ can be installed ... OK
* used C compiler: ‘gcc (GCC) 10.3.1’
* used C++ compiler: ‘g++ (GCC) 10.3.1’
* checking installed package size ... OK
* checking package directory ... OK
* checking ‘build’ directory ... OK
* checking DESCRIPTION meta-information ... OK
* checking top-level files ... OK
* checking for left-over files ... OK
* checking index information ... OK
* checking package subdirectories ... OK
* checking R files for non-ASCII characters ... OK
* checking R files for syntax errors ... OK
* checking whether the package can be loaded ... OK
* checking whether the package can be loaded with stated dependencies ... OK
* checking whether the package can be unloaded cleanly ... OK
* checking whether the namespace can be loaded with stated dependencies ... OK
* checking whether the namespace can be unloaded cleanly ... OK
* checking loading without being on the library search path ... OK
* checking startup messages can be suppressed ... OK
* checking dependencies in R code ... OK
* checking S3 generic/method consistency ... OK
* checking replacement functions ... OK
* checking foreign function calls ... OK
* checking R code for possible problems ... OK
* checking Rd files ... OK
* checking Rd metadata ... OK
* checking Rd cross-references ... OK
* checking for missing documentation entries ... OK
* checking for code/documentation mismatches ... OK
* checking Rd \usage sections ... OK
* checking Rd contents ... OK
* checking for unstated dependencies in examples ... OK
* checking contents of ‘data’ directory ... OK
* checking data for non-ASCII characters ... OK
* checking data for ASCII and uncompressed saves ... OK
* checking line endings in C/C++/Fortran sources/headers ... OK
* checking compiled code ... NOTE
Note: information on .o files is not available
* checking files in ‘vignettes’ ... OK
* checking examples ... OK
* checking for unstated dependencies in vignettes ... OK
* checking package vignettes in ‘inst/doc’ ... OK
* checking running R code from vignettes ... SKIPPED
* checking re-building of vignette outputs ... SKIPPED
* checking PDF version of manual ... OK
* DONE
Status: 1 NOTE
See
‘/home/biocbuild/bbs-3.18-bioc/meat/survcomp.Rcheck/00check.log’
for details.
survcomp.Rcheck/00install.out
##############################################################################
##############################################################################
###
### Running command:
###
### /home/biocbuild/R/R-4.3.1/bin/R CMD INSTALL survcomp
###
##############################################################################
##############################################################################
* installing to library ‘/home/biocbuild/R/R-4.3.1/site-library’
* installing *source* package ‘survcomp’ ...
** using staged installation
** libs
using C compiler: ‘gcc (GCC) 10.3.1’
using C++ compiler: ‘g++ (GCC) 10.3.1’
gcc -I"/home/biocbuild/R/R-4.3.1/include" -DNDEBUG -I/usr/local/include -fPIC -g -O2 -Wall -c concordance.index.c -o concordance.index.o
g++ -std=gnu++17 -I"/home/biocbuild/R/R-4.3.1/include" -DNDEBUG -I/usr/local/include -fPIC -g -O2 -Wall -c foo_mrmr_ensemble_surv.cpp -o foo_mrmr_ensemble_surv.o
foo_mrmr_ensemble_surv.cpp: In function ‘double get_correlation_ensemble(double*, int*, int, int, int)’:
foo_mrmr_ensemble_surv.cpp:12:26: warning: comparison of integer expressions of different signedness: ‘unsigned int’ and ‘int’ [-Wsign-compare]
12 | for( unsigned int i=0; i< size; ++i ) {
| ~^~~~~~
foo_mrmr_ensemble_surv.cpp:22:26: warning: comparison of integer expressions of different signedness: ‘unsigned int’ and ‘int’ [-Wsign-compare]
22 | for( unsigned int i=0; i< size; ++i ) {
| ~^~~~~~
foo_mrmr_ensemble_surv.cpp: In function ‘double returnConcordanceIndexC(int*, int*, double*, int*, double*, int*, double*, int*, int*, int*, int, int*)’:
foo_mrmr_ensemble_surv.cpp:106:10: warning: variable ‘uhs’ set but not used [-Wunused-but-set-variable]
106 | double uhs[Ns];
| ^~~
foo_mrmr_ensemble_surv.cpp:107:10: warning: variable ‘rphs’ set but not used [-Wunused-but-set-variable]
107 | double rphs[Ns];
| ^~~~
foo_mrmr_ensemble_surv.cpp: In function ‘void build_mim_cIndex_subset(double*, double*, int*, int, int, int*, int, int*, int*, int*, double*, int*, double*, int*, int*, int*, int*)’:
foo_mrmr_ensemble_surv.cpp:202:25: warning: comparison of integer expressions of different signedness: ‘unsigned int’ and ‘int’ [-Wsign-compare]
202 | for(unsigned int i=0; i< size_subset; ++i){
| ~^~~~~~~~~~~~~
foo_mrmr_ensemble_surv.cpp:203:26: warning: comparison of integer expressions of different signedness: ‘unsigned int’ and ‘int’ [-Wsign-compare]
203 | for(unsigned int j=0; j< (nvar-1); ++j){
| ~^~~~~~~~~~
foo_mrmr_ensemble_surv.cpp:214:25: warning: comparison of integer expressions of different signedness: ‘unsigned int’ and ‘int’ [-Wsign-compare]
214 | for(unsigned int i=0; i< nvar-1; ++i){
| ~^~~~~~~~
foo_mrmr_ensemble_surv.cpp:216:28: warning: comparison of integer expressions of different signedness: ‘unsigned int’ and ‘int’ [-Wsign-compare]
216 | for(unsigned int j=i+1; j< nvar-1; ++j){
| ~^~~~~~~~
foo_mrmr_ensemble_surv.cpp:191:17: warning: unused variable ‘msurv_x’ [-Wunused-variable]
191 | int *namat_x, *msurv_x, *ustrat_x, *cl2_x, *se_x, *strat_x;
| ^~~~~~~
foo_mrmr_ensemble_surv.cpp:191:27: warning: unused variable ‘ustrat_x’ [-Wunused-variable]
191 | int *namat_x, *msurv_x, *ustrat_x, *cl2_x, *se_x, *strat_x;
| ^~~~~~~~
foo_mrmr_ensemble_surv.cpp: In function ‘void bootstrap_tree(tree<int>&, tree<double>&, double*, int*, int, int, int, int*, int*, int*, double*, int*, double*, int*, int*, int*, int, int*)’:
foo_mrmr_ensemble_surv.cpp:351:7: warning: unused variable ‘cnt_back’ [-Wunused-variable]
351 | int cnt_back=cnt2;
| ^~~~~~~~
foo_mrmr_ensemble_surv.cpp:286:7: warning: unused variable ‘nsub’ [-Wunused-variable]
286 | int nsub, *prev_sel,nsamples_boot=nsamples,*to_remove;
| ^~~~
foo_mrmr_ensemble_surv.cpp: In function ‘void bootstrap_mrmr(double&, double&, double*, int*, int, int, int, int, int, int, int, int*, int*, int*, int*, double*, int*, double*, int*, int*, int*, int, int*)’:
foo_mrmr_ensemble_surv.cpp:393:25: warning: comparison of integer expressions of different signedness: ‘unsigned int’ and ‘int’ [-Wsign-compare]
393 | for(unsigned int k=0; k< rep_boot; ++k){
| ~^~~~~~~~~~
foo_mrmr_ensemble_surv.cpp:396:25: warning: comparison of integer expressions of different signedness: ‘unsigned int’ and ‘int’ [-Wsign-compare]
396 | for(unsigned int i=1;i<= size_boot;++i){
| ~^~~~~~~~~~~~
foo_mrmr_ensemble_surv.cpp:400:27: warning: comparison of integer expressions of different signedness: ‘unsigned int’ and ‘int’ [-Wsign-compare]
400 | for( unsigned int i=0; i< size ; ++i ){
| ~^~~~~~
foo_mrmr_ensemble_surv.cpp:401:28: warning: comparison of integer expressions of different signedness: ‘unsigned int’ and ‘int’ [-Wsign-compare]
401 | for( unsigned int j=0; j< size ; ++j ){
| ~^~~~~~
foo_mrmr_ensemble_surv.cpp:412:24: warning: comparison of integer expressions of different signedness: ‘unsigned int’ and ‘int’ [-Wsign-compare]
412 | for(unsigned int i=0;i< rep_boot;++i){
| ~^~~~~~~~~~
foo_mrmr_ensemble_surv.cpp:419:24: warning: comparison of integer expressions of different signedness: ‘unsigned int’ and ‘int’ [-Wsign-compare]
419 | for(unsigned int i=0;i< rep_boot;++i){
| ~^~~~~~~~~~
foo_mrmr_ensemble_surv.cpp:387:10: warning: unused variable ‘mim’ [-Wunused-variable]
387 | double *mim, *boot_val, *mat_info;
| ^~~
foo_mrmr_ensemble_surv.cpp: In function ‘double mrnet_onegene(double*, int, int, int*, int, int)’:
foo_mrmr_ensemble_surv.cpp:448:25: warning: comparison of integer expressions of different signedness: ‘unsigned int’ and ‘int’ [-Wsign-compare]
448 | for(unsigned int j=0;j< nbvar; j++){
| ~^~~~~~~
foo_mrmr_ensemble_surv.cpp:437:15: warning: variable ‘jmax’ set but not used [-Wunused-but-set-variable]
437 | unsigned int jmax;
| ^~~~
foo_mrmr_ensemble_surv.cpp:439:9: warning: unused variable ‘max_val’ [-Wunused-variable]
439 | double max_val=-1000;
| ^~~~~~~
foo_mrmr_ensemble_surv.cpp: In function ‘int verify_equivalentset_nparents(tree<int>&, tree<int>::pre_order_iterator, tree<int>::pre_order_iterator, tree<double>&, int)’:
foo_mrmr_ensemble_surv.cpp:467:7: warning: unused variable ‘found’ [-Wunused-variable]
467 | bool found=false;
| ^~~~~
foo_mrmr_ensemble_surv.cpp: In function ‘void mrmr_ensemble_one_gene_remove(tree<int>&, tree<int>::pre_order_iterator, double*, int*, int, int, int, int, int, int, double, int*, int*, int*, double*, int*, double*, int*, int*, int*, int, int*)’:
foo_mrmr_ensemble_surv.cpp:593:24: warning: comparison of integer expressions of different signedness: ‘unsigned int’ and ‘int’ [-Wsign-compare]
593 | for(unsigned int i=1;i<= nsamples;++i){
| ~^~~~~~~~~~~
foo_mrmr_ensemble_surv.cpp:596:26: warning: comparison of integer expressions of different signedness: ‘unsigned int’ and ‘int’ [-Wsign-compare]
596 | for( unsigned int i=0; i< n; ++i ){
| ~^~~
foo_mrmr_ensemble_surv.cpp:597:27: warning: comparison of integer expressions of different signedness: ‘unsigned int’ and ‘int’ [-Wsign-compare]
597 | for( unsigned int j=0; j< n; ++j ){
| ~^~~
foo_mrmr_ensemble_surv.cpp:604:24: warning: comparison of integer expressions of different signedness: ‘unsigned int’ and ‘int’ [-Wsign-compare]
604 | for(unsigned int k=0;k< max_elements ;++k){
| ~^~~~~~~~~~~~~~
foo_mrmr_ensemble_surv.cpp:646:27: warning: comparison of integer expressions of different signedness: ‘unsigned int’ and ‘int’ [-Wsign-compare]
646 | for (unsigned int i=0;i<=max_depth;++i){
| ~^~~~~~~~~~~
foo_mrmr_ensemble_surv.cpp:654:26: warning: comparison of integer expressions of different signedness: ‘unsigned int’ and ‘int’ [-Wsign-compare]
654 | for(unsigned int k=0;k< n;++k){
| ~^~~
foo_mrmr_ensemble_surv.cpp:657:26: warning: comparison of integer expressions of different signedness: ‘unsigned int’ and ‘const int’ [-Wsign-compare]
657 | for(unsigned int k=0;k<=max(res_tmp_new.depth(it_local),max_depth) ;++k){
| ~^~~~~~~~~~~~~~~~~~~~~~~~~~~~~~~~~~~~~~~~~~~~
foo_mrmr_ensemble_surv.cpp:661:26: warning: comparison of integer expressions of different signedness: ‘unsigned int’ and ‘int’ [-Wsign-compare]
661 | for(unsigned int k=0;k< n;++k){
| ~^~~
foo_mrmr_ensemble_surv.cpp:578:24: warning: unused variable ‘nsamples_boot’ [-Wunused-variable]
578 | int *nsub, *prev_sel,nsamples_boot=nsamples, tmp_val_max_ind, *prev_sel_tmp,*vec_sol_local,ndelete;
| ^~~~~~~~~~~~~
foo_mrmr_ensemble_surv.cpp:578:48: warning: unused variable ‘tmp_val_max_ind’ [-Wunused-variable]
578 | int *nsub, *prev_sel,nsamples_boot=nsamples, tmp_val_max_ind, *prev_sel_tmp,*vec_sol_local,ndelete;
| ^~~~~~~~~~~~~~~
foo_mrmr_ensemble_surv.cpp:578:66: warning: unused variable ‘prev_sel_tmp’ [-Wunused-variable]
578 | int *nsub, *prev_sel,nsamples_boot=nsamples, tmp_val_max_ind, *prev_sel_tmp,*vec_sol_local,ndelete;
| ^~~~~~~~~~~~
foo_mrmr_ensemble_surv.cpp:579:21: warning: unused variable ‘vec_sort’ [-Wunused-variable]
579 | double *vec_mean, *vec_sort, *vec_sd, *vec_local_max_mean, *vec_local_max_sd,tmp_val_max, *mrmr_vec_sort,*vec_sol_local_mrmr;
| ^~~~~~~~
foo_mrmr_ensemble_surv.cpp:579:63: warning: variable ‘vec_local_max_sd’ set but not used [-Wunused-but-set-variable]
579 | double *vec_mean, *vec_sort, *vec_sd, *vec_local_max_mean, *vec_local_max_sd,tmp_val_max, *mrmr_vec_sort,*vec_sol_local_mrmr;
| ^~~~~~~~~~~~~~~~
foo_mrmr_ensemble_surv.cpp: In function ‘SEXPREC* mrmr_cIndex_ensemble_remove(SEXP, SEXP, SEXP, SEXP, SEXP, SEXP, SEXP, SEXP, SEXP, SEXP, SEXP, SEXP, SEXP, SEXP, SEXP, SEXP, SEXP, SEXP, SEXP, SEXP, SEXP)’:
foo_mrmr_ensemble_surv.cpp:786:24: warning: comparison of integer expressions of different signedness: ‘unsigned int’ and ‘const int’ [-Wsign-compare]
786 | for(unsigned int i=0;i< *npredn;++i){
| ~^~~~~~~~~
foo_mrmr_ensemble_surv.cpp:820:26: warning: comparison of integer expressions of different signedness: ‘unsigned int’ and ‘int’ [-Wsign-compare]
820 | for(unsigned int k=0;k<length_res_old;k++){
| ~^~~~~~~~~~~~~~~
foo_mrmr_ensemble_surv.cpp:834:25: warning: comparison of integer expressions of different signedness: ‘unsigned int’ and ‘int’ [-Wsign-compare]
834 | for(unsigned int k=0;k<length_res;k++){
| ~^~~~~~~~~~~
foo_mrmr_ensemble_surv.cpp:839:7: warning: comparison of integer expressions of different signedness: ‘unsigned int’ and ‘int’ [-Wsign-compare]
839 | if(i==(*npredn-1)){
| ~^~~~~~~~~~~~~
foo_mrmr_ensemble_surv.cpp:843:26: warning: comparison of integer expressions of different signedness: ‘unsigned int’ and ‘int’ [-Wsign-compare]
843 | for(unsigned int k=0;k<length_res;k++){
| ~^~~~~~~~~~~
foo_mrmr_ensemble_surv.cpp:801:13: warning: unused variable ‘cnt2’ [-Wunused-variable]
801 | int cnt=1,cnt2=0;
| ^~~~
foo_mrmr_ensemble_surv.cpp:804:7: warning: unused variable ‘rootdepth’ [-Wunused-variable]
804 | int rootdepth=res_tree.depth(it_final);
| ^~~~~~~~~
foo_mrmr_ensemble_surv.cpp:817:7: warning: unused variable ‘ind’ [-Wunused-variable]
817 | int ind=0;
| ^~~
foo_mrmr_ensemble_surv.cpp:733:30: warning: unused variable ‘res_all’ [-Wunused-variable]
733 | int *predn, *rep_boot,*res,*res_all,*res_all2, *namat;
| ^~~~~~~
foo_mrmr_ensemble_surv.cpp:733:39: warning: unused variable ‘res_all2’ [-Wunused-variable]
733 | int *predn, *rep_boot,*res,*res_all,*res_all2, *namat;
| ^~~~~~~~
foo_mrmr_ensemble_surv.cpp:734:6: warning: unused variable ‘vec_tmp’ [-Wunused-variable]
734 | int vec_tmp;
| ^~~~~~~
foo_mrmr_ensemble_surv.cpp:859:9: warning: ‘Rres’ may be used uninitialized in this function [-Wmaybe-uninitialized]
859 | return Rres;
| ^~~~
foo_mrmr_ensemble_surv.cpp:821:15: warning: ‘res_old’ may be used uninitialized in this function [-Wmaybe-uninitialized]
821 | res_all[k]=res_old[k];
| ~~~~~~~~~~^~~~~~~~~~~
g++ -std=gnu++17 -I"/home/biocbuild/R/R-4.3.1/include" -DNDEBUG -I/usr/local/include -fPIC -g -O2 -Wall -c foo_mrmr_surv.cpp -o foo_mrmr_surv.o
foo_mrmr_surv.cpp: In function ‘double get_correlation(double*, int*, int, int, int)’:
foo_mrmr_surv.cpp:12:26: warning: comparison of integer expressions of different signedness: ‘unsigned int’ and ‘int’ [-Wsign-compare]
12 | for( unsigned int i=0; i< size; ++i ) {
| ~^~~~~~
foo_mrmr_surv.cpp:22:26: warning: comparison of integer expressions of different signedness: ‘unsigned int’ and ‘int’ [-Wsign-compare]
22 | for( unsigned int i=0; i< size; ++i ) {
| ~^~~~~~
foo_mrmr_surv.cpp: In function ‘void build_mim_subset(double*, double*, int*, int, int, int*, int)’:
foo_mrmr_surv.cpp:49:25: warning: comparison of integer expressions of different signedness: ‘unsigned int’ and ‘int’ [-Wsign-compare]
49 | for(unsigned int i=0; i< size_subset; ++i){
| ~^~~~~~~~~~~~~
foo_mrmr_surv.cpp:50:26: warning: comparison of integer expressions of different signedness: ‘unsigned int’ and ‘int’ [-Wsign-compare]
50 | for(unsigned int j=0; j< nvar; ++j){
| ~^~~~~~
foo_mrmr_surv.cpp:56:25: warning: comparison of integer expressions of different signedness: ‘unsigned int’ and ‘int’ [-Wsign-compare]
56 | for(unsigned int i=0; i< nvar; ++i){
| ~^~~~~~
foo_mrmr_surv.cpp:58:28: warning: comparison of integer expressions of different signedness: ‘unsigned int’ and ‘int’ [-Wsign-compare]
58 | for(unsigned int j=i+1; j< nvar; ++j){
| ~^~~~~~
foo_mrmr_surv.cpp: In function ‘double returnConcordanceIndexC(int*, int*, double*, int*, double*, int*, double*, int*, int*, int*, int*, int*)’:
foo_mrmr_surv.cpp:146:10: warning: variable ‘uhs’ set but not used [-Wunused-but-set-variable]
146 | double uhs[Ns];
| ^~~
foo_mrmr_surv.cpp:147:10: warning: variable ‘rphs’ set but not used [-Wunused-but-set-variable]
147 | double rphs[Ns];
| ^~~~
foo_mrmr_surv.cpp: In function ‘SEXPREC* mrmr_cIndex(SEXP, SEXP, SEXP, SEXP, SEXP, SEXP)’:
foo_mrmr_surv.cpp:301:25: warning: comparison of integer expressions of different signedness: ‘unsigned int’ and ‘const int’ [-Wsign-compare]
301 | for(unsigned int i=0;i < *nsample; ++i){
| ~~^~~~~~~~~~
foo_mrmr_surv.cpp:341:19: warning: comparison of integer expressions of different signedness: ‘int’ and ‘unsigned int’ [-Wsign-compare]
341 | for( int l=0; l<n; ++l )
| ~^~
g++ -std=gnu++17 -I"/home/biocbuild/R/R-4.3.1/include" -DNDEBUG -I/usr/local/include -fPIC -g -O2 -Wall -c survcomp_init.cpp -o survcomp_init.o
g++ -std=gnu++17 -shared -L/home/biocbuild/R/R-4.3.1/lib -L/usr/local/lib -o survcomp.so concordance.index.o foo_mrmr_ensemble_surv.o foo_mrmr_surv.o survcomp_init.o -L/home/biocbuild/R/R-4.3.1/lib -lR
installing to /home/biocbuild/R/R-4.3.1/site-library/00LOCK-survcomp/00new/survcomp/libs
** R
** data
** inst
** byte-compile and prepare package for lazy loading
** help
*** installing help indices
** building package indices
** installing vignettes
** testing if installed package can be loaded from temporary location
** checking absolute paths in shared objects and dynamic libraries
** testing if installed package can be loaded from final location
** testing if installed package keeps a record of temporary installation path
* DONE (survcomp)
survcomp.Rcheck/survcomp-Ex.timings
| name | user | system | elapsed | |
| D.index | 0.031 | 0.000 | 0.031 | |
| balanced.hazard.ratio | 0.015 | 0.000 | 0.015 | |
| bhr.comp | 0.014 | 0.000 | 0.014 | |
| breastCancerData | 0.584 | 0.016 | 0.602 | |
| censor.time | 0 | 0 | 0 | |
| cindex.comp | 0.003 | 0.000 | 0.003 | |
| cindex.comp.meta | 0.005 | 0.000 | 0.005 | |
| combine.est | 0 | 0 | 0 | |
| combine.test | 0 | 0 | 0 | |
| concordance.index | 0.003 | 0.000 | 0.003 | |
| cvpl | 0.169 | 0.004 | 0.173 | |
| dindex.comp | 0.012 | 0.000 | 0.012 | |
| dindex.comp.meta | 0.024 | 0.000 | 0.024 | |
| fisherz | 0.001 | 0.000 | 0.000 | |
| forestplot.surv | 0.039 | 0.000 | 0.039 | |
| getsurv2 | 0.005 | 0.000 | 0.004 | |
| hazard.ratio | 0.01 | 0.00 | 0.01 | |
| hr.comp | 0.011 | 0.000 | 0.012 | |
| hr.comp.meta | 0.036 | 0.000 | 0.037 | |
| hr.comp2 | 0.004 | 0.004 | 0.009 | |
| iauc.comp | 0.251 | 0.012 | 0.264 | |
| ibsc.comp | 0.281 | 0.004 | 0.285 | |
| km.coxph.plot | 0.051 | 0.000 | 0.050 | |
| logpl | 0.013 | 0.000 | 0.012 | |
| mainz7g | 0.191 | 0.008 | 0.199 | |
| metaplot.surv | 0.004 | 0.000 | 0.004 | |
| mrmr.cindex | 0.003 | 0.000 | 0.003 | |
| nki7g | 0.181 | 0.008 | 0.189 | |
| no.at.risk | 0.013 | 0.000 | 0.013 | |
| sbrier.score2proba | 0.234 | 0.000 | 0.240 | |
| score2proba | 0.016 | 0.003 | 0.019 | |
| td.sens.spec | 0.002 | 0.000 | 0.002 | |
| tdrocc | 0.089 | 0.004 | 0.093 | |
| test.hetero.est | 0.000 | 0.000 | 0.001 | |
| test.hetero.test | 0 | 0 | 0 | |
| transbig7g | 0.191 | 0.004 | 0.196 | |
| unt7g | 0.181 | 0.008 | 0.190 | |
| upp7g | 0.187 | 0.000 | 0.188 | |
| vdx7g | 0.185 | 0.004 | 0.189 | |