| Back to Multiple platform build/check report for BioC 3.18: simplified long |
|
This page was generated on 2024-04-17 11:36:25 -0400 (Wed, 17 Apr 2024).
| Hostname | OS | Arch (*) | R version | Installed pkgs |
|---|---|---|---|---|
| nebbiolo2 | Linux (Ubuntu 22.04.3 LTS) | x86_64 | 4.3.3 (2024-02-29) -- "Angel Food Cake" | 4676 |
| palomino4 | Windows Server 2022 Datacenter | x64 | 4.3.3 (2024-02-29 ucrt) -- "Angel Food Cake" | 4414 |
| merida1 | macOS 12.7.1 Monterey | x86_64 | 4.3.3 (2024-02-29) -- "Angel Food Cake" | 4437 |
| Click on any hostname to see more info about the system (e.g. compilers) (*) as reported by 'uname -p', except on Windows and Mac OS X | ||||
| Package 2029/2266 | Hostname | OS / Arch | INSTALL | BUILD | CHECK | BUILD BIN | ||||||||
| splatter 1.26.0 (landing page) Luke Zappia
| nebbiolo2 | Linux (Ubuntu 22.04.3 LTS) / x86_64 | OK | OK | OK | |||||||||
| palomino4 | Windows Server 2022 Datacenter / x64 | OK | OK | OK | OK | |||||||||
| merida1 | macOS 12.7.1 Monterey / x86_64 | OK | OK | OK | OK | |||||||||
| kjohnson1 | macOS 13.6.1 Ventura / arm64 | see weekly results here | ||||||||||||
|
To the developers/maintainers of the splatter package: - Allow up to 24 hours (and sometimes 48 hours) for your latest push to git@git.bioconductor.org:packages/splatter.git to reflect on this report. See Troubleshooting Build Report for more information. - Use the following Renviron settings to reproduce errors and warnings. - If 'R CMD check' started to fail recently on the Linux builder(s) over a missing dependency, add the missing dependency to 'Suggests:' in your DESCRIPTION file. See Renviron.bioc for more information. |
| Package: splatter |
| Version: 1.26.0 |
| Command: /home/biocbuild/bbs-3.18-bioc/R/bin/R CMD check --install=check:splatter.install-out.txt --library=/home/biocbuild/bbs-3.18-bioc/R/site-library --timings splatter_1.26.0.tar.gz |
| StartedAt: 2024-04-16 04:18:59 -0400 (Tue, 16 Apr 2024) |
| EndedAt: 2024-04-16 04:32:47 -0400 (Tue, 16 Apr 2024) |
| EllapsedTime: 828.3 seconds |
| RetCode: 0 |
| Status: OK |
| CheckDir: splatter.Rcheck |
| Warnings: 0 |
##############################################################################
##############################################################################
###
### Running command:
###
### /home/biocbuild/bbs-3.18-bioc/R/bin/R CMD check --install=check:splatter.install-out.txt --library=/home/biocbuild/bbs-3.18-bioc/R/site-library --timings splatter_1.26.0.tar.gz
###
##############################################################################
##############################################################################
* using log directory ‘/home/biocbuild/bbs-3.18-bioc/meat/splatter.Rcheck’
* using R version 4.3.3 (2024-02-29)
* using platform: x86_64-pc-linux-gnu (64-bit)
* R was compiled by
gcc (Ubuntu 11.4.0-1ubuntu1~22.04) 11.4.0
GNU Fortran (Ubuntu 11.4.0-1ubuntu1~22.04) 11.4.0
* running under: Ubuntu 22.04.4 LTS
* using session charset: UTF-8
* checking for file ‘splatter/DESCRIPTION’ ... OK
* checking extension type ... Package
* this is package ‘splatter’ version ‘1.26.0’
* package encoding: UTF-8
* checking package namespace information ... OK
* checking package dependencies ... OK
* checking if this is a source package ... OK
* checking if there is a namespace ... OK
* checking for hidden files and directories ... OK
* checking for portable file names ... OK
* checking for sufficient/correct file permissions ... OK
* checking whether package ‘splatter’ can be installed ... OK
* checking installed package size ... OK
* checking package directory ... OK
* checking ‘build’ directory ... OK
* checking DESCRIPTION meta-information ... OK
* checking top-level files ... OK
* checking for left-over files ... OK
* checking index information ... OK
* checking package subdirectories ... OK
* checking R files for non-ASCII characters ... OK
* checking R files for syntax errors ... OK
* checking whether the package can be loaded ... OK
* checking whether the package can be loaded with stated dependencies ... OK
* checking whether the package can be unloaded cleanly ... OK
* checking whether the namespace can be loaded with stated dependencies ... OK
* checking whether the namespace can be unloaded cleanly ... OK
* checking loading without being on the library search path ... OK
* checking dependencies in R code ... OK
* checking S3 generic/method consistency ... OK
* checking replacement functions ... OK
* checking foreign function calls ... OK
* checking R code for possible problems ... OK
* checking Rd files ... OK
* checking Rd metadata ... OK
* checking Rd cross-references ... OK
* checking for missing documentation entries ... OK
* checking for code/documentation mismatches ... OK
* checking Rd \usage sections ... OK
* checking Rd contents ... OK
* checking for unstated dependencies in examples ... OK
* checking files in ‘vignettes’ ... OK
* checking examples ... OK
Examples with CPU (user + system) or elapsed time > 5s
user system elapsed
scDDEstimate 29.255 0.412 29.668
* checking for unstated dependencies in ‘tests’ ... OK
* checking tests ...
Running ‘spelling.R’
Running ‘testthat.R’
OK
* checking for unstated dependencies in vignettes ... OK
* checking package vignettes in ‘inst/doc’ ... OK
* checking running R code from vignettes ...
‘splatPop.Rmd’ using ‘UTF-8’... OK
‘splat_params.Rmd’ using ‘UTF-8’... OK
‘splatter.Rmd’ using ‘UTF-8’... OK
OK
* checking re-building of vignette outputs ... OK
* checking PDF version of manual ... OK
* DONE
Status: OK
splatter.Rcheck/00install.out
############################################################################## ############################################################################## ### ### Running command: ### ### /home/biocbuild/bbs-3.18-bioc/R/bin/R CMD INSTALL splatter ### ############################################################################## ############################################################################## * installing to library ‘/home/biocbuild/bbs-3.18-bioc/R/site-library’ * installing *source* package ‘splatter’ ... ** using staged installation ** R ** inst ** byte-compile and prepare package for lazy loading ** help *** installing help indices ** building package indices ** installing vignettes ** testing if installed package can be loaded from temporary location ** testing if installed package can be loaded from final location ** testing if installed package keeps a record of temporary installation path * DONE (splatter)
splatter.Rcheck/tests/spelling.Rout
R version 4.3.3 (2024-02-29) -- "Angel Food Cake"
Copyright (C) 2024 The R Foundation for Statistical Computing
Platform: x86_64-pc-linux-gnu (64-bit)
R is free software and comes with ABSOLUTELY NO WARRANTY.
You are welcome to redistribute it under certain conditions.
Type 'license()' or 'licence()' for distribution details.
R is a collaborative project with many contributors.
Type 'contributors()' for more information and
'citation()' on how to cite R or R packages in publications.
Type 'demo()' for some demos, 'help()' for on-line help, or
'help.start()' for an HTML browser interface to help.
Type 'q()' to quit R.
> if(requireNamespace('spelling', quietly = TRUE))
+ spelling::spell_check_test(vignettes = TRUE, error = FALSE,
+ skip_on_cran = TRUE)
NULL
>
> proc.time()
user system elapsed
0.136 0.049 0.174
splatter.Rcheck/tests/testthat.Rout
R version 4.3.3 (2024-02-29) -- "Angel Food Cake"
Copyright (C) 2024 The R Foundation for Statistical Computing
Platform: x86_64-pc-linux-gnu (64-bit)
R is free software and comes with ABSOLUTELY NO WARRANTY.
You are welcome to redistribute it under certain conditions.
Type 'license()' or 'licence()' for distribution details.
R is a collaborative project with many contributors.
Type 'contributors()' for more information and
'citation()' on how to cite R or R packages in publications.
Type 'demo()' for some demos, 'help()' for on-line help, or
'help.start()' for an HTML browser interface to help.
Type 'q()' to quit R.
> # setting R_TESTS to empty string because of
> # https://github.com/hadley/testthat/issues/144
> # revert this when that issue in R is fixed.
> Sys.setenv("R_TESTS" = "")
>
> library(testthat)
> library(splatter)
Loading required package: SingleCellExperiment
Loading required package: SummarizedExperiment
Loading required package: MatrixGenerics
Loading required package: matrixStats
Attaching package: 'MatrixGenerics'
The following objects are masked from 'package:matrixStats':
colAlls, colAnyNAs, colAnys, colAvgsPerRowSet, colCollapse,
colCounts, colCummaxs, colCummins, colCumprods, colCumsums,
colDiffs, colIQRDiffs, colIQRs, colLogSumExps, colMadDiffs,
colMads, colMaxs, colMeans2, colMedians, colMins, colOrderStats,
colProds, colQuantiles, colRanges, colRanks, colSdDiffs, colSds,
colSums2, colTabulates, colVarDiffs, colVars, colWeightedMads,
colWeightedMeans, colWeightedMedians, colWeightedSds,
colWeightedVars, rowAlls, rowAnyNAs, rowAnys, rowAvgsPerColSet,
rowCollapse, rowCounts, rowCummaxs, rowCummins, rowCumprods,
rowCumsums, rowDiffs, rowIQRDiffs, rowIQRs, rowLogSumExps,
rowMadDiffs, rowMads, rowMaxs, rowMeans2, rowMedians, rowMins,
rowOrderStats, rowProds, rowQuantiles, rowRanges, rowRanks,
rowSdDiffs, rowSds, rowSums2, rowTabulates, rowVarDiffs, rowVars,
rowWeightedMads, rowWeightedMeans, rowWeightedMedians,
rowWeightedSds, rowWeightedVars
Loading required package: GenomicRanges
Loading required package: stats4
Loading required package: BiocGenerics
Attaching package: 'BiocGenerics'
The following objects are masked from 'package:stats':
IQR, mad, sd, var, xtabs
The following objects are masked from 'package:base':
Filter, Find, Map, Position, Reduce, anyDuplicated, aperm, append,
as.data.frame, basename, cbind, colnames, dirname, do.call,
duplicated, eval, evalq, get, grep, grepl, intersect, is.unsorted,
lapply, mapply, match, mget, order, paste, pmax, pmax.int, pmin,
pmin.int, rank, rbind, rownames, sapply, setdiff, sort, table,
tapply, union, unique, unsplit, which.max, which.min
Loading required package: S4Vectors
Attaching package: 'S4Vectors'
The following object is masked from 'package:utils':
findMatches
The following objects are masked from 'package:base':
I, expand.grid, unname
Loading required package: IRanges
Loading required package: GenomeInfoDb
Loading required package: Biobase
Welcome to Bioconductor
Vignettes contain introductory material; view with
'browseVignettes()'. To cite Bioconductor, see
'citation("Biobase")', and for packages 'citation("pkgname")'.
Attaching package: 'Biobase'
The following object is masked from 'package:MatrixGenerics':
rowMedians
The following objects are masked from 'package:matrixStats':
anyMissing, rowMedians
>
> test_check("splatter")
-----------------------------------------------------
MCMC sampler has been started: 20000 iterations to go.
-----------------------------------------------------
-----------------------------------------------------
End of Burn-in period.
-----------------------------------------------------
-----------------------------------------------------
-----------------------------------------------------
All 20000 MCMC iterations have been completed.
-----------------------------------------------------
-----------------------------------------------------
-----------------------------------------------------
Please see below a summary of the overall acceptance rates.
-----------------------------------------------------
Minimum acceptance rate among mu[i]'s: 0.216267
Average acceptance rate among mu[i]'s: 0.447751
Maximum acceptance rate among mu[i]'s: 0.581867
Minimum acceptance rate among delta[i]'s: 0.373467
Average acceptance rate among delta[i]'s: 0.446514
Maximum acceptance rate among delta[i]'s: 0.498
Acceptance rate for phi (joint): 0.455867
Minimum acceptance rate among nu[j]'s: 0.3964
Average acceptance rate among nu[j]'s: 0.450696
Maximum acceptance rate among nu[j]'s: 0.506933
Minimum acceptance rate among theta[k]'s: 0.431867
Average acceptance rate among theta[k]'s: 0.431867
Maximum acceptance rate among theta[k]'s: 0.431867
-----------------------------------------------------
-----------------------------------------------------
MCMC sampler has been started: 20000 iterations to go.
-----------------------------------------------------
-----------------------------------------------------
End of Burn-in period.
-----------------------------------------------------
-----------------------------------------------------
-----------------------------------------------------
All 20000 MCMC iterations have been completed.
-----------------------------------------------------
-----------------------------------------------------
-----------------------------------------------------
Please see below a summary of the overall acceptance rates.
-----------------------------------------------------
Minimum acceptance rate among mu[i]'s: 0.167067
Average acceptance rate among mu[i]'s: 0.436682
Maximum acceptance rate among mu[i]'s: 0.578267
Minimum acceptance rate among delta[i]'s: 0.395933
Average acceptance rate among delta[i]'s: 0.454213
Maximum acceptance rate among delta[i]'s: 0.515067
Minimum acceptance rate among nu[jk]'s: 0.370533
Average acceptance rate among nu[jk]'s: 0.451502
Maximum acceptance rate among nu[jk]'s: 0.492467
Minimum acceptance rate among theta[k]'s: 0.4586
Average acceptance rate among theta[k]'s: 0.464833
Maximum acceptance rate among theta[k]'s: 0.471067
-----------------------------------------------------
[ FAIL 0 | WARN 14 | SKIP 0 | PASS 184 ]
[ FAIL 0 | WARN 14 | SKIP 0 | PASS 184 ]
>
> proc.time()
user system elapsed
182.477 2.918 185.388
splatter.Rcheck/splatter-Ex.timings
| name | user | system | elapsed | |
| BASiCSEstimate | 0 | 0 | 0 | |
| BASiCSSimulate | 4.500 | 0.288 | 4.788 | |
| addGeneLengths | 0.402 | 0.024 | 0.426 | |
| compareSCEs | 3.098 | 0.060 | 3.158 | |
| diffSCEs | 2.330 | 0.072 | 2.402 | |
| getParam | 0 | 0 | 0 | |
| getParams | 0 | 0 | 0 | |
| kersplatEstimate | 3.579 | 0.060 | 3.639 | |
| kersplatSample | 1.806 | 0.164 | 1.970 | |
| kersplatSetup | 0.172 | 0.004 | 0.176 | |
| kersplatSimulate | 0 | 0 | 0 | |
| listSims | 0.019 | 0.000 | 0.019 | |
| lun2Estimate | 0 | 0 | 0 | |
| lun2Simulate | 0.344 | 0.012 | 0.356 | |
| lunEstimate | 0.417 | 0.020 | 0.437 | |
| lunSimulate | 0.350 | 0.000 | 0.349 | |
| makeCompPanel | 0 | 0 | 0 | |
| makeDiffPanel | 0 | 0 | 0 | |
| makeOverallPanel | 0 | 0 | 0 | |
| mfaEstimate | 0.094 | 0.000 | 0.094 | |
| mfaSimulate | 0.465 | 0.020 | 0.485 | |
| minimiseSCE | 1.478 | 0.028 | 1.506 | |
| mockBulkMatrix | 0 | 0 | 0 | |
| mockBulkeQTL | 4.252 | 0.124 | 4.376 | |
| mockEmpiricalSet | 3.715 | 0.288 | 4.002 | |
| mockGFF | 0.006 | 0.000 | 0.005 | |
| mockVCF | 0.105 | 0.004 | 0.109 | |
| newParams | 0.002 | 0.000 | 0.002 | |
| phenoEstimate | 0.522 | 0.004 | 0.526 | |
| phenoSimulate | 0.839 | 0.072 | 0.911 | |
| scDDEstimate | 29.255 | 0.412 | 29.668 | |
| scDDSimulate | 0 | 0 | 0 | |
| setParam | 0.008 | 0.000 | 0.008 | |
| setParams | 0.019 | 0.000 | 0.020 | |
| simpleEstimate | 0.412 | 0.028 | 0.440 | |
| simpleSimulate | 0.490 | 0.004 | 0.493 | |
| sparseDCEstimate | 0.766 | 0.008 | 0.773 | |
| sparseDCSimulate | 1.850 | 0.147 | 1.998 | |
| splatEstimate | 2.684 | 0.072 | 2.755 | |
| splatPopEstimate | 3.934 | 0.139 | 4.074 | |
| splatPopQuantNorm | 0.024 | 0.000 | 0.024 | |
| splatPopSimulate | 0 | 0 | 0 | |
| splatPopSimulateMeans | 0 | 0 | 0 | |
| splatPopSimulateSC | 0 | 0 | 0 | |
| splatSimulate | 1.939 | 0.056 | 1.994 | |
| summariseDiff | 2.371 | 0.000 | 2.371 | |
| zinbEstimate | 1.945 | 0.056 | 2.001 | |
| zinbSimulate | 0.167 | 0.000 | 0.167 | |