Back to Multiple platform build/check report for BioC 3.18: simplified long |
|
This page was generated on 2024-04-17 11:38:17 -0400 (Wed, 17 Apr 2024).
Hostname | OS | Arch (*) | R version | Installed pkgs |
---|---|---|---|---|
nebbiolo2 | Linux (Ubuntu 22.04.3 LTS) | x86_64 | 4.3.3 (2024-02-29) -- "Angel Food Cake" | 4676 |
palomino4 | Windows Server 2022 Datacenter | x64 | 4.3.3 (2024-02-29 ucrt) -- "Angel Food Cake" | 4414 |
merida1 | macOS 12.7.1 Monterey | x86_64 | 4.3.3 (2024-02-29) -- "Angel Food Cake" | 4437 |
Click on any hostname to see more info about the system (e.g. compilers) (*) as reported by 'uname -p', except on Windows and Mac OS X |
Package 2024/2266 | Hostname | OS / Arch | INSTALL | BUILD | CHECK | BUILD BIN | ||||||||
spicyR 1.14.3 (landing page) Ellis Patrick
| nebbiolo2 | Linux (Ubuntu 22.04.3 LTS) / x86_64 | OK | OK | OK | ![]() | ||||||||
palomino4 | Windows Server 2022 Datacenter / x64 | OK | OK | OK | OK | ![]() | ||||||||
merida1 | macOS 12.7.1 Monterey / x86_64 | OK | OK | OK | OK | ![]() | ||||||||
kjohnson1 | macOS 13.6.1 Ventura / arm64 | see weekly results here | ||||||||||||
To the developers/maintainers of the spicyR package: - Allow up to 24 hours (and sometimes 48 hours) for your latest push to git@git.bioconductor.org:packages/spicyR.git to reflect on this report. See Troubleshooting Build Report for more information. - Use the following Renviron settings to reproduce errors and warnings. - If 'R CMD check' started to fail recently on the Linux builder(s) over a missing dependency, add the missing dependency to 'Suggests:' in your DESCRIPTION file. See Renviron.bioc for more information. |
Package: spicyR |
Version: 1.14.3 |
Command: /Library/Frameworks/R.framework/Resources/bin/R CMD check --install=check:spicyR.install-out.txt --library=/Library/Frameworks/R.framework/Resources/library --no-vignettes --timings spicyR_1.14.3.tar.gz |
StartedAt: 2024-04-16 09:19:43 -0400 (Tue, 16 Apr 2024) |
EndedAt: 2024-04-16 09:30:37 -0400 (Tue, 16 Apr 2024) |
EllapsedTime: 653.4 seconds |
RetCode: 0 |
Status: OK |
CheckDir: spicyR.Rcheck |
Warnings: 0 |
############################################################################## ############################################################################## ### ### Running command: ### ### /Library/Frameworks/R.framework/Resources/bin/R CMD check --install=check:spicyR.install-out.txt --library=/Library/Frameworks/R.framework/Resources/library --no-vignettes --timings spicyR_1.14.3.tar.gz ### ############################################################################## ############################################################################## * using log directory ‘/Users/biocbuild/bbs-3.18-bioc/meat/spicyR.Rcheck’ * using R version 4.3.3 (2024-02-29) * using platform: x86_64-apple-darwin20 (64-bit) * R was compiled by Apple clang version 14.0.0 (clang-1400.0.29.202) GNU Fortran (GCC) 12.2.0 * running under: macOS Monterey 12.7.1 * using session charset: UTF-8 * using option ‘--no-vignettes’ * checking for file ‘spicyR/DESCRIPTION’ ... OK * checking extension type ... Package * this is package ‘spicyR’ version ‘1.14.3’ * package encoding: UTF-8 * checking package namespace information ... OK * checking package dependencies ... OK * checking if this is a source package ... OK * checking if there is a namespace ... OK * checking for hidden files and directories ... OK * checking for portable file names ... OK * checking for sufficient/correct file permissions ... OK * checking whether package ‘spicyR’ can be installed ... OK * checking installed package size ... NOTE installed size is 6.1Mb sub-directories of 1Mb or more: data 4.4Mb * checking package directory ... OK * checking ‘build’ directory ... OK * checking DESCRIPTION meta-information ... OK * checking top-level files ... OK * checking for left-over files ... OK * checking index information ... OK * checking package subdirectories ... OK * checking R files for non-ASCII characters ... OK * checking R files for syntax errors ... OK * checking whether the package can be loaded ... OK * checking whether the package can be loaded with stated dependencies ... OK * checking whether the package can be unloaded cleanly ... OK * checking whether the namespace can be loaded with stated dependencies ... OK * checking whether the namespace can be unloaded cleanly ... OK * checking dependencies in R code ... OK * checking S3 generic/method consistency ... OK * checking replacement functions ... OK * checking foreign function calls ... OK * checking R code for possible problems ... NOTE bubblePlot: no visible global function definition for ‘setNames’ bubblePlot: no visible binding for global variable ‘condition’ convPairs: no visible binding for global variable ‘rowname’ convPairs: no visible binding for global variable ‘cellType_from’ convPairs: no visible binding for global variable ‘cellType_to’ convPairs: no visible binding for global variable ‘one’ convPairs: no visible binding for global variable ‘n_close’ convPairs: no visible binding for global variable ‘n’ convPairs: no visible binding for global variable ‘test’ convPairs: no visible binding for global variable ‘association’ inhomL: no visible binding for global variable ‘j’ inhomL: no visible binding for global variable ‘value’ inhomL: no visible binding for global variable ‘i’ inhomL: no visible binding for global variable ‘d’ inhomL: no visible binding for global variable ‘cellTypeI’ inhomL: no visible binding for global variable ‘cellTypeJ’ inhomL: no visible global function definition for ‘.’ inhomL: no visible binding for global variable ‘wt’ spicyBoxPlot: no visible binding for global variable ‘condition’ Undefined global functions or variables: . association cellTypeI cellTypeJ cellType_from cellType_to condition d i j n n_close one rowname setNames test value wt Consider adding importFrom("stats", "setNames") to your NAMESPACE file. * checking Rd files ... OK * checking Rd metadata ... OK * checking Rd cross-references ... OK * checking for missing documentation entries ... OK * checking for code/documentation mismatches ... OK * checking Rd \usage sections ... OK * checking Rd contents ... OK * checking for unstated dependencies in examples ... OK * checking contents of ‘data’ directory ... OK * checking data for non-ASCII characters ... OK * checking LazyData ... OK * checking data for ASCII and uncompressed saves ... OK * checking files in ‘vignettes’ ... OK * checking examples ... OK Examples with CPU (user + system) or elapsed time > 5s user system elapsed convPairs 122.486 2.810 130.697 spicy 39.822 0.250 41.121 colTest 8.778 0.377 9.588 getPairwise 6.034 0.183 6.323 * checking for unstated dependencies in vignettes ... OK * checking package vignettes in ‘inst/doc’ ... OK * checking running R code from vignettes ... SKIPPED * checking re-building of vignette outputs ... SKIPPED * checking PDF version of manual ... OK * DONE Status: 2 NOTEs See ‘/Users/biocbuild/bbs-3.18-bioc/meat/spicyR.Rcheck/00check.log’ for details.
spicyR.Rcheck/00install.out
############################################################################## ############################################################################## ### ### Running command: ### ### /Library/Frameworks/R.framework/Resources/bin/R CMD INSTALL spicyR ### ############################################################################## ############################################################################## * installing to library ‘/Library/Frameworks/R.framework/Versions/4.3-x86_64/Resources/library’ * installing *source* package ‘spicyR’ ... ** using staged installation ** R ** data *** moving datasets to lazyload DB ** inst ** byte-compile and prepare package for lazy loading ** help *** installing help indices ** building package indices ** installing vignettes ** testing if installed package can be loaded from temporary location ** testing if installed package can be loaded from final location ** testing if installed package keeps a record of temporary installation path * DONE (spicyR)
spicyR.Rcheck/spicyR-Ex.timings
name | user | system | elapsed | |
Accessors | 1.129 | 0.045 | 1.240 | |
SegmentedCells | 0.525 | 0.005 | 0.551 | |
bind | 0.031 | 0.009 | 0.041 | |
colTest | 8.778 | 0.377 | 9.588 | |
convPairs | 122.486 | 2.810 | 130.697 | |
getPairwise | 6.034 | 0.183 | 6.323 | |
getProp | 2.610 | 0.024 | 2.683 | |
plot-SegmentedCells | 0.556 | 0.005 | 0.601 | |
show-SegmentedCells | 0.589 | 0.004 | 0.620 | |
signifPlot | 2.425 | 0.096 | 2.563 | |
spicy | 39.822 | 0.250 | 41.121 | |
spicyBoxPlot | 1.156 | 0.016 | 1.221 | |
topPairs | 0.023 | 0.004 | 0.028 | |