| Back to Multiple platform build/check report for BioC 3.18: simplified long |
|
This page was generated on 2024-03-04 11:37:53 -0500 (Mon, 04 Mar 2024).
| Hostname | OS | Arch (*) | R version | Installed pkgs |
|---|---|---|---|---|
| nebbiolo2 | Linux (Ubuntu 22.04.3 LTS) | x86_64 | 4.3.2 Patched (2023-11-13 r85521) -- "Eye Holes" | 4692 |
| palomino4 | Windows Server 2022 Datacenter | x64 | 4.3.2 (2023-10-31 ucrt) -- "Eye Holes" | 4445 |
| lconway | macOS 12.7.1 Monterey | x86_64 | 4.3.2 Patched (2023-11-01 r85457) -- "Eye Holes" | 4466 |
| Click on any hostname to see more info about the system (e.g. compilers) (*) as reported by 'uname -p', except on Windows and Mac OS X | ||||
| Package 2009/2266 | Hostname | OS / Arch | INSTALL | BUILD | CHECK | BUILD BIN | ||||||||
| spatialDE 1.8.1 (landing page) Gabriele Sales
| nebbiolo2 | Linux (Ubuntu 22.04.3 LTS) / x86_64 | OK | OK | OK | |||||||||
| palomino4 | Windows Server 2022 Datacenter / x64 | OK | OK | OK | OK | |||||||||
| lconway | macOS 12.7.1 Monterey / x86_64 | OK | OK | OK | OK | |||||||||
| kjohnson1 | macOS 13.6.1 Ventura / arm64 | see weekly results here | ||||||||||||
|
To the developers/maintainers of the spatialDE package: - Allow up to 24 hours (and sometimes 48 hours) for your latest push to git@git.bioconductor.org:packages/spatialDE.git to reflect on this report. See Troubleshooting Build Report for more information. - Use the following Renviron settings to reproduce errors and warnings. - If 'R CMD check' started to fail recently on the Linux builder(s) over a missing dependency, add the missing dependency to 'Suggests:' in your DESCRIPTION file. See Renviron.bioc for more information. |
| Package: spatialDE |
| Version: 1.8.1 |
| Command: /Library/Frameworks/R.framework/Resources/bin/R CMD check --install=check:spatialDE.install-out.txt --library=/Library/Frameworks/R.framework/Resources/library --no-vignettes --timings spatialDE_1.8.1.tar.gz |
| StartedAt: 2024-03-03 23:38:18 -0500 (Sun, 03 Mar 2024) |
| EndedAt: 2024-03-03 23:43:24 -0500 (Sun, 03 Mar 2024) |
| EllapsedTime: 306.2 seconds |
| RetCode: 0 |
| Status: OK |
| CheckDir: spatialDE.Rcheck |
| Warnings: 0 |
##############################################################################
##############################################################################
###
### Running command:
###
### /Library/Frameworks/R.framework/Resources/bin/R CMD check --install=check:spatialDE.install-out.txt --library=/Library/Frameworks/R.framework/Resources/library --no-vignettes --timings spatialDE_1.8.1.tar.gz
###
##############################################################################
##############################################################################
* using log directory ‘/Users/biocbuild/bbs-3.18-bioc/meat/spatialDE.Rcheck’
* using R version 4.3.2 Patched (2023-11-01 r85457)
* using platform: x86_64-apple-darwin20 (64-bit)
* R was compiled by
Apple clang version 14.0.3 (clang-1403.0.22.14.1)
GNU Fortran (GCC) 12.2.0
* running under: macOS Monterey 12.7.1
* using session charset: UTF-8
* using option ‘--no-vignettes’
* checking for file ‘spatialDE/DESCRIPTION’ ... OK
* this is package ‘spatialDE’ version ‘1.8.1’
* package encoding: UTF-8
* checking package namespace information ... OK
* checking package dependencies ... OK
* checking if this is a source package ... OK
* checking if there is a namespace ... OK
* checking for hidden files and directories ... OK
* checking for portable file names ... OK
* checking for sufficient/correct file permissions ... OK
* checking whether package ‘spatialDE’ can be installed ... NOTE
Found the following notes/warnings:
Non-staged installation was used
See ‘/Users/biocbuild/bbs-3.18-bioc/meat/spatialDE.Rcheck/00install.out’ for details.
* checking installed package size ... OK
* checking package directory ... OK
* checking ‘build’ directory ... OK
* checking DESCRIPTION meta-information ... OK
* checking top-level files ... OK
* checking for left-over files ... OK
* checking index information ... OK
* checking package subdirectories ... OK
* checking R files for non-ASCII characters ... OK
* checking R files for syntax errors ... OK
* checking whether the package can be loaded ... OK
* checking whether the package can be loaded with stated dependencies ... OK
* checking whether the package can be unloaded cleanly ... OK
* checking whether the namespace can be loaded with stated dependencies ... OK
* checking whether the namespace can be unloaded cleanly ... OK
* checking dependencies in R code ... OK
* checking S3 generic/method consistency ... OK
* checking replacement functions ... OK
* checking foreign function calls ... OK
* checking R code for possible problems ... OK
* checking Rd files ... OK
* checking Rd metadata ... OK
* checking Rd cross-references ... OK
* checking for missing documentation entries ... OK
* checking for code/documentation mismatches ... OK
* checking Rd \usage sections ... OK
* checking Rd contents ... OK
* checking for unstated dependencies in examples ... OK
* checking contents of ‘data’ directory ... OK
* checking data for non-ASCII characters ... OK
* checking data for ASCII and uncompressed saves ... OK
* checking line endings in shell scripts ... OK
* checking files in ‘vignettes’ ... OK
* checking examples ... OK
Examples with CPU (user + system) or elapsed time > 5s
user system elapsed
spatial_patterns 22.413 3.868 13.945
FSV_sig 8.442 2.887 11.944
* checking for unstated dependencies in ‘tests’ ... OK
* checking tests ...
Running ‘testthat.R’
OK
* checking for unstated dependencies in vignettes ... OK
* checking package vignettes in ‘inst/doc’ ... OK
* checking running R code from vignettes ... SKIPPED
* checking re-building of vignette outputs ... SKIPPED
* checking PDF version of manual ... OK
* DONE
Status: 1 NOTE
See
‘/Users/biocbuild/bbs-3.18-bioc/meat/spatialDE.Rcheck/00check.log’
for details.
spatialDE.Rcheck/00install.out
############################################################################## ############################################################################## ### ### Running command: ### ### /Library/Frameworks/R.framework/Resources/bin/R CMD INSTALL spatialDE ### ############################################################################## ############################################################################## * installing to library ‘/Library/Frameworks/R.framework/Versions/4.3-x86_64/Resources/library’ * installing *source* package ‘spatialDE’ ... ** using non-staged installation via StagedInstall field ** R ** data ** inst ** byte-compile and prepare package for lazy loading ** help *** installing help indices ** building package indices ** installing vignettes ** testing if installed package can be loaded * DONE (spatialDE)
spatialDE.Rcheck/tests/testthat.Rout
R version 4.3.2 Patched (2023-11-01 r85457) -- "Eye Holes"
Copyright (C) 2023 The R Foundation for Statistical Computing
Platform: x86_64-apple-darwin20 (64-bit)
R is free software and comes with ABSOLUTELY NO WARRANTY.
You are welcome to redistribute it under certain conditions.
Type 'license()' or 'licence()' for distribution details.
R is a collaborative project with many contributors.
Type 'contributors()' for more information and
'citation()' on how to cite R or R packages in publications.
Type 'demo()' for some demos, 'help()' for on-line help, or
'help.start()' for an HTML browser interface to help.
Type 'q()' to quit R.
> library(testthat)
> library(spatialDE)
>
> test_check("spatialDE")
Loading required package: SingleCellExperiment
Loading required package: SummarizedExperiment
Loading required package: MatrixGenerics
Loading required package: matrixStats
Attaching package: 'MatrixGenerics'
The following objects are masked from 'package:matrixStats':
colAlls, colAnyNAs, colAnys, colAvgsPerRowSet, colCollapse,
colCounts, colCummaxs, colCummins, colCumprods, colCumsums,
colDiffs, colIQRDiffs, colIQRs, colLogSumExps, colMadDiffs,
colMads, colMaxs, colMeans2, colMedians, colMins, colOrderStats,
colProds, colQuantiles, colRanges, colRanks, colSdDiffs, colSds,
colSums2, colTabulates, colVarDiffs, colVars, colWeightedMads,
colWeightedMeans, colWeightedMedians, colWeightedSds,
colWeightedVars, rowAlls, rowAnyNAs, rowAnys, rowAvgsPerColSet,
rowCollapse, rowCounts, rowCummaxs, rowCummins, rowCumprods,
rowCumsums, rowDiffs, rowIQRDiffs, rowIQRs, rowLogSumExps,
rowMadDiffs, rowMads, rowMaxs, rowMeans2, rowMedians, rowMins,
rowOrderStats, rowProds, rowQuantiles, rowRanges, rowRanks,
rowSdDiffs, rowSds, rowSums2, rowTabulates, rowVarDiffs, rowVars,
rowWeightedMads, rowWeightedMeans, rowWeightedMedians,
rowWeightedSds, rowWeightedVars
Loading required package: GenomicRanges
Loading required package: stats4
Loading required package: BiocGenerics
Attaching package: 'BiocGenerics'
The following objects are masked from 'package:stats':
IQR, mad, sd, var, xtabs
The following objects are masked from 'package:base':
Filter, Find, Map, Position, Reduce, anyDuplicated, aperm, append,
as.data.frame, basename, cbind, colnames, dirname, do.call,
duplicated, eval, evalq, get, grep, grepl, intersect, is.unsorted,
lapply, mapply, match, mget, order, paste, pmax, pmax.int, pmin,
pmin.int, rank, rbind, rownames, sapply, setdiff, sort, table,
tapply, union, unique, unsplit, which.max, which.min
Loading required package: S4Vectors
Attaching package: 'S4Vectors'
The following object is masked from 'package:utils':
findMatches
The following objects are masked from 'package:base':
I, expand.grid, unname
Loading required package: IRanges
Loading required package: GenomeInfoDb
Loading required package: Biobase
Welcome to Bioconductor
Vignettes contain introductory material; view with
'browseVignettes()'. To cite Bioconductor, see
'citation("Biobase")', and for packages 'citation("pkgname")'.
Attaching package: 'Biobase'
The following object is masked from 'package:MatrixGenerics':
rowMedians
The following objects are masked from 'package:matrixStats':
anyMissing, rowMedians
Models: 0%| | 0/10 [00:00<?, ?it/s]
0%| | 0/100 [00:00<?, ?it/s][A
27%|██▋ | 27/100 [00:00<00:00, 264.46it/s][A
54%|█████▍ | 54/100 [00:00<00:00, 267.67it/s][A
81%|████████ | 81/100 [00:00<00:00, 260.24it/s][A
[A
Models: 10%|█ | 1/10 [00:00<00:03, 2.62it/s]
0%| | 0/100 [00:00<?, ?it/s][A
20%|██ | 20/100 [00:00<00:00, 193.01it/s][A
40%|████ | 40/100 [00:00<00:00, 180.83it/s][A
59%|█████▉ | 59/100 [00:00<00:00, 181.22it/s][A
83%|████████▎ | 83/100 [00:00<00:00, 200.28it/s][A
[A
Models: 20%|██ | 2/10 [00:00<00:03, 2.16it/s]
0%| | 0/100 [00:00<?, ?it/s][A
17%|█▋ | 17/100 [00:00<00:00, 164.25it/s][A
34%|███▍ | 34/100 [00:00<00:00, 165.32it/s][A
53%|█████▎ | 53/100 [00:00<00:00, 171.90it/s][A
74%|███████▍ | 74/100 [00:00<00:00, 185.72it/s][A
93%|█████████▎| 93/100 [00:00<00:00, 181.22it/s][A
[A
Models: 30%|███ | 3/10 [00:01<00:03, 1.96it/s]
0%| | 0/100 [00:00<?, ?it/s][A
19%|█▉ | 19/100 [00:00<00:00, 181.38it/s][A
38%|███▊ | 38/100 [00:00<00:00, 176.68it/s][A
56%|█████▌ | 56/100 [00:00<00:00, 172.18it/s][A
76%|███████▌ | 76/100 [00:00<00:00, 180.06it/s][A
97%|█████████▋| 97/100 [00:00<00:00, 187.91it/s][A
[A
Models: 40%|████ | 4/10 [00:02<00:03, 1.90it/s]
0%| | 0/100 [00:00<?, ?it/s][A
18%|█▊ | 18/100 [00:00<00:00, 175.01it/s][A
37%|███▋ | 37/100 [00:00<00:00, 180.95it/s][A
56%|█████▌ | 56/100 [00:00<00:00, 179.62it/s][A
81%|████████ | 81/100 [00:00<00:00, 202.91it/s][A
[A
Models: 50%|█████ | 5/10 [00:02<00:02, 1.89it/s]
0%| | 0/100 [00:00<?, ?it/s][A
19%|█▉ | 19/100 [00:00<00:00, 185.11it/s][A
42%|████▏ | 42/100 [00:00<00:00, 205.90it/s][A
63%|██████▎ | 63/100 [00:00<00:00, 197.19it/s][A
83%|████████▎ | 83/100 [00:00<00:00, 191.23it/s][A
[A
Models: 60%|██████ | 6/10 [00:03<00:02, 1.88it/s]
0%| | 0/100 [00:00<?, ?it/s][A
19%|█▉ | 19/100 [00:00<00:00, 189.67it/s][A
38%|███▊ | 38/100 [00:00<00:00, 177.36it/s][A
59%|█████▉ | 59/100 [00:00<00:00, 189.22it/s][A
79%|███████▉ | 79/100 [00:00<00:00, 190.65it/s][A
100%|██████████| 100/100 [00:00<00:00, 194.01it/s][A
[A
Models: 70%|███████ | 7/10 [00:03<00:01, 1.88it/s]
0%| | 0/100 [00:00<?, ?it/s][A
18%|█▊ | 18/100 [00:00<00:00, 172.70it/s][A
36%|███▌ | 36/100 [00:00<00:00, 174.65it/s][A
55%|█████▌ | 55/100 [00:00<00:00, 181.01it/s][A
74%|███████▍ | 74/100 [00:00<00:00, 181.57it/s][A
93%|█████████▎| 93/100 [00:00<00:00, 181.94it/s][A
[A
Models: 80%|████████ | 8/10 [00:04<00:01, 1.79it/s]
0%| | 0/100 [00:00<?, ?it/s][A
21%|██ | 21/100 [00:00<00:00, 204.16it/s][A
42%|████▏ | 42/100 [00:00<00:00, 201.67it/s][A
63%|██████▎ | 63/100 [00:00<00:00, 204.44it/s][A
85%|████████▌ | 85/100 [00:00<00:00, 208.36it/s][A
[A
Models: 90%|█████████ | 9/10 [00:04<00:00, 1.85it/s]
0%| | 0/100 [00:00<?, ?it/s][A
20%|██ | 20/100 [00:00<00:00, 197.41it/s][A
41%|████ | 41/100 [00:00<00:00, 196.99it/s][A
62%|██████▏ | 62/100 [00:00<00:00, 199.58it/s][A
84%|████████▍ | 84/100 [00:00<00:00, 204.52it/s][A
[A
Models: 100%|██████████| 10/10 [00:05<00:00, 1.90it/s]
Models: 100%|██████████| 10/10 [00:05<00:00, 1.91it/s]
Models: 0%| | 0/10 [00:00<?, ?it/s]
0%| | 0/100 [00:00<?, ?it/s][A
33%|███▎ | 33/100 [00:00<00:00, 319.52it/s][A
65%|██████▌ | 65/100 [00:00<00:00, 288.48it/s][A
95%|█████████▌| 95/100 [00:00<00:00, 292.83it/s][A
[A
Models: 10%|█ | 1/10 [00:00<00:03, 2.91it/s]
0%| | 0/100 [00:00<?, ?it/s][A
25%|██▌ | 25/100 [00:00<00:00, 246.65it/s][A
50%|█████ | 50/100 [00:00<00:00, 214.02it/s][A
73%|███████▎ | 73/100 [00:00<00:00, 218.82it/s][A
96%|█████████▌| 96/100 [00:00<00:00, 218.17it/s][A
[A
Models: 20%|██ | 2/10 [00:00<00:03, 2.44it/s]
0%| | 0/100 [00:00<?, ?it/s][A
28%|██▊ | 28/100 [00:00<00:00, 267.44it/s][A
55%|█████▌ | 55/100 [00:00<00:00, 226.89it/s][A
79%|███████▉ | 79/100 [00:00<00:00, 220.72it/s][A
[A
Models: 30%|███ | 3/10 [00:01<00:03, 2.32it/s]
0%| | 0/100 [00:00<?, ?it/s][A
25%|██▌ | 25/100 [00:00<00:00, 245.55it/s][A
50%|█████ | 50/100 [00:00<00:00, 229.41it/s][A
74%|███████▍ | 74/100 [00:00<00:00, 221.83it/s][A
97%|█████████▋| 97/100 [00:00<00:00, 217.67it/s][A
[A
Models: 40%|████ | 4/10 [00:01<00:02, 2.27it/s]
0%| | 0/100 [00:00<?, ?it/s][A
26%|██▌ | 26/100 [00:00<00:00, 253.57it/s][A
52%|█████▏ | 52/100 [00:00<00:00, 214.42it/s][A
74%|███████▍ | 74/100 [00:00<00:00, 198.76it/s][A
95%|█████████▌| 95/100 [00:00<00:00, 198.63it/s][A
[A
Models: 50%|█████ | 5/10 [00:02<00:02, 2.18it/s]
0%| | 0/100 [00:00<?, ?it/s][A
31%|███ | 31/100 [00:00<00:00, 305.51it/s][A
62%|██████▏ | 62/100 [00:00<00:00, 302.63it/s][A
93%|█████████▎| 93/100 [00:00<00:00, 299.77it/s][A
[A
Models: 60%|██████ | 6/10 [00:02<00:01, 2.41it/s]
0%| | 0/100 [00:00<?, ?it/s][A
35%|███▌ | 35/100 [00:00<00:00, 345.68it/s][A
70%|███████ | 70/100 [00:00<00:00, 240.40it/s][A
96%|█████████▌| 96/100 [00:00<00:00, 224.48it/s][A
[A
Models: 70%|███████ | 7/10 [00:02<00:01, 2.38it/s]
0%| | 0/100 [00:00<?, ?it/s][A
29%|██▉ | 29/100 [00:00<00:00, 280.29it/s][A
60%|██████ | 60/100 [00:00<00:00, 292.41it/s][A
90%|█████████ | 90/100 [00:00<00:00, 265.02it/s][A
[A
Models: 80%|████████ | 8/10 [00:03<00:00, 2.45it/s]
0%| | 0/100 [00:00<?, ?it/s][A
22%|██▏ | 22/100 [00:00<00:00, 218.14it/s][A
44%|████▍ | 44/100 [00:00<00:00, 213.65it/s][A
69%|██████▉ | 69/100 [00:00<00:00, 223.72it/s][A
[A
Models: 90%|█████████ | 9/10 [00:03<00:00, 2.44it/s]
0%| | 0/100 [00:00<?, ?it/s][A
23%|██▎ | 23/100 [00:00<00:00, 227.91it/s][A
46%|████▌ | 46/100 [00:00<00:00, 214.95it/s][A
71%|███████ | 71/100 [00:00<00:00, 227.63it/s][A
96%|█████████▌| 96/100 [00:00<00:00, 232.25it/s][A
[A
Models: 100%|██████████| 10/10 [00:04<00:00, 2.38it/s]
Models: 100%|██████████| 10/10 [00:04<00:00, 2.38it/s]
/Users/biocbuild/Library/Caches/org.R-project.R/R/basilisk/1.14.3/spatialDE/1.8.1/env/lib/python3.9/site-packages/pandas/core/internals/blocks.py:351: RuntimeWarning: invalid value encountered in log
result = func(self.values, **kwargs)
Models: 0%| | 0/10 [00:00<?, ?it/s]
0%| | 0/100 [00:00<?, ?it/s][A
43%|████▎ | 43/100 [00:00<00:00, 423.95it/s][A
95%|█████████▌| 95/100 [00:00<00:00, 478.44it/s][A
[A
Models: 10%|█ | 1/10 [00:00<00:01, 4.61it/s]
0%| | 0/100 [00:00<?, ?it/s][A
37%|███▋ | 37/100 [00:00<00:00, 356.29it/s][A
73%|███████▎ | 73/100 [00:00<00:00, 268.19it/s][A
[A
Models: 20%|██ | 2/10 [00:00<00:02, 3.40it/s]
0%| | 0/100 [00:00<?, ?it/s][A
23%|██▎ | 23/100 [00:00<00:00, 227.94it/s][A
48%|████▊ | 48/100 [00:00<00:00, 239.91it/s][A
72%|███████▏ | 72/100 [00:00<00:00, 221.82it/s][A
95%|█████████▌| 95/100 [00:00<00:00, 223.82it/s][A
[A
Models: 30%|███ | 3/10 [00:01<00:02, 2.74it/s]
0%| | 0/100 [00:00<?, ?it/s][A
24%|██▍ | 24/100 [00:00<00:00, 225.90it/s][A
55%|█████▌ | 55/100 [00:00<00:00, 269.52it/s][A
83%|████████▎ | 83/100 [00:00<00:00, 257.96it/s][A
[A
Models: 40%|████ | 4/10 [00:01<00:02, 2.63it/s]
0%| | 0/100 [00:00<?, ?it/s][A
21%|██ | 21/100 [00:00<00:00, 208.02it/s][A
44%|████▍ | 44/100 [00:00<00:00, 216.74it/s][A
66%|██████▌ | 66/100 [00:00<00:00, 200.52it/s][A
89%|████████▉ | 89/100 [00:00<00:00, 211.46it/s][A
[A
Models: 50%|█████ | 5/10 [00:01<00:02, 2.45it/s]
0%| | 0/100 [00:00<?, ?it/s][A
33%|███▎ | 33/100 [00:00<00:00, 326.04it/s][A
66%|██████▌ | 66/100 [00:00<00:00, 307.95it/s][A
97%|█████████▋| 97/100 [00:00<00:00, 306.11it/s][A
[A
Models: 60%|██████ | 6/10 [00:02<00:01, 2.63it/s]
0%| | 0/100 [00:00<?, ?it/s][A
33%|███▎ | 33/100 [00:00<00:00, 328.29it/s][A
66%|██████▌ | 66/100 [00:00<00:00, 240.66it/s][A
92%|█████████▏| 92/100 [00:00<00:00, 219.22it/s][A
[A
Models: 70%|███████ | 7/10 [00:02<00:01, 2.50it/s]
0%| | 0/100 [00:00<?, ?it/s][A
21%|██ | 21/100 [00:00<00:00, 205.61it/s][A
42%|████▏ | 42/100 [00:00<00:00, 203.55it/s][A
63%|██████▎ | 63/100 [00:00<00:00, 201.78it/s][A
84%|████████▍ | 84/100 [00:00<00:00, 200.74it/s][A
[A
Models: 80%|████████ | 8/10 [00:03<00:00, 2.31it/s]
0%| | 0/100 [00:00<?, ?it/s][A
24%|██▍ | 24/100 [00:00<00:00, 237.63it/s][A
48%|████▊ | 48/100 [00:00<00:00, 229.98it/s][A
72%|███████▏ | 72/100 [00:00<00:00, 211.55it/s][A
94%|█████████▍| 94/100 [00:00<00:00, 214.17it/s][A
[A
Models: 90%|█████████ | 9/10 [00:03<00:00, 2.26it/s]
0%| | 0/100 [00:00<?, ?it/s][A
25%|██▌ | 25/100 [00:00<00:00, 247.58it/s][A
56%|█████▌ | 56/100 [00:00<00:00, 282.79it/s][A
85%|████████▌ | 85/100 [00:00<00:00, 258.89it/s][A
[A
Models: 100%|██████████| 10/10 [00:03<00:00, 2.35it/s]
Models: 100%|██████████| 10/10 [00:03<00:00, 2.50it/s]
Models: 0%| | 0/10 [00:00<?, ?it/s]
0%| | 0/100 [00:00<?, ?it/s][A
34%|███▍ | 34/100 [00:00<00:00, 339.53it/s][A
68%|██████▊ | 68/100 [00:00<00:00, 293.09it/s][A
99%|█████████▉| 99/100 [00:00<00:00, 299.28it/s][A
[A
Models: 10%|█ | 1/10 [00:00<00:03, 2.99it/s]
0%| | 0/100 [00:00<?, ?it/s][A
26%|██▌ | 26/100 [00:00<00:00, 252.02it/s][A
52%|█████▏ | 52/100 [00:00<00:00, 256.54it/s][A
78%|███████▊ | 78/100 [00:00<00:00, 253.92it/s][A
[A
Models: 20%|██ | 2/10 [00:00<00:03, 2.63it/s]
0%| | 0/100 [00:00<?, ?it/s][A
24%|██▍ | 24/100 [00:00<00:00, 237.45it/s][A
48%|████▊ | 48/100 [00:00<00:00, 218.16it/s][A
71%|███████ | 71/100 [00:00<00:00, 220.47it/s][A
94%|█████████▍| 94/100 [00:00<00:00, 220.57it/s][A
[A
Models: 30%|███ | 3/10 [00:01<00:02, 2.41it/s]
0%| | 0/100 [00:00<?, ?it/s][A
24%|██▍ | 24/100 [00:00<00:00, 231.70it/s][A
48%|████▊ | 48/100 [00:00<00:00, 212.80it/s][A
73%|███████▎ | 73/100 [00:00<00:00, 224.43it/s][A
96%|█████████▌| 96/100 [00:00<00:00, 198.56it/s][A
[A
Models: 40%|████ | 4/10 [00:01<00:02, 2.26it/s]
0%| | 0/100 [00:00<?, ?it/s][A
25%|██▌ | 25/100 [00:00<00:00, 248.08it/s][A
50%|█████ | 50/100 [00:00<00:00, 213.58it/s][A
72%|███████▏ | 72/100 [00:00<00:00, 211.10it/s][A
94%|█████████▍| 94/100 [00:00<00:00, 206.00it/s][A
[A
Models: 50%|█████ | 5/10 [00:02<00:02, 2.19it/s]
0%| | 0/100 [00:00<?, ?it/s][A
22%|██▏ | 22/100 [00:00<00:00, 213.06it/s][A
44%|████▍ | 44/100 [00:00<00:00, 216.23it/s][A
66%|██████▌ | 66/100 [00:00<00:00, 212.34it/s][A
88%|████████▊ | 88/100 [00:00<00:00, 198.80it/s][A
[A
Models: 60%|██████ | 6/10 [00:02<00:01, 2.13it/s]
0%| | 0/100 [00:00<?, ?it/s][A
23%|██▎ | 23/100 [00:00<00:00, 221.20it/s][A
46%|████▌ | 46/100 [00:00<00:00, 209.02it/s][A
67%|██████▋ | 67/100 [00:00<00:00, 195.05it/s][A
87%|████████▋ | 87/100 [00:00<00:00, 188.29it/s][A
[A
Models: 70%|███████ | 7/10 [00:03<00:01, 2.08it/s]
0%| | 0/100 [00:00<?, ?it/s][A
22%|██▏ | 22/100 [00:00<00:00, 213.94it/s][A
45%|████▌ | 45/100 [00:00<00:00, 218.93it/s][A
70%|███████ | 70/100 [00:00<00:00, 231.15it/s][A
94%|█████████▍| 94/100 [00:00<00:00, 222.30it/s][A
[A
Models: 80%|████████ | 8/10 [00:03<00:00, 2.12it/s]
0%| | 0/100 [00:00<?, ?it/s][A
36%|███▌ | 36/100 [00:00<00:00, 349.65it/s][A
71%|███████ | 71/100 [00:00<00:00, 280.13it/s][A
100%|██████████| 100/100 [00:00<00:00, 256.89it/s][A
[A
Models: 90%|█████████ | 9/10 [00:03<00:00, 2.26it/s]
0%| | 0/100 [00:00<?, ?it/s][A
23%|██▎ | 23/100 [00:00<00:00, 229.62it/s][A
46%|████▌ | 46/100 [00:00<00:00, 211.32it/s][A
69%|██████▉ | 69/100 [00:00<00:00, 218.90it/s][A
91%|█████████ | 91/100 [00:00<00:00, 213.09it/s][A
[A
Models: 100%|██████████| 10/10 [00:04<00:00, 2.22it/s]
Models: 100%|██████████| 10/10 [00:04<00:00, 2.24it/s]
Models: 0%| | 0/10 [00:00<?, ?it/s]
0%| | 0/100 [00:00<?, ?it/s][A
34%|███▍ | 34/100 [00:00<00:00, 338.84it/s][A
76%|███████▌ | 76/100 [00:00<00:00, 385.93it/s][A
[A
Models: 10%|█ | 1/10 [00:00<00:02, 3.67it/s]
0%| | 0/100 [00:00<?, ?it/s][A
25%|██▌ | 25/100 [00:00<00:00, 240.53it/s][A
51%|█████ | 51/100 [00:00<00:00, 250.00it/s][A
85%|████████▌ | 85/100 [00:00<00:00, 287.64it/s][A
[A
Models: 20%|██ | 2/10 [00:00<00:02, 2.99it/s]
0%| | 0/100 [00:00<?, ?it/s][A
23%|██▎ | 23/100 [00:00<00:00, 223.20it/s][A
46%|████▌ | 46/100 [00:00<00:00, 210.39it/s][A
68%|██████▊ | 68/100 [00:00<00:00, 207.88it/s][A
89%|████████▉ | 89/100 [00:00<00:00, 197.12it/s][A
[A
Models: 30%|███ | 3/10 [00:01<00:02, 2.46it/s]
0%| | 0/100 [00:00<?, ?it/s][A
23%|██▎ | 23/100 [00:00<00:00, 226.44it/s][A
46%|████▌ | 46/100 [00:00<00:00, 219.35it/s][A
68%|██████▊ | 68/100 [00:00<00:00, 208.43it/s][A
93%|█████████▎| 93/100 [00:00<00:00, 221.97it/s][A
[A
Models: 40%|████ | 4/10 [00:01<00:02, 2.37it/s]
0%| | 0/100 [00:00<?, ?it/s][A
27%|██▋ | 27/100 [00:00<00:00, 261.26it/s][A
54%|█████▍ | 54/100 [00:00<00:00, 234.23it/s][A
79%|███████▉ | 79/100 [00:00<00:00, 237.73it/s][A
[A
Models: 50%|█████ | 5/10 [00:01<00:02, 2.42it/s]
0%| | 0/100 [00:00<?, ?it/s][A
27%|██▋ | 27/100 [00:00<00:00, 256.23it/s][A
53%|█████▎ | 53/100 [00:00<00:00, 222.36it/s][A
76%|███████▌ | 76/100 [00:00<00:00, 208.83it/s][A
98%|█████████▊| 98/100 [00:00<00:00, 207.77it/s][A
[A
Models: 60%|██████ | 6/10 [00:02<00:01, 2.31it/s]
0%| | 0/100 [00:00<?, ?it/s][A
33%|███▎ | 33/100 [00:00<00:00, 325.93it/s][A
66%|██████▌ | 66/100 [00:00<00:00, 319.93it/s][A
99%|█████████▉| 99/100 [00:00<00:00, 318.83it/s][A
[A
Models: 70%|███████ | 7/10 [00:02<00:01, 2.54it/s]
0%| | 0/100 [00:00<?, ?it/s][A
35%|███▌ | 35/100 [00:00<00:00, 339.91it/s][A
69%|██████▉ | 69/100 [00:00<00:00, 315.61it/s][A
[A
Models: 80%|████████ | 8/10 [00:03<00:00, 2.58it/s]
0%| | 0/100 [00:00<?, ?it/s][A
23%|██▎ | 23/100 [00:00<00:00, 225.08it/s][A
46%|████▌ | 46/100 [00:00<00:00, 212.11it/s][A
68%|██████▊ | 68/100 [00:00<00:00, 202.66it/s][A
89%|████████▉ | 89/100 [00:00<00:00, 198.45it/s][A
[A
Models: 90%|█████████ | 9/10 [00:03<00:00, 2.39it/s]
0%| | 0/100 [00:00<?, ?it/s][A
36%|███▌ | 36/100 [00:00<00:00, 352.46it/s][A
73%|███████▎ | 73/100 [00:00<00:00, 360.02it/s][A
[A
Models: 100%|██████████| 10/10 [00:03<00:00, 2.60it/s]
Models: 100%|██████████| 10/10 [00:03<00:00, 2.54it/s]
[ FAIL 0 | WARN 0 | SKIP 0 | PASS 29 ]
>
> proc.time()
user system elapsed
71.253 5.006 67.863
/Users/biocbuild/Library/Caches/org.R-project.R/R/basilisk/1.14.3/spatialDE/1.8.1/env/lib/python3.9/multiprocessing/resource_tracker.py:216: UserWarning: resource_tracker: There appear to be 1 leaked semaphore objects to clean up at shutdown
warnings.warn('resource_tracker: There appear to be %d '
spatialDE.Rcheck/spatialDE-Ex.timings
| name | user | system | elapsed | |
| FSV_sig | 8.442 | 2.887 | 11.944 | |
| mockSVG | 0.324 | 0.028 | 0.356 | |
| modelSearch | 2.742 | 0.469 | 1.947 | |
| model_search | 2.384 | 0.471 | 1.558 | |
| multiGenePlots | 2.358 | 0.294 | 1.923 | |
| regress_out | 0.135 | 0.005 | 0.141 | |
| run | 1.114 | 0.160 | 0.766 | |
| spatialDE | 1.406 | 0.209 | 0.972 | |
| spatialPatterns | 2.347 | 0.310 | 1.467 | |
| spatial_patterns | 22.413 | 3.868 | 13.945 | |
| stabilize | 0.239 | 0.029 | 0.147 | |