| Back to Multiple platform build/check report for BioC 3.18: simplified long |
|
This page was generated on 2024-04-17 11:36:24 -0400 (Wed, 17 Apr 2024).
| Hostname | OS | Arch (*) | R version | Installed pkgs |
|---|---|---|---|---|
| nebbiolo2 | Linux (Ubuntu 22.04.3 LTS) | x86_64 | 4.3.3 (2024-02-29) -- "Angel Food Cake" | 4676 |
| palomino4 | Windows Server 2022 Datacenter | x64 | 4.3.3 (2024-02-29 ucrt) -- "Angel Food Cake" | 4414 |
| merida1 | macOS 12.7.1 Monterey | x86_64 | 4.3.3 (2024-02-29) -- "Angel Food Cake" | 4437 |
| Click on any hostname to see more info about the system (e.g. compilers) (*) as reported by 'uname -p', except on Windows and Mac OS X | ||||
| Package 2001/2266 | Hostname | OS / Arch | INSTALL | BUILD | CHECK | BUILD BIN | ||||||||
| sparrow 1.8.0 (landing page) Steve Lianoglou
| nebbiolo2 | Linux (Ubuntu 22.04.3 LTS) / x86_64 | OK | OK | OK | |||||||||
| palomino4 | Windows Server 2022 Datacenter / x64 | OK | OK | OK | OK | |||||||||
| merida1 | macOS 12.7.1 Monterey / x86_64 | OK | OK | OK | OK | |||||||||
| kjohnson1 | macOS 13.6.1 Ventura / arm64 | see weekly results here | ||||||||||||
|
To the developers/maintainers of the sparrow package: - Allow up to 24 hours (and sometimes 48 hours) for your latest push to git@git.bioconductor.org:packages/sparrow.git to reflect on this report. See Troubleshooting Build Report for more information. - Use the following Renviron settings to reproduce errors and warnings. - If 'R CMD check' started to fail recently on the Linux builder(s) over a missing dependency, add the missing dependency to 'Suggests:' in your DESCRIPTION file. See Renviron.bioc for more information. |
| Package: sparrow |
| Version: 1.8.0 |
| Command: /home/biocbuild/bbs-3.18-bioc/R/bin/R CMD check --install=check:sparrow.install-out.txt --library=/home/biocbuild/bbs-3.18-bioc/R/site-library --timings sparrow_1.8.0.tar.gz |
| StartedAt: 2024-04-16 04:10:15 -0400 (Tue, 16 Apr 2024) |
| EndedAt: 2024-04-16 04:24:08 -0400 (Tue, 16 Apr 2024) |
| EllapsedTime: 832.3 seconds |
| RetCode: 0 |
| Status: OK |
| CheckDir: sparrow.Rcheck |
| Warnings: 0 |
##############################################################################
##############################################################################
###
### Running command:
###
### /home/biocbuild/bbs-3.18-bioc/R/bin/R CMD check --install=check:sparrow.install-out.txt --library=/home/biocbuild/bbs-3.18-bioc/R/site-library --timings sparrow_1.8.0.tar.gz
###
##############################################################################
##############################################################################
* using log directory ‘/home/biocbuild/bbs-3.18-bioc/meat/sparrow.Rcheck’
* using R version 4.3.3 (2024-02-29)
* using platform: x86_64-pc-linux-gnu (64-bit)
* R was compiled by
gcc (Ubuntu 11.4.0-1ubuntu1~22.04) 11.4.0
GNU Fortran (Ubuntu 11.4.0-1ubuntu1~22.04) 11.4.0
* running under: Ubuntu 22.04.4 LTS
* using session charset: UTF-8
* checking for file ‘sparrow/DESCRIPTION’ ... OK
* checking extension type ... Package
* this is package ‘sparrow’ version ‘1.8.0’
* package encoding: UTF-8
* checking package namespace information ... OK
* checking package dependencies ... OK
* checking if this is a source package ... OK
* checking if there is a namespace ... OK
* checking for hidden files and directories ... OK
* checking for portable file names ... OK
* checking for sufficient/correct file permissions ... OK
* checking whether package ‘sparrow’ can be installed ... OK
* checking installed package size ... OK
* checking package directory ... OK
* checking ‘build’ directory ... OK
* checking DESCRIPTION meta-information ... OK
* checking top-level files ... OK
* checking for left-over files ... OK
* checking index information ... OK
* checking package subdirectories ... OK
* checking R files for non-ASCII characters ... OK
* checking R files for syntax errors ... OK
* checking whether the package can be loaded ... OK
* checking whether the package can be loaded with stated dependencies ... OK
* checking whether the package can be unloaded cleanly ... OK
* checking whether the namespace can be loaded with stated dependencies ... OK
* checking whether the namespace can be unloaded cleanly ... OK
* checking loading without being on the library search path ... OK
* checking startup messages can be suppressed ... OK
* checking dependencies in R code ... OK
* checking S3 generic/method consistency ... OK
* checking replacement functions ... OK
* checking foreign function calls ... OK
* checking R code for possible problems ... NOTE
geneSetsStats: no visible binding for global variable ‘direction’
Undefined global functions or variables:
direction
* checking Rd files ... OK
* checking Rd metadata ... OK
* checking Rd cross-references ... OK
* checking for missing documentation entries ... OK
* checking for code/documentation mismatches ... OK
* checking Rd \usage sections ... OK
* checking Rd contents ... OK
* checking for unstated dependencies in examples ... OK
* checking line endings in Makefiles ... OK
* checking for GNU extensions in Makefiles ... OK
* checking include directives in Makefiles ... OK
* checking files in ‘vignettes’ ... OK
* checking examples ... OK
Examples with CPU (user + system) or elapsed time > 5s
user system elapsed
goseq 8.326 0.267 7.708
seas 5.200 0.096 4.358
geneSetsStats 5.132 0.109 3.511
SparrowResult-utilities 4.970 0.136 4.217
* checking for unstated dependencies in ‘tests’ ... OK
* checking tests ...
Running ‘testthat.R’
OK
* checking for unstated dependencies in vignettes ... OK
* checking package vignettes in ‘inst/doc’ ... OK
* checking running R code from vignettes ...
‘sparrow.Rmd’ using ‘UTF-8’... OK
OK
* checking re-building of vignette outputs ... OK
* checking PDF version of manual ... OK
* DONE
Status: 1 NOTE
See
‘/home/biocbuild/bbs-3.18-bioc/meat/sparrow.Rcheck/00check.log’
for details.
sparrow.Rcheck/00install.out
############################################################################## ############################################################################## ### ### Running command: ### ### /home/biocbuild/bbs-3.18-bioc/R/bin/R CMD INSTALL sparrow ### ############################################################################## ############################################################################## * installing to library ‘/home/biocbuild/bbs-3.18-bioc/R/site-library’ * installing *source* package ‘sparrow’ ... ** using staged installation ** R ** inst ** byte-compile and prepare package for lazy loading ** help *** installing help indices *** copying figures ** building package indices ** installing vignettes ** testing if installed package can be loaded from temporary location ** testing if installed package can be loaded from final location ** testing if installed package keeps a record of temporary installation path * DONE (sparrow)
sparrow.Rcheck/tests/testthat.Rout
R version 4.3.3 (2024-02-29) -- "Angel Food Cake"
Copyright (C) 2024 The R Foundation for Statistical Computing
Platform: x86_64-pc-linux-gnu (64-bit)
R is free software and comes with ABSOLUTELY NO WARRANTY.
You are welcome to redistribute it under certain conditions.
Type 'license()' or 'licence()' for distribution details.
R is a collaborative project with many contributors.
Type 'contributors()' for more information and
'citation()' on how to cite R or R packages in publications.
Type 'demo()' for some demos, 'help()' for on-line help, or
'help.start()' for an HTML browser interface to help.
Type 'q()' to quit R.
> library("sparrow")
> library("testthat")
> library("data.table")
> library("dplyr")
Attaching package: 'dplyr'
The following objects are masked from 'package:data.table':
between, first, last
The following object is masked from 'package:testthat':
matches
The following object is masked from 'package:sparrow':
combine
The following objects are masked from 'package:stats':
filter, lag
The following objects are masked from 'package:base':
intersect, setdiff, setequal, union
>
> test_check("sparrow")
Attaching package: 'magrittr'
The following objects are masked from 'package:testthat':
equals, is_less_than, not
[1] "Calculating ranks..."
[1] "Calculating absolute values from ranks..."
[1] "Normalizing..."
[1] "Calculating ranks..."
[1] "Calculating absolute values from ranks..."
[1] "Normalizing..."
[1] "Calculating ranks..."
[1] "Calculating absolute values from ranks..."
[1] "Normalizing..."
[1] "Calculating ranks..."
[1] "Calculating absolute values from ranks..."
[1] "Normalizing..."
[1] "Calculating ranks..."
[1] "Calculating absolute values from ranks..."
[1] "Normalizing..."
[1] "Calculating ranks..."
[1] "Calculating absolute values from ranks..."
[1] "Normalizing..."
[1] "Calculating ranks..."
[1] "Calculating absolute values from ranks..."
[1] "Normalizing..."
[ FAIL 0 | WARN 11 | SKIP 1 | PASS 1503 ]
══ Skipped tests (1) ═══════════════════════════════════════════════════════════
• empty test (1): 'test-MultiGSEAResult.R:3:1'
[ FAIL 0 | WARN 11 | SKIP 1 | PASS 1503 ]
>
> ## Remove temporary files that were generated
> test.dir <- system.file('tests', package = "sparrow")
> pdfs <- dir(test.dir, "\\.pdf$", full.names=TRUE)
> if (length(pdfs)) {
+ unlink(pdfs)
+ }
>
>
> proc.time()
user system elapsed
325.086 17.137 295.428
sparrow.Rcheck/sparrow-Ex.timings
| name | user | system | elapsed | |
| GeneSetDb-class | 0.089 | 0.000 | 0.072 | |
| SparrowResult-utilities | 4.970 | 0.136 | 4.217 | |
| addGeneSetMetadata | 0.087 | 0.000 | 0.061 | |
| annotateGeneSetMembership | 4.500 | 0.057 | 3.677 | |
| calculateIndividualLogFC | 2.106 | 0.140 | 2.246 | |
| collectionMetadata | 0.096 | 0.000 | 0.070 | |
| combine-GeneSetDb-GeneSetDb-method | 0.126 | 0.008 | 0.086 | |
| combine-SparrowResult-SparrowResult-method | 0.113 | 0.008 | 0.116 | |
| conform | 0.419 | 0.008 | 0.402 | |
| conversion | 0.676 | 0.012 | 0.570 | |
| convertIdentifiers | 0.258 | 0.000 | 0.160 | |
| corplot | 0.09 | 0.00 | 0.09 | |
| eigenWeightedMean | 2.456 | 0.064 | 2.472 | |
| examples | 0.283 | 0.012 | 0.295 | |
| failWith | 0.000 | 0.000 | 0.001 | |
| featureIdMap | 0.421 | 0.012 | 0.407 | |
| featureIds | 0.458 | 0.000 | 0.421 | |
| geneSet | 0.106 | 0.004 | 0.076 | |
| geneSetCollectionURLfunction | 0.080 | 0.000 | 0.054 | |
| geneSetSummaryByGenes | 4.574 | 0.158 | 3.720 | |
| geneSets | 0.080 | 0.000 | 0.053 | |
| geneSetsStats | 5.132 | 0.109 | 3.511 | |
| getKeggCollection | 0 | 0 | 0 | |
| getMSigCollection | 0 | 0 | 0 | |
| getPantherCollection | 0.001 | 0.000 | 0.000 | |
| getReactomeCollection | 0.000 | 0.000 | 0.001 | |
| goseq | 8.326 | 0.267 | 7.708 | |
| gsdScore | 0.910 | 0.032 | 0.890 | |
| gskey | 0.002 | 0.000 | 0.002 | |
| hasGeneSet | 0.078 | 0.000 | 0.053 | |
| hasGeneSetCollection | 0.075 | 0.000 | 0.053 | |
| incidenceMatrix | 1.046 | 0.008 | 1.023 | |
| iplot | 1.122 | 0.036 | 1.091 | |
| is.active | 0.371 | 0.044 | 0.379 | |
| logFC | 3.527 | 0.036 | 2.686 | |
| mgheatmap | 0 | 0 | 0 | |
| mgheatmap2 | 0 | 0 | 0 | |
| msg | 0 | 0 | 0 | |
| ora | 0.248 | 0.004 | 0.247 | |
| p.matrix | 0.076 | 0.004 | 0.080 | |
| randomGeneSetDb | 1.084 | 0.028 | 1.109 | |
| renameCollections | 0.100 | 0.000 | 0.069 | |
| renameRows | 0.333 | 0.016 | 0.347 | |
| results | 0.087 | 0.004 | 0.091 | |
| scale_rows | 0.003 | 0.000 | 0.004 | |
| scoreSingleSamples | 4.298 | 0.176 | 4.359 | |
| seas | 5.200 | 0.096 | 4.358 | |
| sparrow_methods | 0.000 | 0.003 | 0.003 | |
| species_info | 0.001 | 0.005 | 0.005 | |
| subset.GeneSetDb | 0.114 | 0.000 | 0.082 | |
| subsetByFeatures | 0.120 | 0.000 | 0.075 | |
| validateInputs | 0.168 | 0.008 | 0.147 | |
| volcanoPlot | 1.770 | 0.048 | 1.817 | |
| volcanoStatsTable | 0.064 | 0.004 | 0.067 | |
| zScore | 0.787 | 0.012 | 0.748 | |